BEGIN:VCALENDAR
VERSION:2.0
PRODID:-// - ECPv6.3.3.1//NONSGML v1.0//EN
CALSCALE:GREGORIAN
METHOD:PUBLISH
X-ORIGINAL-URL:https://www.bblutheran.com
X-WR-CALDESC:Events for 
REFRESH-INTERVAL;VALUE=DURATION:PT1H
X-Robots-Tag:noindex
X-PUBLISHED-TTL:PT1H
BEGIN:VTIMEZONE
TZID:America/New_York
BEGIN:DAYLIGHT
TZOFFSETFROM:-0500
TZOFFSETTO:-0400
TZNAME:EDT
DTSTART:20240310T070000
END:DAYLIGHT
BEGIN:STANDARD
TZOFFSETFROM:-0400
TZOFFSETTO:-0500
TZNAME:EST
DTSTART:20241103T060000
END:STANDARD
END:VTIMEZONE
BEGIN:VEVENT
DTSTART;TZID=America/New_York:20241008T080000
DTEND;TZID=America/New_York:20241008T170000
DTSTAMP:20260419T193709
CREATED:20241003T143300Z
LAST-MODIFIED:20241003T143300Z
UID:10024727-1728374400-1728406800@www.bblutheran.com
SUMMARY:Retreat Planning Meeting at Hope
DESCRIPTION:
URL:https://www.bblutheran.com/event/retreat-planning-meeting-at-hope-2/
LOCATION:Hope Lutheran Church\, 45 Maple Street\, Beaver\, PA\, 15009\, United States
GEO:40.7051165;-80.4029977
X-APPLE-STRUCTURED-LOCATION;VALUE=URI;X-ADDRESS=Hope Lutheran Church 45 Maple Street Beaver PA 15009 United States;X-APPLE-RADIUS=500;X-TITLE=45 Maple Street:geo:-80.4029977,40.7051165
END:VEVENT
BEGIN:VEVENT
DTSTART;TZID=America/New_York:20241008T120000
DTEND;TZID=America/New_York:20241008T140000
DTSTAMP:20260419T193709
CREATED:20241003T142933Z
LAST-MODIFIED:20241003T142933Z
UID:10024724-1728388800-1728396000@www.bblutheran.com
SUMMARY:Circle of Hope meeting at Hope
DESCRIPTION:Circle with meet at noon\, hostess- Tracy\, Becky is the Leader. Outreach support to Harvest Home -Salvation Army.
URL:https://www.bblutheran.com/event/circle-of-hope-meeting-at-hope/
LOCATION:Hope Lutheran Church\, 45 Maple Street\, Beaver\, PA\, 15009\, United States
GEO:40.7051165;-80.4029977
X-APPLE-STRUCTURED-LOCATION;VALUE=URI;X-ADDRESS=Hope Lutheran Church 45 Maple Street Beaver PA 15009 United States;X-APPLE-RADIUS=500;X-TITLE=45 Maple Street:geo:-80.4029977,40.7051165
END:VEVENT
END:VCALENDAR