BEGIN:VCALENDAR
VERSION:2.0
PRODID:-// - ECPv6.3.3.1//NONSGML v1.0//EN
CALSCALE:GREGORIAN
METHOD:PUBLISH
X-ORIGINAL-URL:https://www.bblutheran.com
X-WR-CALDESC:Events for 
REFRESH-INTERVAL;VALUE=DURATION:PT1H
X-Robots-Tag:noindex
X-PUBLISHED-TTL:PT1H
BEGIN:VTIMEZONE
TZID:America/New_York
BEGIN:DAYLIGHT
TZOFFSETFROM:-0500
TZOFFSETTO:-0400
TZNAME:EDT
DTSTART:20240310T070000
END:DAYLIGHT
BEGIN:STANDARD
TZOFFSETFROM:-0400
TZOFFSETTO:-0500
TZNAME:EST
DTSTART:20241103T060000
END:STANDARD
TZID:UTC
BEGIN:STANDARD
TZOFFSETFROM:+0000
TZOFFSETTO:+0000
TZNAME:UTC
DTSTART:20240101T000000
END:STANDARD
END:VTIMEZONE
BEGIN:VEVENT
DTSTART;TZID=America/New_York:20241103T080000
DTEND;TZID=America/New_York:20241103T170000
DTSTAMP:20260420T013834
CREATED:20241030T152920Z
LAST-MODIFIED:20241030T152920Z
UID:10025989-1730620800-1730653200@www.bblutheran.com
SUMMARY:All Saints Sunday
DESCRIPTION:We will remember those who have passed since last All Saints and others that have passed in previous years.
URL:https://www.bblutheran.com/event/all-saints-sunday/
LOCATION:PA
END:VEVENT
BEGIN:VEVENT
DTSTART;TZID=UTC:20241103T091500
DTEND;TZID=UTC:20241103T101500
DTSTAMP:20260420T013834
CREATED:20230201T202448Z
LAST-MODIFIED:20230201T202448Z
UID:10000236-1730625300-1730628900@www.bblutheran.com
SUMMARY:Worship at Holy Trinity @ 9:15 a.m.
DESCRIPTION:
URL:https://www.bblutheran.com/event/worship-at-holy-trinity-915-a-m/2024-11-03/
LOCATION:Holy Trinity Church\, 1098 3rd Street\, Beaver\, PA\, 15009\, United States
GEO:40.6930069;-80.3112194
X-APPLE-STRUCTURED-LOCATION;VALUE=URI;X-ADDRESS=Holy Trinity Church 1098 3rd Street Beaver PA 15009 United States;X-APPLE-RADIUS=500;X-TITLE=1098 3rd Street:geo:-80.3112194,40.6930069
END:VEVENT
BEGIN:VEVENT
DTSTART;TZID=UTC:20241103T110000
DTEND;TZID=UTC:20241103T120000
DTSTAMP:20260420T013834
CREATED:20230201T202100Z
LAST-MODIFIED:20230201T202618Z
UID:10000132-1730631600-1730635200@www.bblutheran.com
SUMMARY:Worship at Hope 11:00 a.m.
DESCRIPTION:
URL:https://www.bblutheran.com/event/worship-at-1100-a-m/2024-11-03/
LOCATION:Hope Lutheran Church\, 45 Maple Street\, Beaver\, PA\, 15009\, United States
GEO:40.7051165;-80.4029977
X-APPLE-STRUCTURED-LOCATION;VALUE=URI;X-ADDRESS=Hope Lutheran Church 45 Maple Street Beaver PA 15009 United States;X-APPLE-RADIUS=500;X-TITLE=45 Maple Street:geo:-80.4029977,40.7051165
END:VEVENT
BEGIN:VEVENT
DTSTART;TZID=UTC:20241103T110000
DTEND;TZID=UTC:20241103T120000
DTSTAMP:20260420T013834
CREATED:20230330T225552Z
LAST-MODIFIED:20230330T225552Z
UID:10000535-1730631600-1730635200@www.bblutheran.com
SUMMARY:Food Pantry Collection
DESCRIPTION:Collection for the the food panty in Darlington on the second of each month. The pantry is run by First Presbyterial Church in Darlington.
URL:https://www.bblutheran.com/event/food-pantry-collection/2024-11-03/
LOCATION:Hope Lutheran Church\, 45 Maple Street\, Beaver\, PA\, 15009\, United States
GEO:40.7051165;-80.4029977
X-APPLE-STRUCTURED-LOCATION;VALUE=URI;X-ADDRESS=Hope Lutheran Church 45 Maple Street Beaver PA 15009 United States;X-APPLE-RADIUS=500;X-TITLE=45 Maple Street:geo:-80.4029977,40.7051165
END:VEVENT
BEGIN:VEVENT
DTSTART;TZID=America/New_York:20241103T110000
DTEND;TZID=America/New_York:20241103T120000
DTSTAMP:20260420T013834
CREATED:20241030T155821Z
LAST-MODIFIED:20241030T155821Z
UID:10025994-1730631600-1730635200@www.bblutheran.com
SUMMARY:Cornerstone Men's Shelter Collection at Hope
DESCRIPTION:The first Sunday of each we collect snacks\, lunch\, and breakfast items. Please place in the blue bin in the Narthex. \n  \n 
URL:https://www.bblutheran.com/event/cornerstone-mens-shelter-collection-at-hope-2/
LOCATION:Hope Lutheran Church\, 45 Maple Street\, Beaver\, PA\, 15009\, United States
GEO:40.7051165;-80.4029977
X-APPLE-STRUCTURED-LOCATION;VALUE=URI;X-ADDRESS=Hope Lutheran Church 45 Maple Street Beaver PA 15009 United States;X-APPLE-RADIUS=500;X-TITLE=45 Maple Street:geo:-80.4029977,40.7051165
END:VEVENT
END:VCALENDAR