BEGIN:VCALENDAR
VERSION:2.0
PRODID:-// - ECPv6.3.3.1//NONSGML v1.0//EN
CALSCALE:GREGORIAN
METHOD:PUBLISH
X-ORIGINAL-URL:https://www.bblutheran.com
X-WR-CALDESC:Events for 
REFRESH-INTERVAL;VALUE=DURATION:PT1H
X-Robots-Tag:noindex
X-PUBLISHED-TTL:PT1H
BEGIN:VTIMEZONE
TZID:America/New_York
BEGIN:DAYLIGHT
TZOFFSETFROM:-0500
TZOFFSETTO:-0400
TZNAME:EDT
DTSTART:20250309T070000
END:DAYLIGHT
BEGIN:STANDARD
TZOFFSETFROM:-0400
TZOFFSETTO:-0500
TZNAME:EST
DTSTART:20251102T060000
END:STANDARD
TZID:UTC
BEGIN:STANDARD
TZOFFSETFROM:+0000
TZOFFSETTO:+0000
TZNAME:UTC
DTSTART:20250101T000000
END:STANDARD
END:VTIMEZONE
BEGIN:VEVENT
DTSTART;TZID=America/New_York:20251204T080000
DTEND;TZID=America/New_York:20251204T170000
DTSTAMP:20260421T013446
CREATED:20251204T155032Z
LAST-MODIFIED:20251204T155032Z
UID:10038320-1764835200-1764867600@www.bblutheran.com
SUMMARY:Last day to donate for Christmas certificates.
DESCRIPTION:
URL:https://www.bblutheran.com/event/last-day-to-donate-for-christmas-certificates/
LOCATION:Hope Lutheran Church\, 45 Maple Street\, Beaver\, PA\, 15009\, United States
GEO:40.7051165;-80.4029977
X-APPLE-STRUCTURED-LOCATION;VALUE=URI;X-ADDRESS=Hope Lutheran Church 45 Maple Street Beaver PA 15009 United States;X-APPLE-RADIUS=500;X-TITLE=45 Maple Street:geo:-80.4029977,40.7051165
END:VEVENT
BEGIN:VEVENT
DTSTART;TZID=America/New_York:20251203T180000
DTEND;TZID=America/New_York:20251203T203000
DTSTAMP:20260421T013446
CREATED:20251204T153419Z
LAST-MODIFIED:20251204T153419Z
UID:10038306-1764784800-1764793800@www.bblutheran.com
SUMMARY:Advent Wednesday Service and dinner
DESCRIPTION:Holy Trinity will begin services on Wednesday\, December 3rd at 6:00 p.m. with dinner\, and 7:00 p.m. Holden Evening Prayer Worship Service.
URL:https://www.bblutheran.com/event/advent-wednesday-service-and-dinner/
LOCATION:Holy Trinity Church\, 1098 3rd Street\, Beaver\, PA\, 15009\, United States
GEO:40.6930069;-80.3112194
X-APPLE-STRUCTURED-LOCATION;VALUE=URI;X-ADDRESS=Holy Trinity Church 1098 3rd Street Beaver PA 15009 United States;X-APPLE-RADIUS=500;X-TITLE=1098 3rd Street:geo:-80.3112194,40.6930069
END:VEVENT
BEGIN:VEVENT
DTSTART;TZID=UTC:20251201T110000
DTEND;TZID=UTC:20251201T133000
DTSTAMP:20260421T013446
CREATED:20230427T201158Z
LAST-MODIFIED:20230427T201158Z
UID:10000631-1764586800-1764595800@www.bblutheran.com
SUMMARY:Bible Study at Holy Trinity
DESCRIPTION:All are welcome to join in a Bible study being held at Holy Trinity at 11:00 a.m. in the Fellowship hall.
URL:https://www.bblutheran.com/event/bible-study-at-holy-trinity-2-2/2025-12-01/
LOCATION:Holy Trinity Church\, 1098 3rd Street\, Beaver\, PA\, 15009\, United States
GEO:40.6930069;-80.3112194
X-APPLE-STRUCTURED-LOCATION;VALUE=URI;X-ADDRESS=Holy Trinity Church 1098 3rd Street Beaver PA 15009 United States;X-APPLE-RADIUS=500;X-TITLE=1098 3rd Street:geo:-80.3112194,40.6930069
END:VEVENT
BEGIN:VEVENT
DTSTART;TZID=America/New_York:20251130T110000
DTEND;TZID=America/New_York:20251130T120000
DTSTAMP:20260421T013446
CREATED:20250613T002820Z
LAST-MODIFIED:20250613T002820Z
UID:10036436-1764500400-1764504000@www.bblutheran.com
SUMMARY:Hope Worship 11:00 a.m.
DESCRIPTION:
URL:https://www.bblutheran.com/event/hope-worship-1100-a-m/2025-11-30/
LOCATION:Hope Lutheran Church\, 45 Maple Street\, Beaver\, PA\, 15009\, United States
GEO:40.7051165;-80.4029977
X-APPLE-STRUCTURED-LOCATION;VALUE=URI;X-ADDRESS=Hope Lutheran Church 45 Maple Street Beaver PA 15009 United States;X-APPLE-RADIUS=500;X-TITLE=45 Maple Street:geo:-80.4029977,40.7051165
END:VEVENT
BEGIN:VEVENT
DTSTART;TZID=America/New_York:20251130T100000
DTEND;TZID=America/New_York:20251130T110000
DTSTAMP:20260421T013446
CREATED:20251105T152611Z
LAST-MODIFIED:20251105T152611Z
UID:10038305-1764496800-1764500400@www.bblutheran.com
SUMMARY:Katie Luther's Kaffeeklatsch - Coffee Hour at Hope
DESCRIPTION:
URL:https://www.bblutheran.com/event/katie-luthers-kaffeeklatsch-coffee-hour-at-hope/
LOCATION:Hope Lutheran Church\, 45 Maple Street\, Beaver\, PA\, 15009\, United States
GEO:40.7051165;-80.4029977
X-APPLE-STRUCTURED-LOCATION;VALUE=URI;X-ADDRESS=Hope Lutheran Church 45 Maple Street Beaver PA 15009 United States;X-APPLE-RADIUS=500;X-TITLE=45 Maple Street:geo:-80.4029977,40.7051165
END:VEVENT
BEGIN:VEVENT
DTSTART;TZID=America/New_York:20251130T091500
DTEND;TZID=America/New_York:20251130T101500
DTSTAMP:20260421T013446
CREATED:20250613T002622Z
LAST-MODIFIED:20250613T002622Z
UID:10036175-1764494100-1764497700@www.bblutheran.com
SUMMARY:Holy Trinity Worship 9:15 a.m.
DESCRIPTION:
URL:https://www.bblutheran.com/event/holy-trinity-worship-915-a-m/2025-11-30/
LOCATION:Holy Trinity Church\, 1098 3rd Street\, Beaver\, PA\, 15009\, United States
GEO:40.6930069;-80.3112194
X-APPLE-STRUCTURED-LOCATION;VALUE=URI;X-ADDRESS=Holy Trinity Church 1098 3rd Street Beaver PA 15009 United States;X-APPLE-RADIUS=500;X-TITLE=1098 3rd Street:geo:-80.3112194,40.6930069
END:VEVENT
BEGIN:VEVENT
DTSTART;TZID=America/New_York:20251127T080000
DTEND;TZID=America/New_York:20251127T170000
DTSTAMP:20260421T013446
CREATED:20251103T172900Z
LAST-MODIFIED:20251103T172900Z
UID:10038301-1764230400-1764262800@www.bblutheran.com
SUMMARY:Happy Thanksgiving
DESCRIPTION:
URL:https://www.bblutheran.com/event/happy-thanksgiving-3/
LOCATION:PA
END:VEVENT
BEGIN:VEVENT
DTSTART;TZID=America/New_York:20251124T080000
DTEND;TZID=America/New_York:20251124T170000
DTSTAMP:20260421T013446
CREATED:20251103T172831Z
LAST-MODIFIED:20251103T172831Z
UID:10038300-1763971200-1764003600@www.bblutheran.com
SUMMARY:Newsletter Information Due
DESCRIPTION:
URL:https://www.bblutheran.com/event/newsletter-information-due-20/
LOCATION:PA
END:VEVENT
BEGIN:VEVENT
DTSTART;TZID=America/New_York:20251123T110000
DTEND;TZID=America/New_York:20251123T120000
DTSTAMP:20260421T013446
CREATED:20250613T002820Z
LAST-MODIFIED:20250613T002820Z
UID:10036435-1763895600-1763899200@www.bblutheran.com
SUMMARY:Hope Worship 11:00 a.m.
DESCRIPTION:
URL:https://www.bblutheran.com/event/hope-worship-1100-a-m/2025-11-23/
LOCATION:Hope Lutheran Church\, 45 Maple Street\, Beaver\, PA\, 15009\, United States
GEO:40.7051165;-80.4029977
X-APPLE-STRUCTURED-LOCATION;VALUE=URI;X-ADDRESS=Hope Lutheran Church 45 Maple Street Beaver PA 15009 United States;X-APPLE-RADIUS=500;X-TITLE=45 Maple Street:geo:-80.4029977,40.7051165
END:VEVENT
BEGIN:VEVENT
DTSTART;TZID=America/New_York:20251123T091500
DTEND;TZID=America/New_York:20251123T101500
DTSTAMP:20260421T013446
CREATED:20250613T002622Z
LAST-MODIFIED:20250613T002622Z
UID:10036174-1763889300-1763892900@www.bblutheran.com
SUMMARY:Holy Trinity Worship 9:15 a.m.
DESCRIPTION:
URL:https://www.bblutheran.com/event/holy-trinity-worship-915-a-m/2025-11-23/
LOCATION:Holy Trinity Church\, 1098 3rd Street\, Beaver\, PA\, 15009\, United States
GEO:40.6930069;-80.3112194
X-APPLE-STRUCTURED-LOCATION;VALUE=URI;X-ADDRESS=Holy Trinity Church 1098 3rd Street Beaver PA 15009 United States;X-APPLE-RADIUS=500;X-TITLE=1098 3rd Street:geo:-80.3112194,40.6930069
END:VEVENT
BEGIN:VEVENT
DTSTART;TZID=America/New_York:20251117T110000
DTEND;TZID=America/New_York:20251117T130000
DTSTAMP:20260421T013446
CREATED:20251103T172508Z
LAST-MODIFIED:20251103T172508Z
UID:10038295-1763377200-1763384400@www.bblutheran.com
SUMMARY:Grief Group meets at Hope
DESCRIPTION:
URL:https://www.bblutheran.com/event/grief-group-meets-at-hope-3/
LOCATION:Hope Lutheran Church\, 45 Maple Street\, Beaver\, PA\, 15009\, United States
GEO:40.7051165;-80.4029977
X-APPLE-STRUCTURED-LOCATION;VALUE=URI;X-ADDRESS=Hope Lutheran Church 45 Maple Street Beaver PA 15009 United States;X-APPLE-RADIUS=500;X-TITLE=45 Maple Street:geo:-80.4029977,40.7051165
END:VEVENT
BEGIN:VEVENT
DTSTART;TZID=America/New_York:20251116T123000
DTEND;TZID=America/New_York:20251116T140000
DTSTAMP:20260421T013446
CREATED:20251105T152459Z
LAST-MODIFIED:20251105T152459Z
UID:10038304-1763296200-1763301600@www.bblutheran.com
SUMMARY:Hope Council will meet after Worship
DESCRIPTION:
URL:https://www.bblutheran.com/event/hope-council-will-meet-after-worship-4/
LOCATION:Hope Lutheran Church\, 45 Maple Street\, Beaver\, PA\, 15009\, United States
GEO:40.7051165;-80.4029977
X-APPLE-STRUCTURED-LOCATION;VALUE=URI;X-ADDRESS=Hope Lutheran Church 45 Maple Street Beaver PA 15009 United States;X-APPLE-RADIUS=500;X-TITLE=45 Maple Street:geo:-80.4029977,40.7051165
END:VEVENT
BEGIN:VEVENT
DTSTART;TZID=America/New_York:20251116T110000
DTEND;TZID=America/New_York:20251116T120000
DTSTAMP:20260421T013446
CREATED:20250613T002820Z
LAST-MODIFIED:20250613T002820Z
UID:10036434-1763290800-1763294400@www.bblutheran.com
SUMMARY:Hope Worship 11:00 a.m.
DESCRIPTION:
URL:https://www.bblutheran.com/event/hope-worship-1100-a-m/2025-11-16/
LOCATION:Hope Lutheran Church\, 45 Maple Street\, Beaver\, PA\, 15009\, United States
GEO:40.7051165;-80.4029977
X-APPLE-STRUCTURED-LOCATION;VALUE=URI;X-ADDRESS=Hope Lutheran Church 45 Maple Street Beaver PA 15009 United States;X-APPLE-RADIUS=500;X-TITLE=45 Maple Street:geo:-80.4029977,40.7051165
END:VEVENT
BEGIN:VEVENT
DTSTART;TZID=America/New_York:20251116T091500
DTEND;TZID=America/New_York:20251116T101500
DTSTAMP:20260421T013446
CREATED:20250613T002622Z
LAST-MODIFIED:20250613T002622Z
UID:10036173-1763284500-1763288100@www.bblutheran.com
SUMMARY:Holy Trinity Worship 9:15 a.m.
DESCRIPTION:
URL:https://www.bblutheran.com/event/holy-trinity-worship-915-a-m/2025-11-16/
LOCATION:Holy Trinity Church\, 1098 3rd Street\, Beaver\, PA\, 15009\, United States
GEO:40.6930069;-80.3112194
X-APPLE-STRUCTURED-LOCATION;VALUE=URI;X-ADDRESS=Holy Trinity Church 1098 3rd Street Beaver PA 15009 United States;X-APPLE-RADIUS=500;X-TITLE=1098 3rd Street:geo:-80.3112194,40.6930069
END:VEVENT
BEGIN:VEVENT
DTSTART;TZID=America/New_York:20251115T091500
DTEND;TZID=America/New_York:20251115T150000
DTSTAMP:20260421T013446
CREATED:20251103T173532Z
LAST-MODIFIED:20251103T173532Z
UID:10038302-1763198100-1763218800@www.bblutheran.com
SUMMARY:Parish Fall Retreat at Hope
DESCRIPTION:Our guest will be Michelle Muth who will lead us in “Drumming for Prayers”. Our service project will be the 50th Anniversary pf ELCA World Hunger. We are collecting the following items to share with House of Prayer Lutheran Church in Aliquippa ( who is a Beaver County recipient of an ELCA World Hunger grants); toothbrushes\, toothpaste\, shampoo\, conditioner\, lots of deodorant\, individual wipes\, baby wipes \, and Chapstick.
URL:https://www.bblutheran.com/event/parish-fall-retreat-at-hope/
LOCATION:Hope Lutheran Church\, 45 Maple Street\, Beaver\, PA\, 15009\, United States
GEO:40.7051165;-80.4029977
X-APPLE-STRUCTURED-LOCATION;VALUE=URI;X-ADDRESS=Hope Lutheran Church 45 Maple Street Beaver PA 15009 United States;X-APPLE-RADIUS=500;X-TITLE=45 Maple Street:geo:-80.4029977,40.7051165
END:VEVENT
BEGIN:VEVENT
DTSTART;TZID=America/New_York:20251111T120000
DTEND;TZID=America/New_York:20251111T140000
DTSTAMP:20260421T013446
CREATED:20251103T172656Z
LAST-MODIFIED:20251103T172656Z
UID:10038297-1762862400-1762869600@www.bblutheran.com
SUMMARY:Circle of Hope will meet at Noon at Hope
DESCRIPTION:
URL:https://www.bblutheran.com/event/circle-of-hope-will-meet-at-noon-at-hope/
LOCATION:Hope Lutheran Church\, 45 Maple Street\, Beaver\, PA\, 15009\, United States
GEO:40.7051165;-80.4029977
X-APPLE-STRUCTURED-LOCATION;VALUE=URI;X-ADDRESS=Hope Lutheran Church 45 Maple Street Beaver PA 15009 United States;X-APPLE-RADIUS=500;X-TITLE=45 Maple Street:geo:-80.4029977,40.7051165
END:VEVENT
BEGIN:VEVENT
DTSTART;TZID=America/New_York:20251111T080000
DTEND;TZID=America/New_York:20251111T170000
DTSTAMP:20260421T013446
CREATED:20251103T172751Z
LAST-MODIFIED:20251103T172751Z
UID:10038299-1762848000-1762880400@www.bblutheran.com
SUMMARY:Veteran's Day
DESCRIPTION:
URL:https://www.bblutheran.com/event/veterans-day-2/
LOCATION:PA
END:VEVENT
BEGIN:VEVENT
DTSTART;TZID=America/New_York:20251109T110000
DTEND;TZID=America/New_York:20251109T120000
DTSTAMP:20260421T013446
CREATED:20250613T002820Z
LAST-MODIFIED:20250613T002820Z
UID:10036433-1762686000-1762689600@www.bblutheran.com
SUMMARY:Hope Worship 11:00 a.m.
DESCRIPTION:
URL:https://www.bblutheran.com/event/hope-worship-1100-a-m/2025-11-09/
LOCATION:Hope Lutheran Church\, 45 Maple Street\, Beaver\, PA\, 15009\, United States
GEO:40.7051165;-80.4029977
X-APPLE-STRUCTURED-LOCATION;VALUE=URI;X-ADDRESS=Hope Lutheran Church 45 Maple Street Beaver PA 15009 United States;X-APPLE-RADIUS=500;X-TITLE=45 Maple Street:geo:-80.4029977,40.7051165
END:VEVENT
BEGIN:VEVENT
DTSTART;TZID=America/New_York:20251109T091500
DTEND;TZID=America/New_York:20251109T101500
DTSTAMP:20260421T013446
CREATED:20250613T002622Z
LAST-MODIFIED:20250613T002622Z
UID:10036172-1762679700-1762683300@www.bblutheran.com
SUMMARY:Holy Trinity Worship 9:15 a.m.
DESCRIPTION:
URL:https://www.bblutheran.com/event/holy-trinity-worship-915-a-m/2025-11-09/
LOCATION:Holy Trinity Church\, 1098 3rd Street\, Beaver\, PA\, 15009\, United States
GEO:40.6930069;-80.3112194
X-APPLE-STRUCTURED-LOCATION;VALUE=URI;X-ADDRESS=Holy Trinity Church 1098 3rd Street Beaver PA 15009 United States;X-APPLE-RADIUS=500;X-TITLE=1098 3rd Street:geo:-80.3112194,40.6930069
END:VEVENT
BEGIN:VEVENT
DTSTART;TZID=America/New_York:20251106T143000
DTEND;TZID=America/New_York:20251106T153000
DTSTAMP:20260421T013446
CREATED:20251103T172611Z
LAST-MODIFIED:20251103T172611Z
UID:10038296-1762439400-1762443000@www.bblutheran.com
SUMMARY:Retreat planning meeting at Hope
DESCRIPTION:
URL:https://www.bblutheran.com/event/retreat-planning-meeting-at-hope-4/
LOCATION:Hope Lutheran Church\, 45 Maple Street\, Beaver\, PA\, 15009\, United States
GEO:40.7051165;-80.4029977
X-APPLE-STRUCTURED-LOCATION;VALUE=URI;X-ADDRESS=Hope Lutheran Church 45 Maple Street Beaver PA 15009 United States;X-APPLE-RADIUS=500;X-TITLE=45 Maple Street:geo:-80.4029977,40.7051165
END:VEVENT
BEGIN:VEVENT
DTSTART;TZID=America/New_York:20251104T080000
DTEND;TZID=America/New_York:20251104T170000
DTSTAMP:20260421T013446
CREATED:20251103T172722Z
LAST-MODIFIED:20251103T172722Z
UID:10038298-1762243200-1762275600@www.bblutheran.com
SUMMARY:Election Day
DESCRIPTION:
URL:https://www.bblutheran.com/event/election-day-3/
LOCATION:PA
END:VEVENT
BEGIN:VEVENT
DTSTART;TZID=UTC:20251103T110000
DTEND;TZID=UTC:20251103T133000
DTSTAMP:20260421T013446
CREATED:20230427T201158Z
LAST-MODIFIED:20230427T201158Z
UID:10000630-1762167600-1762176600@www.bblutheran.com
SUMMARY:Bible Study at Holy Trinity
DESCRIPTION:All are welcome to join in a Bible study being held at Holy Trinity at 11:00 a.m. in the Fellowship hall.
URL:https://www.bblutheran.com/event/bible-study-at-holy-trinity-2-2/2025-11-03/
LOCATION:Holy Trinity Church\, 1098 3rd Street\, Beaver\, PA\, 15009\, United States
GEO:40.6930069;-80.3112194
X-APPLE-STRUCTURED-LOCATION;VALUE=URI;X-ADDRESS=Holy Trinity Church 1098 3rd Street Beaver PA 15009 United States;X-APPLE-RADIUS=500;X-TITLE=1098 3rd Street:geo:-80.3112194,40.6930069
END:VEVENT
BEGIN:VEVENT
DTSTART;TZID=America/New_York:20251102T110000
DTEND;TZID=America/New_York:20251102T120000
DTSTAMP:20260421T013446
CREATED:20250613T002820Z
LAST-MODIFIED:20250613T002820Z
UID:10036432-1762081200-1762084800@www.bblutheran.com
SUMMARY:Hope Worship 11:00 a.m.
DESCRIPTION:
URL:https://www.bblutheran.com/event/hope-worship-1100-a-m/2025-11-02/
LOCATION:Hope Lutheran Church\, 45 Maple Street\, Beaver\, PA\, 15009\, United States
GEO:40.7051165;-80.4029977
X-APPLE-STRUCTURED-LOCATION;VALUE=URI;X-ADDRESS=Hope Lutheran Church 45 Maple Street Beaver PA 15009 United States;X-APPLE-RADIUS=500;X-TITLE=45 Maple Street:geo:-80.4029977,40.7051165
END:VEVENT
BEGIN:VEVENT
DTSTART;TZID=America/New_York:20251102T091500
DTEND;TZID=America/New_York:20251102T101500
DTSTAMP:20260421T013446
CREATED:20250613T002622Z
LAST-MODIFIED:20250613T002622Z
UID:10036171-1762074900-1762078500@www.bblutheran.com
SUMMARY:Holy Trinity Worship 9:15 a.m.
DESCRIPTION:
URL:https://www.bblutheran.com/event/holy-trinity-worship-915-a-m/2025-11-02/
LOCATION:Holy Trinity Church\, 1098 3rd Street\, Beaver\, PA\, 15009\, United States
GEO:40.6930069;-80.3112194
X-APPLE-STRUCTURED-LOCATION;VALUE=URI;X-ADDRESS=Holy Trinity Church 1098 3rd Street Beaver PA 15009 United States;X-APPLE-RADIUS=500;X-TITLE=1098 3rd Street:geo:-80.3112194,40.6930069
END:VEVENT
BEGIN:VEVENT
DTSTART;TZID=America/New_York:20251102T080000
DTEND;TZID=America/New_York:20251102T170000
DTSTAMP:20260421T013446
CREATED:20251003T141127Z
LAST-MODIFIED:20251003T141127Z
UID:10038293-1762070400-1762102800@www.bblutheran.com
SUMMARY:All Saints
DESCRIPTION:
URL:https://www.bblutheran.com/event/all-saints/
LOCATION:PA
END:VEVENT
BEGIN:VEVENT
DTSTART;TZID=America/New_York:20251101T080000
DTEND;TZID=America/New_York:20251101T170000
DTSTAMP:20260421T013447
CREATED:20251105T152415Z
LAST-MODIFIED:20251105T152415Z
UID:10038303-1761984000-1762016400@www.bblutheran.com
SUMMARY:Clock's Turn Back One Hour
DESCRIPTION:
URL:https://www.bblutheran.com/event/clocks-turn-back-one-hour/
LOCATION:PA
END:VEVENT
BEGIN:VEVENT
DTSTART;TZID=America/New_York:20251101T020000
DTEND;TZID=America/New_York:20251101T020000
DTSTAMP:20260421T013447
CREATED:20251003T141322Z
LAST-MODIFIED:20251003T141322Z
UID:10038294-1761962400-1761962400@www.bblutheran.com
SUMMARY:Fall Back - Turn Clocks back 1 hour
DESCRIPTION:
URL:https://www.bblutheran.com/event/fall-back-turn-clocks-back-1-hour/
LOCATION:PA
END:VEVENT
BEGIN:VEVENT
DTSTART;TZID=America/New_York:20251026T110000
DTEND;TZID=America/New_York:20251026T120000
DTSTAMP:20260421T013447
CREATED:20251003T141031Z
LAST-MODIFIED:20251003T141031Z
UID:10038292-1761476400-1761480000@www.bblutheran.com
SUMMARY:Thanksgiving Certificate collections begin at Hope
DESCRIPTION:
URL:https://www.bblutheran.com/event/thanksgiving-certificate-collections-begin-at-hope/
LOCATION:Hope Lutheran Church\, 45 Maple Street\, Beaver\, PA\, 15009\, United States
GEO:40.7051165;-80.4029977
X-APPLE-STRUCTURED-LOCATION;VALUE=URI;X-ADDRESS=Hope Lutheran Church 45 Maple Street Beaver PA 15009 United States;X-APPLE-RADIUS=500;X-TITLE=45 Maple Street:geo:-80.4029977,40.7051165
END:VEVENT
BEGIN:VEVENT
DTSTART;TZID=America/New_York:20251026T110000
DTEND;TZID=America/New_York:20251026T120000
DTSTAMP:20260421T013447
CREATED:20250613T002820Z
LAST-MODIFIED:20250613T002820Z
UID:10036431-1761476400-1761480000@www.bblutheran.com
SUMMARY:Hope Worship 11:00 a.m.
DESCRIPTION:
URL:https://www.bblutheran.com/event/hope-worship-1100-a-m/2025-10-26/
LOCATION:Hope Lutheran Church\, 45 Maple Street\, Beaver\, PA\, 15009\, United States
GEO:40.7051165;-80.4029977
X-APPLE-STRUCTURED-LOCATION;VALUE=URI;X-ADDRESS=Hope Lutheran Church 45 Maple Street Beaver PA 15009 United States;X-APPLE-RADIUS=500;X-TITLE=45 Maple Street:geo:-80.4029977,40.7051165
END:VEVENT
BEGIN:VEVENT
DTSTART;TZID=America/New_York:20251026T100000
DTEND;TZID=America/New_York:20251026T110000
DTSTAMP:20260421T013447
CREATED:20251003T132943Z
LAST-MODIFIED:20251003T132943Z
UID:10038291-1761472800-1761476400@www.bblutheran.com
SUMMARY:Coffee Hour at Hope
DESCRIPTION:
URL:https://www.bblutheran.com/event/coffee-hour-at-hope-5/
LOCATION:Hope Lutheran Church\, 45 Maple Street\, Beaver\, PA\, 15009\, United States
GEO:40.7051165;-80.4029977
X-APPLE-STRUCTURED-LOCATION;VALUE=URI;X-ADDRESS=Hope Lutheran Church 45 Maple Street Beaver PA 15009 United States;X-APPLE-RADIUS=500;X-TITLE=45 Maple Street:geo:-80.4029977,40.7051165
END:VEVENT
END:VCALENDAR