BEGIN:VCALENDAR
VERSION:2.0
PRODID:-// - ECPv6.3.3.1//NONSGML v1.0//EN
CALSCALE:GREGORIAN
METHOD:PUBLISH
X-ORIGINAL-URL:https://www.bblutheran.com
X-WR-CALDESC:Events for 
REFRESH-INTERVAL;VALUE=DURATION:PT1H
X-Robots-Tag:noindex
X-PUBLISHED-TTL:PT1H
BEGIN:VTIMEZONE
TZID:America/New_York
BEGIN:DAYLIGHT
TZOFFSETFROM:-0500
TZOFFSETTO:-0400
TZNAME:EDT
DTSTART:20260308T070000
END:DAYLIGHT
BEGIN:STANDARD
TZOFFSETFROM:-0400
TZOFFSETTO:-0500
TZNAME:EST
DTSTART:20261101T060000
END:STANDARD
TZID:UTC
BEGIN:STANDARD
TZOFFSETFROM:+0000
TZOFFSETTO:+0000
TZNAME:UTC
DTSTART:20260101T000000
END:STANDARD
END:VTIMEZONE
BEGIN:VEVENT
DTSTART;TZID=America/New_York:20260308T110000
DTEND;TZID=America/New_York:20260308T120000
DTSTAMP:20260419T161744
CREATED:20250613T002820Z
LAST-MODIFIED:20250613T002820Z
UID:10036450-1772967600-1772971200@www.bblutheran.com
SUMMARY:Hope Worship 11:00 a.m.
DESCRIPTION:
URL:https://www.bblutheran.com/event/hope-worship-1100-a-m/2026-03-08/
LOCATION:Hope Lutheran Church\, 45 Maple Street\, Beaver\, PA\, 15009\, United States
GEO:40.7051165;-80.4029977
X-APPLE-STRUCTURED-LOCATION;VALUE=URI;X-ADDRESS=Hope Lutheran Church 45 Maple Street Beaver PA 15009 United States;X-APPLE-RADIUS=500;X-TITLE=45 Maple Street:geo:-80.4029977,40.7051165
END:VEVENT
BEGIN:VEVENT
DTSTART;TZID=America/New_York:20260308T091500
DTEND;TZID=America/New_York:20260308T101500
DTSTAMP:20260419T161744
CREATED:20260225T165113Z
LAST-MODIFIED:20260225T165113Z
UID:10038368-1772961300-1772964900@www.bblutheran.com
SUMMARY:Noisy Collection at Holy Trinity
DESCRIPTION:
URL:https://www.bblutheran.com/event/noisy-collection-at-holy-trinity-5/
LOCATION:Holy Trinity Church\, 1098 3rd Street\, Beaver\, PA\, 15009\, United States
GEO:40.6930069;-80.3112194
X-APPLE-STRUCTURED-LOCATION;VALUE=URI;X-ADDRESS=Holy Trinity Church 1098 3rd Street Beaver PA 15009 United States;X-APPLE-RADIUS=500;X-TITLE=1098 3rd Street:geo:-80.3112194,40.6930069
END:VEVENT
BEGIN:VEVENT
DTSTART;TZID=America/New_York:20260308T091500
DTEND;TZID=America/New_York:20260308T101500
DTSTAMP:20260419T161744
CREATED:20250613T002622Z
LAST-MODIFIED:20250613T002622Z
UID:10036189-1772961300-1772964900@www.bblutheran.com
SUMMARY:Holy Trinity Worship 9:15 a.m.
DESCRIPTION:
URL:https://www.bblutheran.com/event/holy-trinity-worship-915-a-m/2026-03-08/
LOCATION:Holy Trinity Church\, 1098 3rd Street\, Beaver\, PA\, 15009\, United States
GEO:40.6930069;-80.3112194
X-APPLE-STRUCTURED-LOCATION;VALUE=URI;X-ADDRESS=Holy Trinity Church 1098 3rd Street Beaver PA 15009 United States;X-APPLE-RADIUS=500;X-TITLE=1098 3rd Street:geo:-80.3112194,40.6930069
END:VEVENT
BEGIN:VEVENT
DTSTART;TZID=America/New_York:20260304T190000
DTEND;TZID=America/New_York:20260304T200000
DTSTAMP:20260419T161744
CREATED:20260130T152207Z
LAST-MODIFIED:20260130T152207Z
UID:10038343-1772650800-1772654400@www.bblutheran.com
SUMMARY:Wednesday Evening Lent Service at Holy Trinity
DESCRIPTION:6 p.m. supper\, and Evening Vespers service at 7:00 p.m.
URL:https://www.bblutheran.com/event/wednesday-evening-lent-service-at-holy-trinity/
LOCATION:Holy Trinity Church\, 1098 3rd Street\, Beaver\, PA\, 15009\, United States
GEO:40.6930069;-80.3112194
X-APPLE-STRUCTURED-LOCATION;VALUE=URI;X-ADDRESS=Holy Trinity Church 1098 3rd Street Beaver PA 15009 United States;X-APPLE-RADIUS=500;X-TITLE=1098 3rd Street:geo:-80.3112194,40.6930069
END:VEVENT
BEGIN:VEVENT
DTSTART;TZID=UTC:20260302T110000
DTEND;TZID=UTC:20260302T133000
DTSTAMP:20260419T161744
CREATED:20230427T201158Z
LAST-MODIFIED:20230427T201158Z
UID:10000634-1772449200-1772458200@www.bblutheran.com
SUMMARY:Bible Study at Holy Trinity
DESCRIPTION:All are welcome to join in a Bible study being held at Holy Trinity at 11:00 a.m. in the Fellowship hall.
URL:https://www.bblutheran.com/event/bible-study-at-holy-trinity-2-2/2026-03-02/
LOCATION:Holy Trinity Church\, 1098 3rd Street\, Beaver\, PA\, 15009\, United States
GEO:40.6930069;-80.3112194
X-APPLE-STRUCTURED-LOCATION;VALUE=URI;X-ADDRESS=Holy Trinity Church 1098 3rd Street Beaver PA 15009 United States;X-APPLE-RADIUS=500;X-TITLE=1098 3rd Street:geo:-80.3112194,40.6930069
END:VEVENT
BEGIN:VEVENT
DTSTART;TZID=America/New_York:20260302T110000
DTEND;TZID=America/New_York:20260302T130000
DTSTAMP:20260419T161744
CREATED:20260225T163157Z
LAST-MODIFIED:20260225T163157Z
UID:10038358-1772449200-1772456400@www.bblutheran.com
SUMMARY:Bible Study will meet at Holy Trinity
DESCRIPTION:
URL:https://www.bblutheran.com/event/bible-study-will-meet-at-holy-trinity/
LOCATION:Holy Trinity Church\, 1098 3rd Street\, Beaver\, PA\, 15009\, United States
GEO:40.6930069;-80.3112194
X-APPLE-STRUCTURED-LOCATION;VALUE=URI;X-ADDRESS=Holy Trinity Church 1098 3rd Street Beaver PA 15009 United States;X-APPLE-RADIUS=500;X-TITLE=1098 3rd Street:geo:-80.3112194,40.6930069
END:VEVENT
BEGIN:VEVENT
DTSTART;TZID=America/New_York:20260301T110000
DTEND;TZID=America/New_York:20260301T120000
DTSTAMP:20260419T161744
CREATED:20260225T164146Z
LAST-MODIFIED:20260225T164146Z
UID:10038362-1772362800-1772366400@www.bblutheran.com
SUMMARY:Collection for Cornerstone Men's Shelter at Hope
DESCRIPTION:We provide food items for the Men’s Shelter\, like snacks\, lunch\, and breakfast items. Please place items in the blue bin in Narthex.
URL:https://www.bblutheran.com/event/collection-for-cornerstone-mens-shelter-at-hope/
LOCATION:Hope Lutheran Church\, 45 Maple Street\, Beaver\, PA\, 15009\, United States
GEO:40.7051165;-80.4029977
X-APPLE-STRUCTURED-LOCATION;VALUE=URI;X-ADDRESS=Hope Lutheran Church 45 Maple Street Beaver PA 15009 United States;X-APPLE-RADIUS=500;X-TITLE=45 Maple Street:geo:-80.4029977,40.7051165
END:VEVENT
BEGIN:VEVENT
DTSTART;TZID=America/New_York:20260301T110000
DTEND;TZID=America/New_York:20260301T120000
DTSTAMP:20260419T161744
CREATED:20250613T002820Z
LAST-MODIFIED:20250613T002820Z
UID:10036449-1772362800-1772366400@www.bblutheran.com
SUMMARY:Hope Worship 11:00 a.m.
DESCRIPTION:
URL:https://www.bblutheran.com/event/hope-worship-1100-a-m/2026-03-01/
LOCATION:Hope Lutheran Church\, 45 Maple Street\, Beaver\, PA\, 15009\, United States
GEO:40.7051165;-80.4029977
X-APPLE-STRUCTURED-LOCATION;VALUE=URI;X-ADDRESS=Hope Lutheran Church 45 Maple Street Beaver PA 15009 United States;X-APPLE-RADIUS=500;X-TITLE=45 Maple Street:geo:-80.4029977,40.7051165
END:VEVENT
BEGIN:VEVENT
DTSTART;TZID=America/New_York:20260301T091500
DTEND;TZID=America/New_York:20260301T101500
DTSTAMP:20260419T161744
CREATED:20250613T002622Z
LAST-MODIFIED:20250613T002622Z
UID:10036188-1772356500-1772360100@www.bblutheran.com
SUMMARY:Holy Trinity Worship 9:15 a.m.
DESCRIPTION:
URL:https://www.bblutheran.com/event/holy-trinity-worship-915-a-m/2026-03-01/
LOCATION:Holy Trinity Church\, 1098 3rd Street\, Beaver\, PA\, 15009\, United States
GEO:40.6930069;-80.3112194
X-APPLE-STRUCTURED-LOCATION;VALUE=URI;X-ADDRESS=Holy Trinity Church 1098 3rd Street Beaver PA 15009 United States;X-APPLE-RADIUS=500;X-TITLE=1098 3rd Street:geo:-80.3112194,40.6930069
END:VEVENT
BEGIN:VEVENT
DTSTART;TZID=America/New_York:20260225T190000
DTEND;TZID=America/New_York:20260225T200000
DTSTAMP:20260419T161744
CREATED:20260130T152115Z
LAST-MODIFIED:20260130T152115Z
UID:10038342-1772046000-1772049600@www.bblutheran.com
SUMMARY:Wednesday Evening Lent Service at Hope
DESCRIPTION:6 p.m. supper\, and Evening Vespers service at 7:00 p.m.
URL:https://www.bblutheran.com/event/wednesday-evening-lent-service-at-hope/
LOCATION:Hope Lutheran Church\, 45 Maple Street\, Beaver\, PA\, 15009\, United States
GEO:40.7051165;-80.4029977
X-APPLE-STRUCTURED-LOCATION;VALUE=URI;X-ADDRESS=Hope Lutheran Church 45 Maple Street Beaver PA 15009 United States;X-APPLE-RADIUS=500;X-TITLE=45 Maple Street:geo:-80.4029977,40.7051165
END:VEVENT
BEGIN:VEVENT
DTSTART;TZID=America/New_York:20260225T080000
DTEND;TZID=America/New_York:20260225T170000
DTSTAMP:20260419T161744
CREATED:20260225T164743Z
LAST-MODIFIED:20260225T164743Z
UID:10038366-1772006400-1772038800@www.bblutheran.com
SUMMARY:World Hunger collection at Hope
DESCRIPTION:We will be collecting monetary donations on March 8 for ELCA World Hunger Appeal. Please place you donation in offering plate marked World Hunger or use the designed envelope in your envelope box.
URL:https://www.bblutheran.com/event/world-hunger-collection-at-hope/
LOCATION:Hope Lutheran Church\, 45 Maple Street\, Beaver\, PA\, 15009\, United States
GEO:40.7051165;-80.4029977
X-APPLE-STRUCTURED-LOCATION;VALUE=URI;X-ADDRESS=Hope Lutheran Church 45 Maple Street Beaver PA 15009 United States;X-APPLE-RADIUS=500;X-TITLE=45 Maple Street:geo:-80.4029977,40.7051165
END:VEVENT
BEGIN:VEVENT
DTSTART;TZID=America/New_York:20260224T080000
DTEND;TZID=America/New_York:20260224T170000
DTSTAMP:20260419T161744
CREATED:20260130T154118Z
LAST-MODIFIED:20260130T154118Z
UID:10038356-1771920000-1771952400@www.bblutheran.com
SUMMARY:Newsletter Information Due
DESCRIPTION:
URL:https://www.bblutheran.com/event/newsletter-information-due-23/
LOCATION:PA
END:VEVENT
BEGIN:VEVENT
DTSTART;TZID=America/New_York:20260222T110000
DTEND;TZID=America/New_York:20260222T120000
DTSTAMP:20260419T161744
CREATED:20250613T002820Z
LAST-MODIFIED:20250613T002820Z
UID:10036448-1771758000-1771761600@www.bblutheran.com
SUMMARY:Hope Worship 11:00 a.m.
DESCRIPTION:
URL:https://www.bblutheran.com/event/hope-worship-1100-a-m/2026-02-22/
LOCATION:Hope Lutheran Church\, 45 Maple Street\, Beaver\, PA\, 15009\, United States
GEO:40.7051165;-80.4029977
X-APPLE-STRUCTURED-LOCATION;VALUE=URI;X-ADDRESS=Hope Lutheran Church 45 Maple Street Beaver PA 15009 United States;X-APPLE-RADIUS=500;X-TITLE=45 Maple Street:geo:-80.4029977,40.7051165
END:VEVENT
BEGIN:VEVENT
DTSTART;TZID=America/New_York:20260222T100000
DTEND;TZID=America/New_York:20260222T110000
DTSTAMP:20260419T161744
CREATED:20260130T153155Z
LAST-MODIFIED:20260130T153155Z
UID:10038350-1771754400-1771758000@www.bblutheran.com
SUMMARY:Katie Luther's Kaffeeklatsch (Coffee Hour) at Hope
DESCRIPTION:
URL:https://www.bblutheran.com/event/katie-luthers-kaffeeklatsch-coffee-hour-at-hope-3/
LOCATION:Hope Lutheran Church\, 45 Maple Street\, Beaver\, PA\, 15009\, United States
GEO:40.7051165;-80.4029977
X-APPLE-STRUCTURED-LOCATION;VALUE=URI;X-ADDRESS=Hope Lutheran Church 45 Maple Street Beaver PA 15009 United States;X-APPLE-RADIUS=500;X-TITLE=45 Maple Street:geo:-80.4029977,40.7051165
END:VEVENT
BEGIN:VEVENT
DTSTART;TZID=America/New_York:20260222T091500
DTEND;TZID=America/New_York:20260222T101500
DTSTAMP:20260419T161744
CREATED:20250613T002622Z
LAST-MODIFIED:20250613T002622Z
UID:10036187-1771751700-1771755300@www.bblutheran.com
SUMMARY:Holy Trinity Worship 9:15 a.m.
DESCRIPTION:
URL:https://www.bblutheran.com/event/holy-trinity-worship-915-a-m/2026-02-22/
LOCATION:Holy Trinity Church\, 1098 3rd Street\, Beaver\, PA\, 15009\, United States
GEO:40.6930069;-80.3112194
X-APPLE-STRUCTURED-LOCATION;VALUE=URI;X-ADDRESS=Holy Trinity Church 1098 3rd Street Beaver PA 15009 United States;X-APPLE-RADIUS=500;X-TITLE=1098 3rd Street:geo:-80.3112194,40.6930069
END:VEVENT
BEGIN:VEVENT
DTSTART;TZID=America/New_York:20260218T190000
DTEND;TZID=America/New_York:20260218T200000
DTSTAMP:20260419T161744
CREATED:20260218T141858Z
LAST-MODIFIED:20260218T142354Z
UID:10038357-1771441200-1771444800@www.bblutheran.com
SUMMARY:ASH Wednesday Service at Hope Lutheran 7:00 p.m.
DESCRIPTION:Wednesday\, February  18th \nHoly Trinity at 11:00 a.m. \nHope Lutheran at 7:00 p.m.
URL:https://www.bblutheran.com/event/ash-wednesday-service-at-hope-lutheran-700-p-m/
LOCATION:Hope Lutheran Church\, 45 Maple Street\, Beaver\, PA\, 15009\, United States
GEO:40.7051165;-80.4029977
X-APPLE-STRUCTURED-LOCATION;VALUE=URI;X-ADDRESS=Hope Lutheran Church 45 Maple Street Beaver PA 15009 United States;X-APPLE-RADIUS=500;X-TITLE=45 Maple Street:geo:-80.4029977,40.7051165
END:VEVENT
BEGIN:VEVENT
DTSTART;TZID=America/New_York:20260218T110000
DTEND;TZID=America/New_York:20260218T120000
DTSTAMP:20260419T161744
CREATED:20260130T151927Z
LAST-MODIFIED:20260218T141805Z
UID:10038341-1771412400-1771416000@www.bblutheran.com
SUMMARY:ASH Wednesday Service at Holy Trinity 11:00 a.m.
DESCRIPTION:Wednesday\, February  18th \nHoly Trinity at 11:00 a.m. \nHope Lutheran at 7:00 p.m.
URL:https://www.bblutheran.com/event/ash-wednesday-services/
LOCATION:Holy Trinity Church\, 1098 3rd Street\, Beaver\, PA\, 15009\, United States
GEO:40.6930069;-80.3112194
X-APPLE-STRUCTURED-LOCATION;VALUE=URI;X-ADDRESS=Holy Trinity Church 1098 3rd Street Beaver PA 15009 United States;X-APPLE-RADIUS=500;X-TITLE=1098 3rd Street:geo:-80.3112194,40.6930069
END:VEVENT
BEGIN:VEVENT
DTSTART;TZID=America/New_York:20260217T190000
DTEND;TZID=America/New_York:20260217T203000
DTSTAMP:20260419T161744
CREATED:20260130T153958Z
LAST-MODIFIED:20260130T153958Z
UID:10038355-1771354800-1771360200@www.bblutheran.com
SUMMARY:Holy Trinity Council will meet at 7:00 p.m.
DESCRIPTION:
URL:https://www.bblutheran.com/event/holy-trinity-council-will-meet-at-700-p-m-2/
LOCATION:Holy Trinity Church\, 1098 3rd Street\, Beaver\, PA\, 15009\, United States
GEO:40.6930069;-80.3112194
X-APPLE-STRUCTURED-LOCATION;VALUE=URI;X-ADDRESS=Holy Trinity Church 1098 3rd Street Beaver PA 15009 United States;X-APPLE-RADIUS=500;X-TITLE=1098 3rd Street:geo:-80.3112194,40.6930069
END:VEVENT
BEGIN:VEVENT
DTSTART;TZID=America/New_York:20260216T110000
DTEND;TZID=America/New_York:20260216T133000
DTSTAMP:20260419T161744
CREATED:20260130T151641Z
LAST-MODIFIED:20260130T151641Z
UID:10038339-1771239600-1771248600@www.bblutheran.com
SUMMARY:Grief Group meets at Hope
DESCRIPTION:The group is always welcoming new people to join them. Please contact the Pastor for more information.
URL:https://www.bblutheran.com/event/grief-group-meets-at-hope-6/
LOCATION:Hope Lutheran Church\, 45 Maple Street\, Beaver\, PA\, 15009\, United States
GEO:40.7051165;-80.4029977
X-APPLE-STRUCTURED-LOCATION;VALUE=URI;X-ADDRESS=Hope Lutheran Church 45 Maple Street Beaver PA 15009 United States;X-APPLE-RADIUS=500;X-TITLE=45 Maple Street:geo:-80.4029977,40.7051165
END:VEVENT
BEGIN:VEVENT
DTSTART;TZID=America/New_York:20260216T110000
DTEND;TZID=America/New_York:20260216T120000
DTSTAMP:20260419T161744
CREATED:20260130T153056Z
LAST-MODIFIED:20260130T153056Z
UID:10038349-1771239600-1771243200@www.bblutheran.com
SUMMARY:House of Prayer Food Pantry donations at Hope
DESCRIPTION:Third Sunday of each monthdonations taken for House of Prayer Food Pantry and free Tuesday dinner in Aliquippa.
URL:https://www.bblutheran.com/event/house-of-prayer-food-pantry-donations-at-hope/
LOCATION:Hope Lutheran Church\, 45 Maple Street\, Beaver\, PA\, 15009\, United States
GEO:40.7051165;-80.4029977
X-APPLE-STRUCTURED-LOCATION;VALUE=URI;X-ADDRESS=Hope Lutheran Church 45 Maple Street Beaver PA 15009 United States;X-APPLE-RADIUS=500;X-TITLE=45 Maple Street:geo:-80.4029977,40.7051165
END:VEVENT
BEGIN:VEVENT
DTSTART;TZID=America/New_York:20260215T120000
DTEND;TZID=America/New_York:20260215T140000
DTSTAMP:20260419T161744
CREATED:20260130T153247Z
LAST-MODIFIED:20260130T153247Z
UID:10038351-1771156800-1771164000@www.bblutheran.com
SUMMARY:Hope Council will meet following worship.
DESCRIPTION:
URL:https://www.bblutheran.com/event/hope-council-will-meet-following-worship-4/
LOCATION:Hope Lutheran Church\, 45 Maple Street\, Beaver\, PA\, 15009\, United States
GEO:40.7051165;-80.4029977
X-APPLE-STRUCTURED-LOCATION;VALUE=URI;X-ADDRESS=Hope Lutheran Church 45 Maple Street Beaver PA 15009 United States;X-APPLE-RADIUS=500;X-TITLE=45 Maple Street:geo:-80.4029977,40.7051165
END:VEVENT
BEGIN:VEVENT
DTSTART;TZID=America/New_York:20260215T110000
DTEND;TZID=America/New_York:20260215T120000
DTSTAMP:20260419T161744
CREATED:20250613T002820Z
LAST-MODIFIED:20250613T002820Z
UID:10036447-1771153200-1771156800@www.bblutheran.com
SUMMARY:Hope Worship 11:00 a.m.
DESCRIPTION:
URL:https://www.bblutheran.com/event/hope-worship-1100-a-m/2026-02-15/
LOCATION:Hope Lutheran Church\, 45 Maple Street\, Beaver\, PA\, 15009\, United States
GEO:40.7051165;-80.4029977
X-APPLE-STRUCTURED-LOCATION;VALUE=URI;X-ADDRESS=Hope Lutheran Church 45 Maple Street Beaver PA 15009 United States;X-APPLE-RADIUS=500;X-TITLE=45 Maple Street:geo:-80.4029977,40.7051165
END:VEVENT
BEGIN:VEVENT
DTSTART;TZID=America/New_York:20260215T091500
DTEND;TZID=America/New_York:20260215T101500
DTSTAMP:20260419T161744
CREATED:20250613T002622Z
LAST-MODIFIED:20250613T002622Z
UID:10036186-1771146900-1771150500@www.bblutheran.com
SUMMARY:Holy Trinity Worship 9:15 a.m.
DESCRIPTION:
URL:https://www.bblutheran.com/event/holy-trinity-worship-915-a-m/2026-02-15/
LOCATION:Holy Trinity Church\, 1098 3rd Street\, Beaver\, PA\, 15009\, United States
GEO:40.6930069;-80.3112194
X-APPLE-STRUCTURED-LOCATION;VALUE=URI;X-ADDRESS=Holy Trinity Church 1098 3rd Street Beaver PA 15009 United States;X-APPLE-RADIUS=500;X-TITLE=1098 3rd Street:geo:-80.3112194,40.6930069
END:VEVENT
BEGIN:VEVENT
DTSTART;TZID=America/New_York:20260210T120000
DTEND;TZID=America/New_York:20260210T133000
DTSTAMP:20260419T161744
CREATED:20260130T152841Z
LAST-MODIFIED:20260130T152841Z
UID:10038348-1770724800-1770730200@www.bblutheran.com
SUMMARY:Circle of Hope will meet at Noon - Leader Lynn
DESCRIPTION:
URL:https://www.bblutheran.com/event/circle-of-hope-will-meet-at-noon-leader-lynn/
LOCATION:Hope Lutheran Church\, 45 Maple Street\, Beaver\, PA\, 15009\, United States
GEO:40.7051165;-80.4029977
X-APPLE-STRUCTURED-LOCATION;VALUE=URI;X-ADDRESS=Hope Lutheran Church 45 Maple Street Beaver PA 15009 United States;X-APPLE-RADIUS=500;X-TITLE=45 Maple Street:geo:-80.4029977,40.7051165
END:VEVENT
BEGIN:VEVENT
DTSTART;TZID=America/New_York:20260209T080000
DTEND;TZID=America/New_York:20260209T170000
DTSTAMP:20260419T161744
CREATED:20260130T153748Z
LAST-MODIFIED:20260130T153748Z
UID:10038354-1770624000-1770656400@www.bblutheran.com
SUMMARY:Cornerstone of Beaver County Men's Shelter Dinner - Holy Trinity
DESCRIPTION:We are providing meals one evening a month for the guests at Cornerstone Men’s Shelter. There are about 20 residents\, and there is a sign up sheet in the Narthex.
URL:https://www.bblutheran.com/event/cornerstone-of-beaver-county-mens-shelter-dinner-holy-trinity/
LOCATION:Holy Trinity Church\, 1098 3rd Street\, Beaver\, PA\, 15009\, United States
GEO:40.6930069;-80.3112194
X-APPLE-STRUCTURED-LOCATION;VALUE=URI;X-ADDRESS=Holy Trinity Church 1098 3rd Street Beaver PA 15009 United States;X-APPLE-RADIUS=500;X-TITLE=1098 3rd Street:geo:-80.3112194,40.6930069
END:VEVENT
BEGIN:VEVENT
DTSTART;TZID=America/New_York:20260208T110000
DTEND;TZID=America/New_York:20260208T130000
DTSTAMP:20260419T161744
CREATED:20260130T153431Z
LAST-MODIFIED:20260130T153431Z
UID:10038352-1770548400-1770555600@www.bblutheran.com
SUMMARY:Souper Bowl Sunday at Hope
DESCRIPTION:On February 8th we will have soup pots ready for you to drop your monetary dentations in to benefit Twelve Loaves Soup Kitchen.
URL:https://www.bblutheran.com/event/souper-bowl-sunday-at-hope/
LOCATION:Hope Lutheran Church\, 45 Maple Street\, Beaver\, PA\, 15009\, United States
GEO:40.7051165;-80.4029977
X-APPLE-STRUCTURED-LOCATION;VALUE=URI;X-ADDRESS=Hope Lutheran Church 45 Maple Street Beaver PA 15009 United States;X-APPLE-RADIUS=500;X-TITLE=45 Maple Street:geo:-80.4029977,40.7051165
END:VEVENT
BEGIN:VEVENT
DTSTART;TZID=America/New_York:20260208T110000
DTEND;TZID=America/New_York:20260208T120000
DTSTAMP:20260419T161744
CREATED:20250613T002820Z
LAST-MODIFIED:20250613T002820Z
UID:10036446-1770548400-1770552000@www.bblutheran.com
SUMMARY:Hope Worship 11:00 a.m.
DESCRIPTION:
URL:https://www.bblutheran.com/event/hope-worship-1100-a-m/2026-02-08/
LOCATION:Hope Lutheran Church\, 45 Maple Street\, Beaver\, PA\, 15009\, United States
GEO:40.7051165;-80.4029977
X-APPLE-STRUCTURED-LOCATION;VALUE=URI;X-ADDRESS=Hope Lutheran Church 45 Maple Street Beaver PA 15009 United States;X-APPLE-RADIUS=500;X-TITLE=45 Maple Street:geo:-80.4029977,40.7051165
END:VEVENT
BEGIN:VEVENT
DTSTART;TZID=America/New_York:20260208T091500
DTEND;TZID=America/New_York:20260208T101500
DTSTAMP:20260419T161744
CREATED:20260130T153545Z
LAST-MODIFIED:20260130T153545Z
UID:10038353-1770542100-1770545700@www.bblutheran.com
SUMMARY:Noisy Collection taken at Holy Trinity
DESCRIPTION:
URL:https://www.bblutheran.com/event/noisy-collection-taken-at-holy-trinity-2/
LOCATION:Holy Trinity Church\, 1098 3rd Street\, Beaver\, PA\, 15009\, United States
GEO:40.6930069;-80.3112194
X-APPLE-STRUCTURED-LOCATION;VALUE=URI;X-ADDRESS=Holy Trinity Church 1098 3rd Street Beaver PA 15009 United States;X-APPLE-RADIUS=500;X-TITLE=1098 3rd Street:geo:-80.3112194,40.6930069
END:VEVENT
BEGIN:VEVENT
DTSTART;TZID=America/New_York:20260208T091500
DTEND;TZID=America/New_York:20260208T101500
DTSTAMP:20260419T161744
CREATED:20250613T002622Z
LAST-MODIFIED:20250613T002622Z
UID:10036185-1770542100-1770545700@www.bblutheran.com
SUMMARY:Holy Trinity Worship 9:15 a.m.
DESCRIPTION:
URL:https://www.bblutheran.com/event/holy-trinity-worship-915-a-m/2026-02-08/
LOCATION:Holy Trinity Church\, 1098 3rd Street\, Beaver\, PA\, 15009\, United States
GEO:40.6930069;-80.3112194
X-APPLE-STRUCTURED-LOCATION;VALUE=URI;X-ADDRESS=Holy Trinity Church 1098 3rd Street Beaver PA 15009 United States;X-APPLE-RADIUS=500;X-TITLE=1098 3rd Street:geo:-80.3112194,40.6930069
END:VEVENT
BEGIN:VEVENT
DTSTART;TZID=UTC:20260202T110000
DTEND;TZID=UTC:20260202T133000
DTSTAMP:20260419T161744
CREATED:20230427T201158Z
LAST-MODIFIED:20230427T201158Z
UID:10000633-1770030000-1770039000@www.bblutheran.com
SUMMARY:Bible Study at Holy Trinity
DESCRIPTION:All are welcome to join in a Bible study being held at Holy Trinity at 11:00 a.m. in the Fellowship hall.
URL:https://www.bblutheran.com/event/bible-study-at-holy-trinity-2-2/2026-02-02/
LOCATION:Holy Trinity Church\, 1098 3rd Street\, Beaver\, PA\, 15009\, United States
GEO:40.6930069;-80.3112194
X-APPLE-STRUCTURED-LOCATION;VALUE=URI;X-ADDRESS=Holy Trinity Church 1098 3rd Street Beaver PA 15009 United States;X-APPLE-RADIUS=500;X-TITLE=1098 3rd Street:geo:-80.3112194,40.6930069
END:VEVENT
END:VCALENDAR