BEGIN:VCALENDAR
VERSION:2.0
PRODID:-// - ECPv6.3.3.1//NONSGML v1.0//EN
CALSCALE:GREGORIAN
METHOD:PUBLISH
X-ORIGINAL-URL:https://www.bblutheran.com
X-WR-CALDESC:Events for 
REFRESH-INTERVAL;VALUE=DURATION:PT1H
X-Robots-Tag:noindex
X-PUBLISHED-TTL:PT1H
BEGIN:VTIMEZONE
TZID:UTC
BEGIN:STANDARD
TZOFFSETFROM:+0000
TZOFFSETTO:+0000
TZNAME:UTC
DTSTART:20260101T000000
END:STANDARD
TZID:America/New_York
BEGIN:DAYLIGHT
TZOFFSETFROM:-0500
TZOFFSETTO:-0400
TZNAME:EDT
DTSTART:20260308T070000
END:DAYLIGHT
BEGIN:STANDARD
TZOFFSETFROM:-0400
TZOFFSETTO:-0500
TZNAME:EST
DTSTART:20261101T060000
END:STANDARD
END:VTIMEZONE
BEGIN:VEVENT
DTSTART;TZID=UTC:20260413T110000
DTEND;TZID=UTC:20260413T133000
DTSTAMP:20260419T221043
CREATED:20260330T162025Z
LAST-MODIFIED:20260330T162131Z
UID:10000635-1776078000-1776087000@www.bblutheran.com
SUMMARY:Bible Study at Holy Trinity
DESCRIPTION:All are welcome to join in a Bible study being held at Holy Trinity at 11:00 a.m. in the Fellowship hall.
URL:https://www.bblutheran.com/event/bible-study-at-holy-trinity-2-2-3/
LOCATION:Holy Trinity Church\, 1098 3rd Street\, Beaver\, PA\, 15009\, United States
GEO:40.6930069;-80.3112194
X-APPLE-STRUCTURED-LOCATION;VALUE=URI;X-ADDRESS=Holy Trinity Church 1098 3rd Street Beaver PA 15009 United States;X-APPLE-RADIUS=500;X-TITLE=1098 3rd Street:geo:-80.3112194,40.6930069
END:VEVENT
BEGIN:VEVENT
DTSTART;TZID=America/New_York:20260412T110000
DTEND;TZID=America/New_York:20260412T120000
DTSTAMP:20260419T221043
CREATED:20250613T002820Z
LAST-MODIFIED:20250613T002820Z
UID:10036455-1775991600-1775995200@www.bblutheran.com
SUMMARY:Hope Worship 11:00 a.m.
DESCRIPTION:
URL:https://www.bblutheran.com/event/hope-worship-1100-a-m/2026-04-12/
LOCATION:Hope Lutheran Church\, 45 Maple Street\, Beaver\, PA\, 15009\, United States
GEO:40.7051165;-80.4029977
X-APPLE-STRUCTURED-LOCATION;VALUE=URI;X-ADDRESS=Hope Lutheran Church 45 Maple Street Beaver PA 15009 United States;X-APPLE-RADIUS=500;X-TITLE=45 Maple Street:geo:-80.4029977,40.7051165
END:VEVENT
BEGIN:VEVENT
DTSTART;TZID=America/New_York:20260412T091500
DTEND;TZID=America/New_York:20260412T101500
DTSTAMP:20260419T221043
CREATED:20250613T002622Z
LAST-MODIFIED:20250613T002622Z
UID:10036194-1775985300-1775988900@www.bblutheran.com
SUMMARY:Holy Trinity Worship 9:15 a.m.
DESCRIPTION:
URL:https://www.bblutheran.com/event/holy-trinity-worship-915-a-m/2026-04-12/
LOCATION:Holy Trinity Church\, 1098 3rd Street\, Beaver\, PA\, 15009\, United States
GEO:40.6930069;-80.3112194
X-APPLE-STRUCTURED-LOCATION;VALUE=URI;X-ADDRESS=Holy Trinity Church 1098 3rd Street Beaver PA 15009 United States;X-APPLE-RADIUS=500;X-TITLE=1098 3rd Street:geo:-80.3112194,40.6930069
END:VEVENT
BEGIN:VEVENT
DTSTART;TZID=America/New_York:20260405T110000
DTEND;TZID=America/New_York:20260405T120000
DTSTAMP:20260419T221043
CREATED:20250613T002820Z
LAST-MODIFIED:20250613T002820Z
UID:10036454-1775386800-1775390400@www.bblutheran.com
SUMMARY:Hope Worship 11:00 a.m.
DESCRIPTION:
URL:https://www.bblutheran.com/event/hope-worship-1100-a-m/2026-04-05/
LOCATION:Hope Lutheran Church\, 45 Maple Street\, Beaver\, PA\, 15009\, United States
GEO:40.7051165;-80.4029977
X-APPLE-STRUCTURED-LOCATION;VALUE=URI;X-ADDRESS=Hope Lutheran Church 45 Maple Street Beaver PA 15009 United States;X-APPLE-RADIUS=500;X-TITLE=45 Maple Street:geo:-80.4029977,40.7051165
END:VEVENT
BEGIN:VEVENT
DTSTART;TZID=America/New_York:20260405T091500
DTEND;TZID=America/New_York:20260405T101500
DTSTAMP:20260419T221043
CREATED:20250613T002622Z
LAST-MODIFIED:20250613T002622Z
UID:10036193-1775380500-1775384100@www.bblutheran.com
SUMMARY:Holy Trinity Worship 9:15 a.m.
DESCRIPTION:
URL:https://www.bblutheran.com/event/holy-trinity-worship-915-a-m/2026-04-05/
LOCATION:Holy Trinity Church\, 1098 3rd Street\, Beaver\, PA\, 15009\, United States
GEO:40.6930069;-80.3112194
X-APPLE-STRUCTURED-LOCATION;VALUE=URI;X-ADDRESS=Holy Trinity Church 1098 3rd Street Beaver PA 15009 United States;X-APPLE-RADIUS=500;X-TITLE=1098 3rd Street:geo:-80.3112194,40.6930069
END:VEVENT
BEGIN:VEVENT
DTSTART;TZID=America/New_York:20260405T080000
DTEND;TZID=America/New_York:20260405T170000
DTSTAMP:20260419T221043
CREATED:20260225T171612Z
LAST-MODIFIED:20260225T171612Z
UID:10038374-1775376000-1775408400@www.bblutheran.com
SUMMARY:Easter Sunday
DESCRIPTION:
URL:https://www.bblutheran.com/event/easter-sunday/
LOCATION:PA
END:VEVENT
BEGIN:VEVENT
DTSTART;TZID=America/New_York:20260403T190000
DTEND;TZID=America/New_York:20260403T200000
DTSTAMP:20260419T221043
CREATED:20260225T171540Z
LAST-MODIFIED:20260225T171540Z
UID:10038373-1775242800-1775246400@www.bblutheran.com
SUMMARY:Good Friday Service at Holy Trinity
DESCRIPTION:
URL:https://www.bblutheran.com/event/good-friday-service-at-holy-trinity/
LOCATION:Holy Trinity Church\, 1098 3rd Street\, Beaver\, PA\, 15009\, United States
GEO:40.6930069;-80.3112194
X-APPLE-STRUCTURED-LOCATION;VALUE=URI;X-ADDRESS=Holy Trinity Church 1098 3rd Street Beaver PA 15009 United States;X-APPLE-RADIUS=500;X-TITLE=1098 3rd Street:geo:-80.3112194,40.6930069
END:VEVENT
BEGIN:VEVENT
DTSTART;TZID=America/New_York:20260402T190000
DTEND;TZID=America/New_York:20260402T200000
DTSTAMP:20260419T221043
CREATED:20260225T171457Z
LAST-MODIFIED:20260225T171457Z
UID:10038372-1775156400-1775160000@www.bblutheran.com
SUMMARY:Maundy Thursday Service at Hope
DESCRIPTION:
URL:https://www.bblutheran.com/event/maundy-thursday-service-at-hope-2/
LOCATION:Hope Lutheran Church\, 45 Maple Street\, Beaver\, PA\, 15009\, United States
GEO:40.7051165;-80.4029977
X-APPLE-STRUCTURED-LOCATION;VALUE=URI;X-ADDRESS=Hope Lutheran Church 45 Maple Street Beaver PA 15009 United States;X-APPLE-RADIUS=500;X-TITLE=45 Maple Street:geo:-80.4029977,40.7051165
END:VEVENT
BEGIN:VEVENT
DTSTART;TZID=America/New_York:20260329T110000
DTEND;TZID=America/New_York:20260329T120000
DTSTAMP:20260419T221043
CREATED:20250613T002820Z
LAST-MODIFIED:20250613T002820Z
UID:10036453-1774782000-1774785600@www.bblutheran.com
SUMMARY:Hope Worship 11:00 a.m.
DESCRIPTION:
URL:https://www.bblutheran.com/event/hope-worship-1100-a-m/2026-03-29/
LOCATION:Hope Lutheran Church\, 45 Maple Street\, Beaver\, PA\, 15009\, United States
GEO:40.7051165;-80.4029977
X-APPLE-STRUCTURED-LOCATION;VALUE=URI;X-ADDRESS=Hope Lutheran Church 45 Maple Street Beaver PA 15009 United States;X-APPLE-RADIUS=500;X-TITLE=45 Maple Street:geo:-80.4029977,40.7051165
END:VEVENT
BEGIN:VEVENT
DTSTART;TZID=America/New_York:20260329T100000
DTEND;TZID=America/New_York:20260329T110000
DTSTAMP:20260419T221043
CREATED:20260225T164635Z
LAST-MODIFIED:20260225T164635Z
UID:10038365-1774778400-1774782000@www.bblutheran.com
SUMMARY:Katie Luther's Kaffeeklatsch (Coffee hour at Hope)
DESCRIPTION:
URL:https://www.bblutheran.com/event/katie-luthers-kaffeeklatsch-coffee-hour-at-hope-4/
LOCATION:Hope Lutheran Church\, 45 Maple Street\, Beaver\, PA\, 15009\, United States
GEO:40.7051165;-80.4029977
X-APPLE-STRUCTURED-LOCATION;VALUE=URI;X-ADDRESS=Hope Lutheran Church 45 Maple Street Beaver PA 15009 United States;X-APPLE-RADIUS=500;X-TITLE=45 Maple Street:geo:-80.4029977,40.7051165
END:VEVENT
BEGIN:VEVENT
DTSTART;TZID=America/New_York:20260329T091500
DTEND;TZID=America/New_York:20260329T101500
DTSTAMP:20260419T221043
CREATED:20250613T002622Z
LAST-MODIFIED:20250613T002622Z
UID:10036192-1774775700-1774779300@www.bblutheran.com
SUMMARY:Holy Trinity Worship 9:15 a.m.
DESCRIPTION:
URL:https://www.bblutheran.com/event/holy-trinity-worship-915-a-m/2026-03-29/
LOCATION:Holy Trinity Church\, 1098 3rd Street\, Beaver\, PA\, 15009\, United States
GEO:40.6930069;-80.3112194
X-APPLE-STRUCTURED-LOCATION;VALUE=URI;X-ADDRESS=Holy Trinity Church 1098 3rd Street Beaver PA 15009 United States;X-APPLE-RADIUS=500;X-TITLE=1098 3rd Street:geo:-80.3112194,40.6930069
END:VEVENT
BEGIN:VEVENT
DTSTART;TZID=America/New_York:20260329T080000
DTEND;TZID=America/New_York:20260329T170000
DTSTAMP:20260419T221043
CREATED:20260225T171405Z
LAST-MODIFIED:20260225T171405Z
UID:10038371-1774771200-1774803600@www.bblutheran.com
SUMMARY:Palm Sunday
DESCRIPTION:
URL:https://www.bblutheran.com/event/palm-sunday-2/
LOCATION:PA
END:VEVENT
BEGIN:VEVENT
DTSTART;TZID=America/New_York:20260325T190000
DTEND;TZID=America/New_York:20260325T200000
DTSTAMP:20260419T221043
CREATED:20260130T152450Z
LAST-MODIFIED:20260130T152450Z
UID:10038346-1774465200-1774468800@www.bblutheran.com
SUMMARY:Wednesday Evening Lent Service at Hope
DESCRIPTION:6 p.m. supper\, and Evening Vespers service at 7:00 p.m.
URL:https://www.bblutheran.com/event/wednesday-evening-lent-service-at-hope-3/
LOCATION:Hope Lutheran Church\, 45 Maple Street\, Beaver\, PA\, 15009\, United States
GEO:40.7051165;-80.4029977
X-APPLE-STRUCTURED-LOCATION;VALUE=URI;X-ADDRESS=Hope Lutheran Church 45 Maple Street Beaver PA 15009 United States;X-APPLE-RADIUS=500;X-TITLE=45 Maple Street:geo:-80.4029977,40.7051165
END:VEVENT
BEGIN:VEVENT
DTSTART;TZID=America/New_York:20260324T080000
DTEND;TZID=America/New_York:20260324T170000
DTSTAMP:20260419T221043
CREATED:20260225T171329Z
LAST-MODIFIED:20260225T171329Z
UID:10038370-1774339200-1774371600@www.bblutheran.com
SUMMARY:Newsletter Information Due
DESCRIPTION:
URL:https://www.bblutheran.com/event/newsletter-information-due-24/
LOCATION:PA
END:VEVENT
BEGIN:VEVENT
DTSTART;TZID=America/New_York:20260322T110000
DTEND;TZID=America/New_York:20260322T120000
DTSTAMP:20260419T221043
CREATED:20250613T002820Z
LAST-MODIFIED:20250613T002820Z
UID:10036452-1774177200-1774180800@www.bblutheran.com
SUMMARY:Hope Worship 11:00 a.m.
DESCRIPTION:
URL:https://www.bblutheran.com/event/hope-worship-1100-a-m/2026-03-22/
LOCATION:Hope Lutheran Church\, 45 Maple Street\, Beaver\, PA\, 15009\, United States
GEO:40.7051165;-80.4029977
X-APPLE-STRUCTURED-LOCATION;VALUE=URI;X-ADDRESS=Hope Lutheran Church 45 Maple Street Beaver PA 15009 United States;X-APPLE-RADIUS=500;X-TITLE=45 Maple Street:geo:-80.4029977,40.7051165
END:VEVENT
BEGIN:VEVENT
DTSTART;TZID=America/New_York:20260322T091500
DTEND;TZID=America/New_York:20260322T101500
DTSTAMP:20260419T221043
CREATED:20250613T002622Z
LAST-MODIFIED:20250613T002622Z
UID:10036191-1774170900-1774174500@www.bblutheran.com
SUMMARY:Holy Trinity Worship 9:15 a.m.
DESCRIPTION:
URL:https://www.bblutheran.com/event/holy-trinity-worship-915-a-m/2026-03-22/
LOCATION:Holy Trinity Church\, 1098 3rd Street\, Beaver\, PA\, 15009\, United States
GEO:40.6930069;-80.3112194
X-APPLE-STRUCTURED-LOCATION;VALUE=URI;X-ADDRESS=Holy Trinity Church 1098 3rd Street Beaver PA 15009 United States;X-APPLE-RADIUS=500;X-TITLE=1098 3rd Street:geo:-80.3112194,40.6930069
END:VEVENT
BEGIN:VEVENT
DTSTART;TZID=America/New_York:20260320T180000
DTEND;TZID=America/New_York:20260320T203000
DTSTAMP:20260419T221043
CREATED:20260225T163900Z
LAST-MODIFIED:20260225T163900Z
UID:10038361-1774029600-1774038600@www.bblutheran.com
SUMMARY:Seder Meal at New Hope Lutheran Church
DESCRIPTION:New Hope Lutheran Church is holding a Seder Meal on Friday\, March 20 at 6pm. They are extending an invitation to all Parish members. Sign up is due by March 8. Please fill out a form available in the bulletin or call the church office to make a reserva-tion. Cost $12.00 per person – checks are payable to Roberta Her-rington (New Hope).
URL:https://www.bblutheran.com/event/seder-meal-at-new-hope-lutheran-church/
LOCATION:New Hope Lutheran Church\, 200 2nd Ave\, Freedom\, PA\, 15042
END:VEVENT
BEGIN:VEVENT
DTSTART;TZID=America/New_York:20260318T190000
DTEND;TZID=America/New_York:20260318T200000
DTSTAMP:20260419T221043
CREATED:20260130T152357Z
LAST-MODIFIED:20260130T152357Z
UID:10038345-1773860400-1773864000@www.bblutheran.com
SUMMARY:Wednesday Evening Lent Service at Holy Trinity
DESCRIPTION:6 p.m. supper\, and Evening Vespers service at 7:00 p.m.
URL:https://www.bblutheran.com/event/wednesday-evening-lent-service-at-holy-trinity-2/
LOCATION:Holy Trinity Church\, 1098 3rd Street\, Beaver\, PA\, 15009\, United States
GEO:40.6930069;-80.3112194
X-APPLE-STRUCTURED-LOCATION;VALUE=URI;X-ADDRESS=Holy Trinity Church 1098 3rd Street Beaver PA 15009 United States;X-APPLE-RADIUS=500;X-TITLE=1098 3rd Street:geo:-80.3112194,40.6930069
END:VEVENT
BEGIN:VEVENT
DTSTART;TZID=America/New_York:20260317T190000
DTEND;TZID=America/New_York:20260317T210000
DTSTAMP:20260419T221043
CREATED:20260225T165229Z
LAST-MODIFIED:20260225T165229Z
UID:10038369-1773774000-1773781200@www.bblutheran.com
SUMMARY:Holy Trinity Council Meeting
DESCRIPTION:
URL:https://www.bblutheran.com/event/holy-trinity-council-meeting-14/
LOCATION:Holy Trinity Church\, 1098 3rd Street\, Beaver\, PA\, 15009\, United States
GEO:40.6930069;-80.3112194
X-APPLE-STRUCTURED-LOCATION;VALUE=URI;X-ADDRESS=Holy Trinity Church 1098 3rd Street Beaver PA 15009 United States;X-APPLE-RADIUS=500;X-TITLE=1098 3rd Street:geo:-80.3112194,40.6930069
END:VEVENT
BEGIN:VEVENT
DTSTART;TZID=America/New_York:20260316T110000
DTEND;TZID=America/New_York:20260316T130000
DTSTAMP:20260419T221043
CREATED:20260225T163255Z
LAST-MODIFIED:20260225T163255Z
UID:10038359-1773658800-1773666000@www.bblutheran.com
SUMMARY:Grief Group will meet at Hope
DESCRIPTION:
URL:https://www.bblutheran.com/event/grief-group-will-meet-at-hope-3/
LOCATION:Hope Lutheran Church\, 45 Maple Street\, Beaver\, PA\, 15009\, United States
GEO:40.7051165;-80.4029977
X-APPLE-STRUCTURED-LOCATION;VALUE=URI;X-ADDRESS=Hope Lutheran Church 45 Maple Street Beaver PA 15009 United States;X-APPLE-RADIUS=500;X-TITLE=45 Maple Street:geo:-80.4029977,40.7051165
END:VEVENT
BEGIN:VEVENT
DTSTART;TZID=America/New_York:20260315T120000
DTEND;TZID=America/New_York:20260315T140000
DTSTAMP:20260419T221043
CREATED:20260225T164839Z
LAST-MODIFIED:20260225T164839Z
UID:10038367-1773576000-1773583200@www.bblutheran.com
SUMMARY:Hope Council will meet after worship
DESCRIPTION:
URL:https://www.bblutheran.com/event/hope-council-will-meet-after-worship-5/
LOCATION:Hope Lutheran Church\, 45 Maple Street\, Beaver\, PA\, 15009\, United States
GEO:40.7051165;-80.4029977
X-APPLE-STRUCTURED-LOCATION;VALUE=URI;X-ADDRESS=Hope Lutheran Church 45 Maple Street Beaver PA 15009 United States;X-APPLE-RADIUS=500;X-TITLE=45 Maple Street:geo:-80.4029977,40.7051165
END:VEVENT
BEGIN:VEVENT
DTSTART;TZID=America/New_York:20260315T110000
DTEND;TZID=America/New_York:20260315T120000
DTSTAMP:20260419T221043
CREATED:20260225T164527Z
LAST-MODIFIED:20260225T164527Z
UID:10038364-1773572400-1773576000@www.bblutheran.com
SUMMARY:House of Prayer Food Pantry and free Tuesday dinner in Aliquippa collection at Hope
DESCRIPTION:Third Sunday of each month.
URL:https://www.bblutheran.com/event/house-of-prayer-food-pantry-and-free-tuesday-dinner-in-aliquippa-collection-at-hope/
LOCATION:Hope Lutheran Church\, 45 Maple Street\, Beaver\, PA\, 15009\, United States
GEO:40.7051165;-80.4029977
X-APPLE-STRUCTURED-LOCATION;VALUE=URI;X-ADDRESS=Hope Lutheran Church 45 Maple Street Beaver PA 15009 United States;X-APPLE-RADIUS=500;X-TITLE=45 Maple Street:geo:-80.4029977,40.7051165
END:VEVENT
BEGIN:VEVENT
DTSTART;TZID=America/New_York:20260315T110000
DTEND;TZID=America/New_York:20260315T120000
DTSTAMP:20260419T221043
CREATED:20250613T002820Z
LAST-MODIFIED:20250613T002820Z
UID:10036451-1773572400-1773576000@www.bblutheran.com
SUMMARY:Hope Worship 11:00 a.m.
DESCRIPTION:
URL:https://www.bblutheran.com/event/hope-worship-1100-a-m/2026-03-15/
LOCATION:Hope Lutheran Church\, 45 Maple Street\, Beaver\, PA\, 15009\, United States
GEO:40.7051165;-80.4029977
X-APPLE-STRUCTURED-LOCATION;VALUE=URI;X-ADDRESS=Hope Lutheran Church 45 Maple Street Beaver PA 15009 United States;X-APPLE-RADIUS=500;X-TITLE=45 Maple Street:geo:-80.4029977,40.7051165
END:VEVENT
BEGIN:VEVENT
DTSTART;TZID=America/New_York:20260315T091500
DTEND;TZID=America/New_York:20260315T101500
DTSTAMP:20260419T221043
CREATED:20250613T002622Z
LAST-MODIFIED:20250613T002622Z
UID:10036190-1773566100-1773569700@www.bblutheran.com
SUMMARY:Holy Trinity Worship 9:15 a.m.
DESCRIPTION:
URL:https://www.bblutheran.com/event/holy-trinity-worship-915-a-m/2026-03-15/
LOCATION:Holy Trinity Church\, 1098 3rd Street\, Beaver\, PA\, 15009\, United States
GEO:40.6930069;-80.3112194
X-APPLE-STRUCTURED-LOCATION;VALUE=URI;X-ADDRESS=Holy Trinity Church 1098 3rd Street Beaver PA 15009 United States;X-APPLE-RADIUS=500;X-TITLE=1098 3rd Street:geo:-80.3112194,40.6930069
END:VEVENT
BEGIN:VEVENT
DTSTART;TZID=America/New_York:20260311T190000
DTEND;TZID=America/New_York:20260311T200000
DTSTAMP:20260419T221043
CREATED:20260130T152259Z
LAST-MODIFIED:20260130T152259Z
UID:10038344-1773255600-1773259200@www.bblutheran.com
SUMMARY:Wednesday Evening Lent Service at Hope
DESCRIPTION:6 p.m. supper\, and Evening Vespers service at 7:00 p.m.
URL:https://www.bblutheran.com/event/wednesday-evening-lent-service-at-hope-2/
LOCATION:Hope Lutheran Church\, 45 Maple Street\, Beaver\, PA\, 15009\, United States
GEO:40.7051165;-80.4029977
X-APPLE-STRUCTURED-LOCATION;VALUE=URI;X-ADDRESS=Hope Lutheran Church 45 Maple Street Beaver PA 15009 United States;X-APPLE-RADIUS=500;X-TITLE=45 Maple Street:geo:-80.4029977,40.7051165
END:VEVENT
BEGIN:VEVENT
DTSTART;TZID=America/New_York:20260310T120000
DTEND;TZID=America/New_York:20260310T133000
DTSTAMP:20260419T221043
CREATED:20260225T164330Z
LAST-MODIFIED:20260225T164330Z
UID:10038363-1773144000-1773149400@www.bblutheran.com
SUMMARY:Circle of Hope meeting at Hope
DESCRIPTION:
URL:https://www.bblutheran.com/event/circle-of-hope-meeting-at-hope-3/
LOCATION:Hope Lutheran Church\, 45 Maple Street\, Beaver\, PA\, 15009\, United States
GEO:40.7051165;-80.4029977
X-APPLE-STRUCTURED-LOCATION;VALUE=URI;X-ADDRESS=Hope Lutheran Church 45 Maple Street Beaver PA 15009 United States;X-APPLE-RADIUS=500;X-TITLE=45 Maple Street:geo:-80.4029977,40.7051165
END:VEVENT
BEGIN:VEVENT
DTSTART;TZID=America/New_York:20260308T110000
DTEND;TZID=America/New_York:20260308T120000
DTSTAMP:20260419T221043
CREATED:20250613T002820Z
LAST-MODIFIED:20250613T002820Z
UID:10036450-1772967600-1772971200@www.bblutheran.com
SUMMARY:Hope Worship 11:00 a.m.
DESCRIPTION:
URL:https://www.bblutheran.com/event/hope-worship-1100-a-m/2026-03-08/
LOCATION:Hope Lutheran Church\, 45 Maple Street\, Beaver\, PA\, 15009\, United States
GEO:40.7051165;-80.4029977
X-APPLE-STRUCTURED-LOCATION;VALUE=URI;X-ADDRESS=Hope Lutheran Church 45 Maple Street Beaver PA 15009 United States;X-APPLE-RADIUS=500;X-TITLE=45 Maple Street:geo:-80.4029977,40.7051165
END:VEVENT
BEGIN:VEVENT
DTSTART;TZID=America/New_York:20260308T091500
DTEND;TZID=America/New_York:20260308T101500
DTSTAMP:20260419T221043
CREATED:20260225T165113Z
LAST-MODIFIED:20260225T165113Z
UID:10038368-1772961300-1772964900@www.bblutheran.com
SUMMARY:Noisy Collection at Holy Trinity
DESCRIPTION:
URL:https://www.bblutheran.com/event/noisy-collection-at-holy-trinity-5/
LOCATION:Holy Trinity Church\, 1098 3rd Street\, Beaver\, PA\, 15009\, United States
GEO:40.6930069;-80.3112194
X-APPLE-STRUCTURED-LOCATION;VALUE=URI;X-ADDRESS=Holy Trinity Church 1098 3rd Street Beaver PA 15009 United States;X-APPLE-RADIUS=500;X-TITLE=1098 3rd Street:geo:-80.3112194,40.6930069
END:VEVENT
BEGIN:VEVENT
DTSTART;TZID=America/New_York:20260308T091500
DTEND;TZID=America/New_York:20260308T101500
DTSTAMP:20260419T221043
CREATED:20250613T002622Z
LAST-MODIFIED:20250613T002622Z
UID:10036189-1772961300-1772964900@www.bblutheran.com
SUMMARY:Holy Trinity Worship 9:15 a.m.
DESCRIPTION:
URL:https://www.bblutheran.com/event/holy-trinity-worship-915-a-m/2026-03-08/
LOCATION:Holy Trinity Church\, 1098 3rd Street\, Beaver\, PA\, 15009\, United States
GEO:40.6930069;-80.3112194
X-APPLE-STRUCTURED-LOCATION;VALUE=URI;X-ADDRESS=Holy Trinity Church 1098 3rd Street Beaver PA 15009 United States;X-APPLE-RADIUS=500;X-TITLE=1098 3rd Street:geo:-80.3112194,40.6930069
END:VEVENT
BEGIN:VEVENT
DTSTART;TZID=America/New_York:20260304T190000
DTEND;TZID=America/New_York:20260304T200000
DTSTAMP:20260419T221043
CREATED:20260130T152207Z
LAST-MODIFIED:20260130T152207Z
UID:10038343-1772650800-1772654400@www.bblutheran.com
SUMMARY:Wednesday Evening Lent Service at Holy Trinity
DESCRIPTION:6 p.m. supper\, and Evening Vespers service at 7:00 p.m.
URL:https://www.bblutheran.com/event/wednesday-evening-lent-service-at-holy-trinity/
LOCATION:Holy Trinity Church\, 1098 3rd Street\, Beaver\, PA\, 15009\, United States
GEO:40.6930069;-80.3112194
X-APPLE-STRUCTURED-LOCATION;VALUE=URI;X-ADDRESS=Holy Trinity Church 1098 3rd Street Beaver PA 15009 United States;X-APPLE-RADIUS=500;X-TITLE=1098 3rd Street:geo:-80.3112194,40.6930069
END:VEVENT
END:VCALENDAR