BEGIN:VCALENDAR
VERSION:2.0
PRODID:-// - ECPv6.3.3.1//NONSGML v1.0//EN
CALSCALE:GREGORIAN
METHOD:PUBLISH
X-ORIGINAL-URL:https://www.bblutheran.com
X-WR-CALDESC:Events for 
REFRESH-INTERVAL;VALUE=DURATION:PT1H
X-Robots-Tag:noindex
X-PUBLISHED-TTL:PT1H
BEGIN:VTIMEZONE
TZID:America/New_York
BEGIN:DAYLIGHT
TZOFFSETFROM:-0500
TZOFFSETTO:-0400
TZNAME:EDT
DTSTART:20240310T070000
END:DAYLIGHT
BEGIN:STANDARD
TZOFFSETFROM:-0400
TZOFFSETTO:-0500
TZNAME:EST
DTSTART:20241103T060000
END:STANDARD
TZID:UTC
BEGIN:STANDARD
TZOFFSETFROM:+0000
TZOFFSETTO:+0000
TZNAME:UTC
DTSTART:20240101T000000
END:STANDARD
END:VTIMEZONE
BEGIN:VEVENT
DTSTART;TZID=America/New_York:20240323T100000
DTEND;TZID=America/New_York:20240323T120000
DTSTAMP:20260421T095352
CREATED:20240229T141124Z
LAST-MODIFIED:20240229T141124Z
UID:10014905-1711188000-1711195200@www.bblutheran.com
SUMMARY:Church cleaning day at Hope
DESCRIPTION:
URL:https://www.bblutheran.com/event/church-cleaning-day-at-hope/
LOCATION:Hope Lutheran Church\, 45 Maple Street\, Beaver\, PA\, 15009\, United States
GEO:40.7051165;-80.4029977
X-APPLE-STRUCTURED-LOCATION;VALUE=URI;X-ADDRESS=Hope Lutheran Church 45 Maple Street Beaver PA 15009 United States;X-APPLE-RADIUS=500;X-TITLE=45 Maple Street:geo:-80.4029977,40.7051165
END:VEVENT
BEGIN:VEVENT
DTSTART;TZID=America/New_York:20240320T180000
DTEND;TZID=America/New_York:20240320T200000
DTSTAMP:20260421T095352
CREATED:20240202T200314Z
LAST-MODIFIED:20240202T200314Z
UID:10013635-1710957600-1710964800@www.bblutheran.com
SUMMARY:Lenten Supper & Service at Hope
DESCRIPTION:Please join us for a Lenten Supper at 6:00 p.m. and a Service of Light Evening Prayer at 7:00 p.m.
URL:https://www.bblutheran.com/event/lenten-supper-service-at-hope-2/
LOCATION:Hope Lutheran Church\, 45 Maple Street\, Beaver\, PA\, 15009\, United States
GEO:40.7051165;-80.4029977
X-APPLE-STRUCTURED-LOCATION;VALUE=URI;X-ADDRESS=Hope Lutheran Church 45 Maple Street Beaver PA 15009 United States;X-APPLE-RADIUS=500;X-TITLE=45 Maple Street:geo:-80.4029977,40.7051165
END:VEVENT
BEGIN:VEVENT
DTSTART;TZID=America/New_York:20240318T190000
DTEND;TZID=America/New_York:20240318T203000
DTSTAMP:20260421T095352
CREATED:20240229T141601Z
LAST-MODIFIED:20240229T141601Z
UID:10014908-1710788400-1710793800@www.bblutheran.com
SUMMARY:Holy Trinity Council meeting
DESCRIPTION:Council will meet at 7:00 p.m.
URL:https://www.bblutheran.com/event/holy-trinity-council-meeting-4/
LOCATION:Holy Trinity Church\, 1098 3rd Street\, Beaver\, PA\, 15009\, United States
GEO:40.6930069;-80.3112194
X-APPLE-STRUCTURED-LOCATION;VALUE=URI;X-ADDRESS=Holy Trinity Church 1098 3rd Street Beaver PA 15009 United States;X-APPLE-RADIUS=500;X-TITLE=1098 3rd Street:geo:-80.3112194,40.6930069
END:VEVENT
BEGIN:VEVENT
DTSTART;TZID=America/New_York:20240318T150000
DTEND;TZID=America/New_York:20240318T163000
DTSTAMP:20260421T095352
CREATED:20240229T141852Z
LAST-MODIFIED:20240229T141852Z
UID:10014911-1710774000-1710779400@www.bblutheran.com
SUMMARY:Confirmation class at Holy Trinity
DESCRIPTION:
URL:https://www.bblutheran.com/event/confirmation-class-at-holy-trinity-18/
LOCATION:Holy Trinity Church\, 1098 3rd Street\, Beaver\, PA\, 15009\, United States
GEO:40.6930069;-80.3112194
X-APPLE-STRUCTURED-LOCATION;VALUE=URI;X-ADDRESS=Holy Trinity Church 1098 3rd Street Beaver PA 15009 United States;X-APPLE-RADIUS=500;X-TITLE=1098 3rd Street:geo:-80.3112194,40.6930069
END:VEVENT
BEGIN:VEVENT
DTSTART;TZID=UTC:20240318T110000
DTEND;TZID=UTC:20240318T130000
DTSTAMP:20260421T095352
CREATED:20240229T140443Z
LAST-MODIFIED:20240229T140443Z
UID:10000334-1710759600-1710766800@www.bblutheran.com
SUMMARY:Grief Group at Hope
DESCRIPTION:Hope will be starting a Grief group on April 17th at 11:00 a.m. Anyone is welcomed to sign up on Sunday mornings or by calling Hope’s Church office.
URL:https://www.bblutheran.com/event/grief-group-at-hope-2-2/
LOCATION:Hope Lutheran Church\, 45 Maple Street\, Beaver\, PA\, 15009\, United States
GEO:40.7051165;-80.4029977
X-APPLE-STRUCTURED-LOCATION;VALUE=URI;X-ADDRESS=Hope Lutheran Church 45 Maple Street Beaver PA 15009 United States;X-APPLE-RADIUS=500;X-TITLE=45 Maple Street:geo:-80.4029977,40.7051165
END:VEVENT
BEGIN:VEVENT
DTSTART;TZID=America/New_York:20240317T110000
DTEND;TZID=America/New_York:20240317T120000
DTSTAMP:20260421T095352
CREATED:20240229T142240Z
LAST-MODIFIED:20240229T142240Z
UID:10014914-1710673200-1710676800@www.bblutheran.com
SUMMARY:World Hunger at Hope
DESCRIPTION:We will be collecting for ELCA World Hunger Appeal.
URL:https://www.bblutheran.com/event/world-hunger-at-hope/
LOCATION:Hope Lutheran Church\, 45 Maple Street\, Beaver\, PA\, 15009\, United States
GEO:40.7051165;-80.4029977
X-APPLE-STRUCTURED-LOCATION;VALUE=URI;X-ADDRESS=Hope Lutheran Church 45 Maple Street Beaver PA 15009 United States;X-APPLE-RADIUS=500;X-TITLE=45 Maple Street:geo:-80.4029977,40.7051165
END:VEVENT
BEGIN:VEVENT
DTSTART;TZID=UTC:20240317T110000
DTEND;TZID=UTC:20240317T120000
DTSTAMP:20260421T095352
CREATED:20230201T202100Z
LAST-MODIFIED:20230201T202618Z
UID:10000099-1710673200-1710676800@www.bblutheran.com
SUMMARY:Worship at Hope 11:00 a.m.
DESCRIPTION:
URL:https://www.bblutheran.com/event/worship-at-1100-a-m/2024-03-17/
LOCATION:Hope Lutheran Church\, 45 Maple Street\, Beaver\, PA\, 15009\, United States
GEO:40.7051165;-80.4029977
X-APPLE-STRUCTURED-LOCATION;VALUE=URI;X-ADDRESS=Hope Lutheran Church 45 Maple Street Beaver PA 15009 United States;X-APPLE-RADIUS=500;X-TITLE=45 Maple Street:geo:-80.4029977,40.7051165
END:VEVENT
BEGIN:VEVENT
DTSTART;TZID=UTC:20240317T091500
DTEND;TZID=UTC:20240317T101500
DTSTAMP:20260421T095352
CREATED:20230201T202448Z
LAST-MODIFIED:20230201T202448Z
UID:10000203-1710666900-1710670500@www.bblutheran.com
SUMMARY:Worship at Holy Trinity @ 9:15 a.m.
DESCRIPTION:
URL:https://www.bblutheran.com/event/worship-at-holy-trinity-915-a-m/2024-03-17/
LOCATION:Holy Trinity Church\, 1098 3rd Street\, Beaver\, PA\, 15009\, United States
GEO:40.6930069;-80.3112194
X-APPLE-STRUCTURED-LOCATION;VALUE=URI;X-ADDRESS=Holy Trinity Church 1098 3rd Street Beaver PA 15009 United States;X-APPLE-RADIUS=500;X-TITLE=1098 3rd Street:geo:-80.3112194,40.6930069
END:VEVENT
BEGIN:VEVENT
DTSTART;TZID=America/New_York:20240317T083000
DTEND;TZID=America/New_York:20240317T090000
DTSTAMP:20260421T095352
CREATED:20240229T144400Z
LAST-MODIFIED:20240229T144400Z
UID:10014917-1710664200-1710666000@www.bblutheran.com
SUMMARY:Choir Rehersal at Holy Trinity
DESCRIPTION:Choir meets at 8:30\, before worship.
URL:https://www.bblutheran.com/event/choir-rehersal-at-holy-trinity-2/
LOCATION:Holy Trinity Church\, 1098 3rd Street\, Beaver\, PA\, 15009\, United States
GEO:40.6930069;-80.3112194
X-APPLE-STRUCTURED-LOCATION;VALUE=URI;X-ADDRESS=Holy Trinity Church 1098 3rd Street Beaver PA 15009 United States;X-APPLE-RADIUS=500;X-TITLE=1098 3rd Street:geo:-80.3112194,40.6930069
END:VEVENT
BEGIN:VEVENT
DTSTART;TZID=America/New_York:20240313T180000
DTEND;TZID=America/New_York:20240313T200000
DTSTAMP:20260421T095352
CREATED:20240202T200228Z
LAST-MODIFIED:20240202T200228Z
UID:10013634-1710352800-1710360000@www.bblutheran.com
SUMMARY:Lenten Supper & Service at HTLC
DESCRIPTION:Please join us for a Lenten Supper at 6:00 p.m. and a Service of Light Evening Prayer at 7:00 p.m.
URL:https://www.bblutheran.com/event/lenten-supper-service-at-htlc/
LOCATION:Holy Trinity Church\, 1098 3rd Street\, Beaver\, PA\, 15009\, United States
GEO:40.6930069;-80.3112194
X-APPLE-STRUCTURED-LOCATION;VALUE=URI;X-ADDRESS=Holy Trinity Church 1098 3rd Street Beaver PA 15009 United States;X-APPLE-RADIUS=500;X-TITLE=1098 3rd Street:geo:-80.3112194,40.6930069
END:VEVENT
BEGIN:VEVENT
DTSTART;TZID=America/New_York:20240312T120000
DTEND;TZID=America/New_York:20240312T133000
DTSTAMP:20260421T095352
CREATED:20240229T140710Z
LAST-MODIFIED:20240229T140710Z
UID:10014903-1710244800-1710250200@www.bblutheran.com
SUMMARY:Circle meeting at Hope
DESCRIPTION:Circle will meet at 12 noon\, Leader-Tracy and Hostess – Pat
URL:https://www.bblutheran.com/event/circle-meeting-at-hope-2/
LOCATION:Hope Lutheran Church\, 45 Maple Street\, Beaver\, PA\, 15009\, United States
GEO:40.7051165;-80.4029977
X-APPLE-STRUCTURED-LOCATION;VALUE=URI;X-ADDRESS=Hope Lutheran Church 45 Maple Street Beaver PA 15009 United States;X-APPLE-RADIUS=500;X-TITLE=45 Maple Street:geo:-80.4029977,40.7051165
END:VEVENT
BEGIN:VEVENT
DTSTART;TZID=America/New_York:20240311T150000
DTEND;TZID=America/New_York:20240311T163000
DTSTAMP:20260421T095352
CREATED:20240229T141823Z
LAST-MODIFIED:20240229T141823Z
UID:10014910-1710169200-1710174600@www.bblutheran.com
SUMMARY:Confirmation class at Holy Trinity
DESCRIPTION:
URL:https://www.bblutheran.com/event/confirmation-class-at-holy-trinity-17/
LOCATION:Holy Trinity Church\, 1098 3rd Street\, Beaver\, PA\, 15009\, United States
GEO:40.6930069;-80.3112194
X-APPLE-STRUCTURED-LOCATION;VALUE=URI;X-ADDRESS=Holy Trinity Church 1098 3rd Street Beaver PA 15009 United States;X-APPLE-RADIUS=500;X-TITLE=1098 3rd Street:geo:-80.3112194,40.6930069
END:VEVENT
BEGIN:VEVENT
DTSTART;TZID=UTC:20240310T110000
DTEND;TZID=UTC:20240310T120000
DTSTAMP:20260421T095352
CREATED:20230330T225552Z
LAST-MODIFIED:20230330T225552Z
UID:10000518-1710068400-1710072000@www.bblutheran.com
SUMMARY:Food Pantry Collection
DESCRIPTION:Collection for the the food panty in Darlington on the second of each month. The pantry is run by First Presbyterial Church in Darlington.
URL:https://www.bblutheran.com/event/food-pantry-collection/2024-03-10/
LOCATION:Hope Lutheran Church\, 45 Maple Street\, Beaver\, PA\, 15009\, United States
GEO:40.7051165;-80.4029977
X-APPLE-STRUCTURED-LOCATION;VALUE=URI;X-ADDRESS=Hope Lutheran Church 45 Maple Street Beaver PA 15009 United States;X-APPLE-RADIUS=500;X-TITLE=45 Maple Street:geo:-80.4029977,40.7051165
END:VEVENT
BEGIN:VEVENT
DTSTART;TZID=UTC:20240310T110000
DTEND;TZID=UTC:20240310T120000
DTSTAMP:20260421T095352
CREATED:20230201T202100Z
LAST-MODIFIED:20230201T202618Z
UID:10000098-1710068400-1710072000@www.bblutheran.com
SUMMARY:Worship at Hope 11:00 a.m.
DESCRIPTION:
URL:https://www.bblutheran.com/event/worship-at-1100-a-m/2024-03-10/
LOCATION:Hope Lutheran Church\, 45 Maple Street\, Beaver\, PA\, 15009\, United States
GEO:40.7051165;-80.4029977
X-APPLE-STRUCTURED-LOCATION;VALUE=URI;X-ADDRESS=Hope Lutheran Church 45 Maple Street Beaver PA 15009 United States;X-APPLE-RADIUS=500;X-TITLE=45 Maple Street:geo:-80.4029977,40.7051165
END:VEVENT
BEGIN:VEVENT
DTSTART;TZID=UTC:20240310T091500
DTEND;TZID=UTC:20240310T101500
DTSTAMP:20260421T095352
CREATED:20230201T202448Z
LAST-MODIFIED:20230201T202448Z
UID:10000202-1710062100-1710065700@www.bblutheran.com
SUMMARY:Worship at Holy Trinity @ 9:15 a.m.
DESCRIPTION:
URL:https://www.bblutheran.com/event/worship-at-holy-trinity-915-a-m/2024-03-10/
LOCATION:Holy Trinity Church\, 1098 3rd Street\, Beaver\, PA\, 15009\, United States
GEO:40.6930069;-80.3112194
X-APPLE-STRUCTURED-LOCATION;VALUE=URI;X-ADDRESS=Holy Trinity Church 1098 3rd Street Beaver PA 15009 United States;X-APPLE-RADIUS=500;X-TITLE=1098 3rd Street:geo:-80.3112194,40.6930069
END:VEVENT
BEGIN:VEVENT
DTSTART;TZID=America/New_York:20240310T083000
DTEND;TZID=America/New_York:20240310T090000
DTSTAMP:20260421T095352
CREATED:20240229T144306Z
LAST-MODIFIED:20240229T144306Z
UID:10014916-1710059400-1710061200@www.bblutheran.com
SUMMARY:Choir Rehersal at Holy Trinity
DESCRIPTION:Choir meets at 8:30\, before worship.
URL:https://www.bblutheran.com/event/choir-rehersal-at-holy-trinity/
LOCATION:Holy Trinity Church\, 1098 3rd Street\, Beaver\, PA\, 15009\, United States
GEO:40.6930069;-80.3112194
X-APPLE-STRUCTURED-LOCATION;VALUE=URI;X-ADDRESS=Holy Trinity Church 1098 3rd Street Beaver PA 15009 United States;X-APPLE-RADIUS=500;X-TITLE=1098 3rd Street:geo:-80.3112194,40.6930069
END:VEVENT
BEGIN:VEVENT
DTSTART;TZID=America/New_York:20240307T133000
DTEND;TZID=America/New_York:20240307T150000
DTSTAMP:20260421T095352
CREATED:20240229T141014Z
LAST-MODIFIED:20240229T141014Z
UID:10014904-1709818200-1709823600@www.bblutheran.com
SUMMARY:Womens Retreat Planning meeting at Hope
DESCRIPTION:The retreat planning committee is now planning for a Womens Retreat on May 4th.
URL:https://www.bblutheran.com/event/womens-retreat-planning-meeting-at-hope/
LOCATION:Hope Lutheran Church\, 45 Maple Street\, Beaver\, PA\, 15009\, United States
GEO:40.7051165;-80.4029977
X-APPLE-STRUCTURED-LOCATION;VALUE=URI;X-ADDRESS=Hope Lutheran Church 45 Maple Street Beaver PA 15009 United States;X-APPLE-RADIUS=500;X-TITLE=45 Maple Street:geo:-80.4029977,40.7051165
END:VEVENT
BEGIN:VEVENT
DTSTART;TZID=America/New_York:20240306T180000
DTEND;TZID=America/New_York:20240306T200000
DTSTAMP:20260421T095352
CREATED:20240202T200120Z
LAST-MODIFIED:20240202T200120Z
UID:10013633-1709748000-1709755200@www.bblutheran.com
SUMMARY:Lenten Supper & Service at Hope
DESCRIPTION:Please join us for a Lenten Supper at 6:00 p.m. and a Service of Light Evening Prayer at 7:00 p.m.
URL:https://www.bblutheran.com/event/lenten-supper-service-at-hope/
LOCATION:Hope Lutheran Church\, 45 Maple Street\, Beaver\, PA\, 15009\, United States
GEO:40.7051165;-80.4029977
X-APPLE-STRUCTURED-LOCATION;VALUE=URI;X-ADDRESS=Hope Lutheran Church 45 Maple Street Beaver PA 15009 United States;X-APPLE-RADIUS=500;X-TITLE=45 Maple Street:geo:-80.4029977,40.7051165
END:VEVENT
BEGIN:VEVENT
DTSTART;TZID=America/New_York:20240304T150000
DTEND;TZID=America/New_York:20240304T163000
DTSTAMP:20260421T095352
CREATED:20240229T141753Z
LAST-MODIFIED:20240229T141753Z
UID:10014909-1709564400-1709569800@www.bblutheran.com
SUMMARY:Confirmation class at Holy Trinity
DESCRIPTION:
URL:https://www.bblutheran.com/event/confirmation-class-at-holy-trinity-16/
LOCATION:Holy Trinity Church\, 1098 3rd Street\, Beaver\, PA\, 15009\, United States
GEO:40.6930069;-80.3112194
X-APPLE-STRUCTURED-LOCATION;VALUE=URI;X-ADDRESS=Holy Trinity Church 1098 3rd Street Beaver PA 15009 United States;X-APPLE-RADIUS=500;X-TITLE=1098 3rd Street:geo:-80.3112194,40.6930069
END:VEVENT
BEGIN:VEVENT
DTSTART;TZID=UTC:20240304T110000
DTEND;TZID=UTC:20240304T133000
DTSTAMP:20260421T095352
CREATED:20230427T201158Z
LAST-MODIFIED:20230427T201158Z
UID:10000435-1709550000-1709559000@www.bblutheran.com
SUMMARY:Bible Study at Holy Trinity
DESCRIPTION:All are welcome to join in a Bible study being held at Holy Trinity at 11:00 a.m. in the Fellowship hall.
URL:https://www.bblutheran.com/event/bible-study-at-holy-trinity-2-2/2024-03-04/
LOCATION:Holy Trinity Church\, 1098 3rd Street\, Beaver\, PA\, 15009\, United States
GEO:40.6930069;-80.3112194
X-APPLE-STRUCTURED-LOCATION;VALUE=URI;X-ADDRESS=Holy Trinity Church 1098 3rd Street Beaver PA 15009 United States;X-APPLE-RADIUS=500;X-TITLE=1098 3rd Street:geo:-80.3112194,40.6930069
END:VEVENT
BEGIN:VEVENT
DTSTART;TZID=America/New_York:20240303T120000
DTEND;TZID=America/New_York:20240303T130000
DTSTAMP:20260421T095352
CREATED:20240229T141252Z
LAST-MODIFIED:20240229T141252Z
UID:10014906-1709467200-1709470800@www.bblutheran.com
SUMMARY:Women of Hope Board meeting
DESCRIPTION:Meeting to follow worship.
URL:https://www.bblutheran.com/event/women-of-hope-board-meeting/
LOCATION:Hope Lutheran Church\, 45 Maple Street\, Beaver\, PA\, 15009\, United States
GEO:40.7051165;-80.4029977
X-APPLE-STRUCTURED-LOCATION;VALUE=URI;X-ADDRESS=Hope Lutheran Church 45 Maple Street Beaver PA 15009 United States;X-APPLE-RADIUS=500;X-TITLE=45 Maple Street:geo:-80.4029977,40.7051165
END:VEVENT
BEGIN:VEVENT
DTSTART;TZID=UTC:20240303T110000
DTEND;TZID=UTC:20240303T120000
DTSTAMP:20260421T095352
CREATED:20230201T202100Z
LAST-MODIFIED:20230201T202618Z
UID:10000097-1709463600-1709467200@www.bblutheran.com
SUMMARY:Worship at Hope 11:00 a.m.
DESCRIPTION:
URL:https://www.bblutheran.com/event/worship-at-1100-a-m/2024-03-03/
LOCATION:Hope Lutheran Church\, 45 Maple Street\, Beaver\, PA\, 15009\, United States
GEO:40.7051165;-80.4029977
X-APPLE-STRUCTURED-LOCATION;VALUE=URI;X-ADDRESS=Hope Lutheran Church 45 Maple Street Beaver PA 15009 United States;X-APPLE-RADIUS=500;X-TITLE=45 Maple Street:geo:-80.4029977,40.7051165
END:VEVENT
BEGIN:VEVENT
DTSTART;TZID=UTC:20240303T091500
DTEND;TZID=UTC:20240303T101500
DTSTAMP:20260421T095352
CREATED:20230201T202448Z
LAST-MODIFIED:20230201T202448Z
UID:10000201-1709457300-1709460900@www.bblutheran.com
SUMMARY:Worship at Holy Trinity @ 9:15 a.m.
DESCRIPTION:
URL:https://www.bblutheran.com/event/worship-at-holy-trinity-915-a-m/2024-03-03/
LOCATION:Holy Trinity Church\, 1098 3rd Street\, Beaver\, PA\, 15009\, United States
GEO:40.6930069;-80.3112194
X-APPLE-STRUCTURED-LOCATION;VALUE=URI;X-ADDRESS=Holy Trinity Church 1098 3rd Street Beaver PA 15009 United States;X-APPLE-RADIUS=500;X-TITLE=1098 3rd Street:geo:-80.3112194,40.6930069
END:VEVENT
BEGIN:VEVENT
DTSTART;TZID=America/New_York:20240303T083000
DTEND;TZID=America/New_York:20240303T090000
DTSTAMP:20260421T095352
CREATED:20240229T144225Z
LAST-MODIFIED:20240229T144225Z
UID:10014915-1709454600-1709456400@www.bblutheran.com
SUMMARY:Choir rehersal at Holy Trinity Lutheran
DESCRIPTION:Choir meets at 8:30\, before worship.
URL:https://www.bblutheran.com/event/choir-rehersal-at-holy-trinity-lutheran/
LOCATION:Holy Trinity Church\, 1098 3rd Street\, Beaver\, PA\, 15009\, United States
GEO:40.6930069;-80.3112194
X-APPLE-STRUCTURED-LOCATION;VALUE=URI;X-ADDRESS=Holy Trinity Church 1098 3rd Street Beaver PA 15009 United States;X-APPLE-RADIUS=500;X-TITLE=1098 3rd Street:geo:-80.3112194,40.6930069
END:VEVENT
BEGIN:VEVENT
DTSTART;TZID=America/New_York:20240229T110000
DTEND;TZID=America/New_York:20240229T120000
DTSTAMP:20260421T095352
CREATED:20240229T141452Z
LAST-MODIFIED:20240229T141452Z
UID:10014907-1709204400-1709208000@www.bblutheran.com
SUMMARY:Cornerstone Men's Shelter Donations at Hope
DESCRIPTION:First Sunday of each month we will be collecting snacks\, lunch\, and breakfast items. Place in blue bin in the Narthex.
URL:https://www.bblutheran.com/event/cornerstone-mens-shelter-donations-at-hope/
LOCATION:Hope Lutheran Church\, 45 Maple Street\, Beaver\, PA\, 15009\, United States
GEO:40.7051165;-80.4029977
X-APPLE-STRUCTURED-LOCATION;VALUE=URI;X-ADDRESS=Hope Lutheran Church 45 Maple Street Beaver PA 15009 United States;X-APPLE-RADIUS=500;X-TITLE=45 Maple Street:geo:-80.4029977,40.7051165
END:VEVENT
BEGIN:VEVENT
DTSTART;TZID=America/New_York:20240228T180000
DTEND;TZID=America/New_York:20240228T200000
DTSTAMP:20260421T095352
CREATED:20240202T200029Z
LAST-MODIFIED:20240202T200029Z
UID:10013632-1709143200-1709150400@www.bblutheran.com
SUMMARY:Lenten Supper and Service at HTLC
DESCRIPTION:Please join us for a Lenten Supper at 6:00 p.m. and a Service of Light Evening Prayer at 7:00 p.m.
URL:https://www.bblutheran.com/event/lenten-supper-and-service-at-htlc/
LOCATION:Holy Trinity Church\, 1098 3rd Street\, Beaver\, PA\, 15009\, United States
GEO:40.6930069;-80.3112194
X-APPLE-STRUCTURED-LOCATION;VALUE=URI;X-ADDRESS=Holy Trinity Church 1098 3rd Street Beaver PA 15009 United States;X-APPLE-RADIUS=500;X-TITLE=1098 3rd Street:geo:-80.3112194,40.6930069
END:VEVENT
BEGIN:VEVENT
DTSTART;TZID=UTC:20240225T110000
DTEND;TZID=UTC:20240225T120000
DTSTAMP:20260421T095352
CREATED:20230330T225552Z
LAST-MODIFIED:20230330T225552Z
UID:10000517-1708858800-1708862400@www.bblutheran.com
SUMMARY:Food Pantry Collection
DESCRIPTION:Collection for the the food panty in Darlington on the second of each month. The pantry is run by First Presbyterial Church in Darlington.
URL:https://www.bblutheran.com/event/food-pantry-collection/2024-02-25/
LOCATION:Hope Lutheran Church\, 45 Maple Street\, Beaver\, PA\, 15009\, United States
GEO:40.7051165;-80.4029977
X-APPLE-STRUCTURED-LOCATION;VALUE=URI;X-ADDRESS=Hope Lutheran Church 45 Maple Street Beaver PA 15009 United States;X-APPLE-RADIUS=500;X-TITLE=45 Maple Street:geo:-80.4029977,40.7051165
END:VEVENT
BEGIN:VEVENT
DTSTART;TZID=UTC:20240225T110000
DTEND;TZID=UTC:20240225T120000
DTSTAMP:20260421T095352
CREATED:20230201T202100Z
LAST-MODIFIED:20230201T202618Z
UID:10000096-1708858800-1708862400@www.bblutheran.com
SUMMARY:Worship at Hope 11:00 a.m.
DESCRIPTION:
URL:https://www.bblutheran.com/event/worship-at-1100-a-m/2024-02-25/
LOCATION:Hope Lutheran Church\, 45 Maple Street\, Beaver\, PA\, 15009\, United States
GEO:40.7051165;-80.4029977
X-APPLE-STRUCTURED-LOCATION;VALUE=URI;X-ADDRESS=Hope Lutheran Church 45 Maple Street Beaver PA 15009 United States;X-APPLE-RADIUS=500;X-TITLE=45 Maple Street:geo:-80.4029977,40.7051165
END:VEVENT
BEGIN:VEVENT
DTSTART;TZID=America/New_York:20240225T101500
DTEND;TZID=America/New_York:20240225T110000
DTSTAMP:20260421T095352
CREATED:20240202T201046Z
LAST-MODIFIED:20240202T201046Z
UID:10013642-1708856100-1708858800@www.bblutheran.com
SUMMARY:Coffee Hour before Worship at Hope
DESCRIPTION:
URL:https://www.bblutheran.com/event/coffee-hour-before-worship-at-hope/
LOCATION:Hope Lutheran Church\, 45 Maple Street\, Beaver\, PA\, 15009\, United States
GEO:40.7051165;-80.4029977
X-APPLE-STRUCTURED-LOCATION;VALUE=URI;X-ADDRESS=Hope Lutheran Church 45 Maple Street Beaver PA 15009 United States;X-APPLE-RADIUS=500;X-TITLE=45 Maple Street:geo:-80.4029977,40.7051165
END:VEVENT
BEGIN:VEVENT
DTSTART;TZID=America/New_York:20240225T091500
DTEND;TZID=America/New_York:20240225T103000
DTSTAMP:20260421T095352
CREATED:20240202T195357Z
LAST-MODIFIED:20240202T195357Z
UID:10013626-1708852500-1708857000@www.bblutheran.com
SUMMARY:Worship - HTLC
DESCRIPTION:
URL:https://www.bblutheran.com/event/worship-htlc-3/
LOCATION:Holy Trinity Church\, 1098 3rd Street\, Beaver\, PA\, 15009\, United States
GEO:40.6930069;-80.3112194
X-APPLE-STRUCTURED-LOCATION;VALUE=URI;X-ADDRESS=Holy Trinity Church 1098 3rd Street Beaver PA 15009 United States;X-APPLE-RADIUS=500;X-TITLE=1098 3rd Street:geo:-80.3112194,40.6930069
END:VEVENT
END:VCALENDAR