BEGIN:VCALENDAR
VERSION:2.0
PRODID:-// - ECPv6.3.3.1//NONSGML v1.0//EN
CALSCALE:GREGORIAN
METHOD:PUBLISH
X-ORIGINAL-URL:https://www.bblutheran.com
X-WR-CALDESC:Events for 
REFRESH-INTERVAL;VALUE=DURATION:PT1H
X-Robots-Tag:noindex
X-PUBLISHED-TTL:PT1H
BEGIN:VTIMEZONE
TZID:UTC
BEGIN:STANDARD
TZOFFSETFROM:+0000
TZOFFSETTO:+0000
TZNAME:UTC
DTSTART:20250101T000000
END:STANDARD
TZID:America/New_York
BEGIN:DAYLIGHT
TZOFFSETFROM:-0500
TZOFFSETTO:-0400
TZNAME:EDT
DTSTART:20250309T070000
END:DAYLIGHT
BEGIN:STANDARD
TZOFFSETFROM:-0400
TZOFFSETTO:-0500
TZNAME:EST
DTSTART:20251102T060000
END:STANDARD
END:VTIMEZONE
BEGIN:VEVENT
DTSTART;TZID=UTC:20250414T110000
DTEND;TZID=UTC:20250414T130000
DTSTAMP:20260422T181013
CREATED:20250328T154526Z
LAST-MODIFIED:20250328T154526Z
UID:10000556-1744628400-1744635600@www.bblutheran.com
SUMMARY:Grief Group at Hope
DESCRIPTION:Hope will be starting a Grief group on April 17th at 11:00 a.m. Anyone is welcomed to sign up on Sunday mornings or by calling Hope’s Church office.
URL:https://www.bblutheran.com/event/grief-group-at-hope-2-5/
LOCATION:Hope Lutheran Church\, 45 Maple Street\, Beaver\, PA\, 15009\, United States
GEO:40.7051165;-80.4029977
X-APPLE-STRUCTURED-LOCATION;VALUE=URI;X-ADDRESS=Hope Lutheran Church 45 Maple Street Beaver PA 15009 United States;X-APPLE-RADIUS=500;X-TITLE=45 Maple Street:geo:-80.4029977,40.7051165
END:VEVENT
BEGIN:VEVENT
DTSTART;TZID=America/New_York:20250417T190000
DTEND;TZID=America/New_York:20250417T200000
DTSTAMP:20260422T181013
CREATED:20250328T155114Z
LAST-MODIFIED:20250328T155114Z
UID:10032659-1744916400-1744920000@www.bblutheran.com
SUMMARY:Maundy Thursday Service at Holy Trinity
DESCRIPTION:
URL:https://www.bblutheran.com/event/maundy-thursday-service-at-holy-trinity-2/
LOCATION:Holy Trinity Church\, 1098 3rd Street\, Beaver\, PA\, 15009\, United States
GEO:40.6930069;-80.3112194
X-APPLE-STRUCTURED-LOCATION;VALUE=URI;X-ADDRESS=Holy Trinity Church 1098 3rd Street Beaver PA 15009 United States;X-APPLE-RADIUS=500;X-TITLE=1098 3rd Street:geo:-80.3112194,40.6930069
END:VEVENT
BEGIN:VEVENT
DTSTART;TZID=America/New_York:20250418T190000
DTEND;TZID=America/New_York:20250418T200000
DTSTAMP:20260422T181013
CREATED:20250328T155145Z
LAST-MODIFIED:20250328T155145Z
UID:10032660-1745002800-1745006400@www.bblutheran.com
SUMMARY:Good Friday Service at Hope
DESCRIPTION:
URL:https://www.bblutheran.com/event/good-friday-service-at-hope/
LOCATION:Hope Lutheran Church\, 45 Maple Street\, Beaver\, PA\, 15009\, United States
GEO:40.7051165;-80.4029977
X-APPLE-STRUCTURED-LOCATION;VALUE=URI;X-ADDRESS=Hope Lutheran Church 45 Maple Street Beaver PA 15009 United States;X-APPLE-RADIUS=500;X-TITLE=45 Maple Street:geo:-80.4029977,40.7051165
END:VEVENT
BEGIN:VEVENT
DTSTART;TZID=America/New_York:20250420T080000
DTEND;TZID=America/New_York:20250420T170000
DTSTAMP:20260422T181013
CREATED:20250328T155209Z
LAST-MODIFIED:20250328T155513Z
UID:10032661-1745136000-1745168400@www.bblutheran.com
SUMMARY:Happy Easter
DESCRIPTION:
URL:https://www.bblutheran.com/event/happy-easter/
LOCATION:PA
END:VEVENT
BEGIN:VEVENT
DTSTART;TZID=America/New_York:20250420T110000
DTEND;TZID=America/New_York:20250420T120000
DTSTAMP:20260422T181013
CREATED:20250328T155247Z
LAST-MODIFIED:20250328T155247Z
UID:10032662-1745146800-1745150400@www.bblutheran.com
SUMMARY:House of Prayer donations at Hope
DESCRIPTION:
URL:https://www.bblutheran.com/event/house-of-prayer-donations-at-hope/
LOCATION:Hope Lutheran Church\, 45 Maple Street\, Beaver\, PA\, 15009\, United States
GEO:40.7051165;-80.4029977
X-APPLE-STRUCTURED-LOCATION;VALUE=URI;X-ADDRESS=Hope Lutheran Church 45 Maple Street Beaver PA 15009 United States;X-APPLE-RADIUS=500;X-TITLE=45 Maple Street:geo:-80.4029977,40.7051165
END:VEVENT
BEGIN:VEVENT
DTSTART;TZID=America/New_York:20250423T190000
DTEND;TZID=America/New_York:20250423T203000
DTSTAMP:20260422T181013
CREATED:20250328T155901Z
LAST-MODIFIED:20250328T155901Z
UID:10032666-1745434800-1745440200@www.bblutheran.com
SUMMARY:Holy Trinity Council meeting 7:00 p.m.
DESCRIPTION:
URL:https://www.bblutheran.com/event/holy-trinity-council-meeting-700-p-m/
LOCATION:Holy Trinity Church\, 1098 3rd Street\, Beaver\, PA\, 15009\, United States
GEO:40.6930069;-80.3112194
X-APPLE-STRUCTURED-LOCATION;VALUE=URI;X-ADDRESS=Holy Trinity Church 1098 3rd Street Beaver PA 15009 United States;X-APPLE-RADIUS=500;X-TITLE=1098 3rd Street:geo:-80.3112194,40.6930069
END:VEVENT
BEGIN:VEVENT
DTSTART;TZID=America/New_York:20250424T080000
DTEND;TZID=America/New_York:20250424T170000
DTSTAMP:20260422T181013
CREATED:20250226T231209Z
LAST-MODIFIED:20250328T155602Z
UID:10031384-1745481600-1745514000@www.bblutheran.com
SUMMARY:Newsletter Information Due
DESCRIPTION:
URL:https://www.bblutheran.com/event/newsletter-information-due-14/
LOCATION:PA
END:VEVENT
BEGIN:VEVENT
DTSTART;TZID=America/New_York:20250426T080000
DTEND;TZID=America/New_York:20250426T140000
DTSTAMP:20260422T181013
CREATED:20250328T160954Z
LAST-MODIFIED:20250328T160954Z
UID:10032667-1745654400-1745676000@www.bblutheran.com
SUMMARY:Women's Retreat at Hope
DESCRIPTION:
URL:https://www.bblutheran.com/event/womens-retreat-at-hope-2/
LOCATION:Hope Lutheran Church\, 45 Maple Street\, Beaver\, PA\, 15009\, United States
GEO:40.7051165;-80.4029977
X-APPLE-STRUCTURED-LOCATION;VALUE=URI;X-ADDRESS=Hope Lutheran Church 45 Maple Street Beaver PA 15009 United States;X-APPLE-RADIUS=500;X-TITLE=45 Maple Street:geo:-80.4029977,40.7051165
END:VEVENT
BEGIN:VEVENT
DTSTART;TZID=America/New_York:20250427T101500
DTEND;TZID=America/New_York:20250427T110000
DTSTAMP:20260422T181013
CREATED:20250328T155407Z
LAST-MODIFIED:20250328T155407Z
UID:10032664-1745748900-1745751600@www.bblutheran.com
SUMMARY:Coffee Hour at Hope 10:15 a.m.
DESCRIPTION:
URL:https://www.bblutheran.com/event/coffee-hour-at-hope-1015-a-m-2/
LOCATION:Hope Lutheran Church\, 45 Maple Street\, Beaver\, PA\, 15009\, United States
GEO:40.7051165;-80.4029977
X-APPLE-STRUCTURED-LOCATION;VALUE=URI;X-ADDRESS=Hope Lutheran Church 45 Maple Street Beaver PA 15009 United States;X-APPLE-RADIUS=500;X-TITLE=45 Maple Street:geo:-80.4029977,40.7051165
END:VEVENT
BEGIN:VEVENT
DTSTART;TZID=UTC:20250428T110000
DTEND;TZID=UTC:20250428T130000
DTSTAMP:20260422T181013
CREATED:20230427T201051Z
LAST-MODIFIED:20230427T201052Z
UID:10000557-1745838000-1745845200@www.bblutheran.com
SUMMARY:Grief Group at Hope
DESCRIPTION:Hope will be starting a Grief group on April 17th at 11:00 a.m. Anyone is welcomed to sign up on Sunday mornings or by calling Hope’s Church office.
URL:https://www.bblutheran.com/event/grief-group-at-hope-2/2025-04-28/
LOCATION:Hope Lutheran Church\, 45 Maple Street\, Beaver\, PA\, 15009\, United States
GEO:40.7051165;-80.4029977
X-APPLE-STRUCTURED-LOCATION;VALUE=URI;X-ADDRESS=Hope Lutheran Church 45 Maple Street Beaver PA 15009 United States;X-APPLE-RADIUS=500;X-TITLE=45 Maple Street:geo:-80.4029977,40.7051165
END:VEVENT
BEGIN:VEVENT
DTSTART;TZID=America/New_York:20250504T110000
DTEND;TZID=America/New_York:20250504T120000
DTSTAMP:20260422T181013
CREATED:20250502T155955Z
LAST-MODIFIED:20250502T155955Z
UID:10034241-1746356400-1746360000@www.bblutheran.com
SUMMARY:Men's Shelter Donations at Hope
DESCRIPTION:
URL:https://www.bblutheran.com/event/mens-shelter-donations-at-hope-6/
LOCATION:Hope Lutheran Church\, 45 Maple Street\, Beaver\, PA\, 15009\, United States
GEO:40.7051165;-80.4029977
X-APPLE-STRUCTURED-LOCATION;VALUE=URI;X-ADDRESS=Hope Lutheran Church 45 Maple Street Beaver PA 15009 United States;X-APPLE-RADIUS=500;X-TITLE=45 Maple Street:geo:-80.4029977,40.7051165
END:VEVENT
BEGIN:VEVENT
DTSTART;TZID=America/New_York:20250504T160000
DTEND;TZID=America/New_York:20250504T180000
DTSTAMP:20260422T181013
CREATED:20250502T155900Z
LAST-MODIFIED:20250502T155900Z
UID:10034240-1746374400-1746381600@www.bblutheran.com
SUMMARY:Ukraine Concert at Park Presbyterian Church 4:00 p.m.
DESCRIPTION:
URL:https://www.bblutheran.com/event/ukraine-concert-at-park-presbyterian-church-400-p-m/
LOCATION:Park Presbyterian Church\, 275 Commerce Street\, Beaver\, PA\, 15009
GEO:40.6930195;-80.3084232
X-APPLE-STRUCTURED-LOCATION;VALUE=URI;X-ADDRESS=Park Presbyterian Church 275 Commerce Street Beaver PA 15009;X-APPLE-RADIUS=500;X-TITLE=275 Commerce Street:geo:-80.3084232,40.6930195
END:VEVENT
BEGIN:VEVENT
DTSTART;TZID=UTC:20250505T110000
DTEND;TZID=UTC:20250505T133000
DTSTAMP:20260422T181013
CREATED:20230427T201158Z
LAST-MODIFIED:20230427T201158Z
UID:10000624-1746442800-1746451800@www.bblutheran.com
SUMMARY:Bible Study at Holy Trinity
DESCRIPTION:All are welcome to join in a Bible study being held at Holy Trinity at 11:00 a.m. in the Fellowship hall.
URL:https://www.bblutheran.com/event/bible-study-at-holy-trinity-2-2/2025-05-05/
LOCATION:Holy Trinity Church\, 1098 3rd Street\, Beaver\, PA\, 15009\, United States
GEO:40.6930069;-80.3112194
X-APPLE-STRUCTURED-LOCATION;VALUE=URI;X-ADDRESS=Holy Trinity Church 1098 3rd Street Beaver PA 15009 United States;X-APPLE-RADIUS=500;X-TITLE=1098 3rd Street:geo:-80.3112194,40.6930069
END:VEVENT
BEGIN:VEVENT
DTSTART;TZID=America/New_York:20250511T080000
DTEND;TZID=America/New_York:20250511T170000
DTSTAMP:20260422T181013
CREATED:20250502T160024Z
LAST-MODIFIED:20250502T160024Z
UID:10034242-1746950400-1746982800@www.bblutheran.com
SUMMARY:Happy Mother's Day
DESCRIPTION:
URL:https://www.bblutheran.com/event/happy-mothers-day/
LOCATION:PA
END:VEVENT
BEGIN:VEVENT
DTSTART;TZID=America/New_York:20250511T091500
DTEND;TZID=America/New_York:20250511T103000
DTSTAMP:20260422T181013
CREATED:20250502T160418Z
LAST-MODIFIED:20250502T160418Z
UID:10034247-1746954900-1746959400@www.bblutheran.com
SUMMARY:Loose offering at Holy Trinity
DESCRIPTION:
URL:https://www.bblutheran.com/event/loose-offering-at-holy-trinity-2/
LOCATION:Holy Trinity Church\, 1098 3rd Street\, Beaver\, PA\, 15009\, United States
GEO:40.6930069;-80.3112194
X-APPLE-STRUCTURED-LOCATION;VALUE=URI;X-ADDRESS=Holy Trinity Church 1098 3rd Street Beaver PA 15009 United States;X-APPLE-RADIUS=500;X-TITLE=1098 3rd Street:geo:-80.3112194,40.6930069
END:VEVENT
BEGIN:VEVENT
DTSTART;TZID=America/New_York:20250511T110000
DTEND;TZID=America/New_York:20250511T120000
DTSTAMP:20260422T181013
CREATED:20250502T160102Z
LAST-MODIFIED:20250502T160102Z
UID:10034243-1746961200-1746964800@www.bblutheran.com
SUMMARY:Women's Center Donations at Hope
DESCRIPTION:
URL:https://www.bblutheran.com/event/womens-center-donations-at-hope-2/
LOCATION:Hope Lutheran Church\, 45 Maple Street\, Beaver\, PA\, 15009\, United States
GEO:40.7051165;-80.4029977
X-APPLE-STRUCTURED-LOCATION;VALUE=URI;X-ADDRESS=Hope Lutheran Church 45 Maple Street Beaver PA 15009 United States;X-APPLE-RADIUS=500;X-TITLE=45 Maple Street:geo:-80.4029977,40.7051165
END:VEVENT
BEGIN:VEVENT
DTSTART;TZID=America/New_York:20250512T080000
DTEND;TZID=America/New_York:20250512T170000
DTSTAMP:20260422T181013
CREATED:20250502T160503Z
LAST-MODIFIED:20250502T160503Z
UID:10034248-1747036800-1747069200@www.bblutheran.com
SUMMARY:Men's Shelter Dinner - Holy Trinity
DESCRIPTION:
URL:https://www.bblutheran.com/event/mens-shelter-dinner-holy-trinity-3/
LOCATION:Holy Trinity Church\, 1098 3rd Street\, Beaver\, PA\, 15009\, United States
GEO:40.6930069;-80.3112194
X-APPLE-STRUCTURED-LOCATION;VALUE=URI;X-ADDRESS=Holy Trinity Church 1098 3rd Street Beaver PA 15009 United States;X-APPLE-RADIUS=500;X-TITLE=1098 3rd Street:geo:-80.3112194,40.6930069
END:VEVENT
BEGIN:VEVENT
DTSTART;TZID=America/New_York:20250513T120000
DTEND;TZID=America/New_York:20250513T140000
DTSTAMP:20260422T181013
CREATED:20250502T150409Z
LAST-MODIFIED:20250502T150514Z
UID:10034238-1747137600-1747144800@www.bblutheran.com
SUMMARY:Circle of Hope @ Noon
DESCRIPTION:
URL:https://www.bblutheran.com/event/circle-of-hope-noon/
LOCATION:Hope Lutheran Church\, 45 Maple Street\, Beaver\, PA\, 15009\, United States
GEO:40.7051165;-80.4029977
X-APPLE-STRUCTURED-LOCATION;VALUE=URI;X-ADDRESS=Hope Lutheran Church 45 Maple Street Beaver PA 15009 United States;X-APPLE-RADIUS=500;X-TITLE=45 Maple Street:geo:-80.4029977,40.7051165
END:VEVENT
BEGIN:VEVENT
DTSTART;TZID=America/New_York:20250518T110000
DTEND;TZID=America/New_York:20250518T120000
DTSTAMP:20260422T181013
CREATED:20250502T160140Z
LAST-MODIFIED:20250502T160140Z
UID:10034244-1747566000-1747569600@www.bblutheran.com
SUMMARY:House of Prayer Donations at Hope
DESCRIPTION:
URL:https://www.bblutheran.com/event/house-of-prayer-donations-at-hope-2/
LOCATION:Hope Lutheran Church\, 45 Maple Street\, Beaver\, PA\, 15009\, United States
GEO:40.7051165;-80.4029977
X-APPLE-STRUCTURED-LOCATION;VALUE=URI;X-ADDRESS=Hope Lutheran Church 45 Maple Street Beaver PA 15009 United States;X-APPLE-RADIUS=500;X-TITLE=45 Maple Street:geo:-80.4029977,40.7051165
END:VEVENT
BEGIN:VEVENT
DTSTART;TZID=America/New_York:20250518T120000
DTEND;TZID=America/New_York:20250518T140000
DTSTAMP:20260422T181013
CREATED:20250502T160222Z
LAST-MODIFIED:20250502T160222Z
UID:10034245-1747569600-1747576800@www.bblutheran.com
SUMMARY:Hope Council meets after Worship
DESCRIPTION:
URL:https://www.bblutheran.com/event/hope-council-meets-after-worship/
LOCATION:Hope Lutheran Church\, 45 Maple Street\, Beaver\, PA\, 15009\, United States
GEO:40.7051165;-80.4029977
X-APPLE-STRUCTURED-LOCATION;VALUE=URI;X-ADDRESS=Hope Lutheran Church 45 Maple Street Beaver PA 15009 United States;X-APPLE-RADIUS=500;X-TITLE=45 Maple Street:geo:-80.4029977,40.7051165
END:VEVENT
BEGIN:VEVENT
DTSTART;TZID=UTC:20250519T110000
DTEND;TZID=UTC:20250519T130000
DTSTAMP:20260422T181013
CREATED:20230427T201051Z
LAST-MODIFIED:20230427T201052Z
UID:10000558-1747652400-1747659600@www.bblutheran.com
SUMMARY:Grief Group at Hope
DESCRIPTION:Hope will be starting a Grief group on April 17th at 11:00 a.m. Anyone is welcomed to sign up on Sunday mornings or by calling Hope’s Church office.
URL:https://www.bblutheran.com/event/grief-group-at-hope-2/2025-05-19/
LOCATION:Hope Lutheran Church\, 45 Maple Street\, Beaver\, PA\, 15009\, United States
GEO:40.7051165;-80.4029977
X-APPLE-STRUCTURED-LOCATION;VALUE=URI;X-ADDRESS=Hope Lutheran Church 45 Maple Street Beaver PA 15009 United States;X-APPLE-RADIUS=500;X-TITLE=45 Maple Street:geo:-80.4029977,40.7051165
END:VEVENT
BEGIN:VEVENT
DTSTART;TZID=America/New_York:20250520T080000
DTEND;TZID=America/New_York:20250520T170000
DTSTAMP:20260422T181013
CREATED:20250502T160619Z
LAST-MODIFIED:20250502T160619Z
UID:10034249-1747728000-1747760400@www.bblutheran.com
SUMMARY:Election Day
DESCRIPTION:
URL:https://www.bblutheran.com/event/election-day-2/
LOCATION:PA
END:VEVENT
BEGIN:VEVENT
DTSTART;TZID=America/New_York:20250521T190000
DTEND;TZID=America/New_York:20250521T210000
DTSTAMP:20260422T181013
CREATED:20250502T160707Z
LAST-MODIFIED:20250502T160707Z
UID:10034250-1747854000-1747861200@www.bblutheran.com
SUMMARY:Holy Trinity Council Meeting
DESCRIPTION:
URL:https://www.bblutheran.com/event/holy-trinity-council-meeting-11/
LOCATION:Holy Trinity Church\, 1098 3rd Street\, Beaver\, PA\, 15009\, United States
GEO:40.6930069;-80.3112194
X-APPLE-STRUCTURED-LOCATION;VALUE=URI;X-ADDRESS=Holy Trinity Church 1098 3rd Street Beaver PA 15009 United States;X-APPLE-RADIUS=500;X-TITLE=1098 3rd Street:geo:-80.3112194,40.6930069
END:VEVENT
BEGIN:VEVENT
DTSTART;TZID=America/New_York:20250524T080000
DTEND;TZID=America/New_York:20250524T170000
DTSTAMP:20260422T181013
CREATED:20250502T155446Z
LAST-MODIFIED:20250502T155446Z
UID:10034239-1748073600-1748106000@www.bblutheran.com
SUMMARY:Newsletter information Due
DESCRIPTION:
URL:https://www.bblutheran.com/event/newsletter-information-due-15/
LOCATION:PA
END:VEVENT
BEGIN:VEVENT
DTSTART;TZID=America/New_York:20250525T101500
DTEND;TZID=America/New_York:20250525T110000
DTSTAMP:20260422T181013
CREATED:20250502T160311Z
LAST-MODIFIED:20250502T161359Z
UID:10034246-1748168100-1748170800@www.bblutheran.com
SUMMARY:Katie Luther's Kaffeeklatsch (Coffee hour) at Hope
DESCRIPTION:
URL:https://www.bblutheran.com/event/coffee-hour-at-hope-4/
LOCATION:Hope Lutheran Church\, 45 Maple Street\, Beaver\, PA\, 15009\, United States
GEO:40.7051165;-80.4029977
X-APPLE-STRUCTURED-LOCATION;VALUE=URI;X-ADDRESS=Hope Lutheran Church 45 Maple Street Beaver PA 15009 United States;X-APPLE-RADIUS=500;X-TITLE=45 Maple Street:geo:-80.4029977,40.7051165
END:VEVENT
BEGIN:VEVENT
DTSTART;TZID=UTC:20250602T110000
DTEND;TZID=UTC:20250602T133000
DTSTAMP:20260422T181013
CREATED:20230427T201158Z
LAST-MODIFIED:20230427T201158Z
UID:10000625-1748862000-1748871000@www.bblutheran.com
SUMMARY:Bible Study at Holy Trinity
DESCRIPTION:All are welcome to join in a Bible study being held at Holy Trinity at 11:00 a.m. in the Fellowship hall.
URL:https://www.bblutheran.com/event/bible-study-at-holy-trinity-2-2/2025-06-02/
LOCATION:Holy Trinity Church\, 1098 3rd Street\, Beaver\, PA\, 15009\, United States
GEO:40.6930069;-80.3112194
X-APPLE-STRUCTURED-LOCATION;VALUE=URI;X-ADDRESS=Holy Trinity Church 1098 3rd Street Beaver PA 15009 United States;X-APPLE-RADIUS=500;X-TITLE=1098 3rd Street:geo:-80.3112194,40.6930069
END:VEVENT
BEGIN:VEVENT
DTSTART;TZID=UTC:20250609T110000
DTEND;TZID=UTC:20250609T130000
DTSTAMP:20260422T181013
CREATED:20230427T201051Z
LAST-MODIFIED:20230427T201052Z
UID:10000559-1749466800-1749474000@www.bblutheran.com
SUMMARY:Grief Group at Hope
DESCRIPTION:Hope will be starting a Grief group on April 17th at 11:00 a.m. Anyone is welcomed to sign up on Sunday mornings or by calling Hope’s Church office.
URL:https://www.bblutheran.com/event/grief-group-at-hope-2/2025-06-09/
LOCATION:Hope Lutheran Church\, 45 Maple Street\, Beaver\, PA\, 15009\, United States
GEO:40.7051165;-80.4029977
X-APPLE-STRUCTURED-LOCATION;VALUE=URI;X-ADDRESS=Hope Lutheran Church 45 Maple Street Beaver PA 15009 United States;X-APPLE-RADIUS=500;X-TITLE=45 Maple Street:geo:-80.4029977,40.7051165
END:VEVENT
BEGIN:VEVENT
DTSTART;TZID=America/New_York:20250615T080000
DTEND;TZID=America/New_York:20250615T170000
DTSTAMP:20260422T181013
CREATED:20250602T142723Z
LAST-MODIFIED:20250602T142723Z
UID:10035835-1749974400-1750006800@www.bblutheran.com
SUMMARY:Happy Father's Day
DESCRIPTION:
URL:https://www.bblutheran.com/event/happy-fathers-day-2/
LOCATION:PA
END:VEVENT
BEGIN:VEVENT
DTSTART;TZID=America/New_York:20250615T091500
DTEND;TZID=America/New_York:20250615T101500
DTSTAMP:20260422T181014
CREATED:20250613T002622Z
LAST-MODIFIED:20250613T002622Z
UID:10036151-1749978900-1749982500@www.bblutheran.com
SUMMARY:Holy Trinity Worship 9:15 a.m.
DESCRIPTION:
URL:https://www.bblutheran.com/event/holy-trinity-worship-915-a-m/2025-06-15/
LOCATION:Holy Trinity Church\, 1098 3rd Street\, Beaver\, PA\, 15009\, United States
GEO:40.6930069;-80.3112194
X-APPLE-STRUCTURED-LOCATION;VALUE=URI;X-ADDRESS=Holy Trinity Church 1098 3rd Street Beaver PA 15009 United States;X-APPLE-RADIUS=500;X-TITLE=1098 3rd Street:geo:-80.3112194,40.6930069
END:VEVENT
BEGIN:VEVENT
DTSTART;TZID=America/New_York:20250615T110000
DTEND;TZID=America/New_York:20250615T120000
DTSTAMP:20260422T181014
CREATED:20250613T002820Z
LAST-MODIFIED:20250613T002820Z
UID:10036412-1749985200-1749988800@www.bblutheran.com
SUMMARY:Hope Worship 11:00 a.m.
DESCRIPTION:
URL:https://www.bblutheran.com/event/hope-worship-1100-a-m/2025-06-15/
LOCATION:Hope Lutheran Church\, 45 Maple Street\, Beaver\, PA\, 15009\, United States
GEO:40.7051165;-80.4029977
X-APPLE-STRUCTURED-LOCATION;VALUE=URI;X-ADDRESS=Hope Lutheran Church 45 Maple Street Beaver PA 15009 United States;X-APPLE-RADIUS=500;X-TITLE=45 Maple Street:geo:-80.4029977,40.7051165
END:VEVENT
END:VCALENDAR