BEGIN:VCALENDAR
VERSION:2.0
PRODID:-// - ECPv6.3.3.1//NONSGML v1.0//EN
CALSCALE:GREGORIAN
METHOD:PUBLISH
X-ORIGINAL-URL:https://www.bblutheran.com
X-WR-CALDESC:Events for 
REFRESH-INTERVAL;VALUE=DURATION:PT1H
X-Robots-Tag:noindex
X-PUBLISHED-TTL:PT1H
BEGIN:VTIMEZONE
TZID:UTC
BEGIN:STANDARD
TZOFFSETFROM:+0000
TZOFFSETTO:+0000
TZNAME:UTC
DTSTART:20250101T000000
END:STANDARD
TZID:America/New_York
BEGIN:DAYLIGHT
TZOFFSETFROM:-0500
TZOFFSETTO:-0400
TZNAME:EDT
DTSTART:20250309T070000
END:DAYLIGHT
BEGIN:STANDARD
TZOFFSETFROM:-0400
TZOFFSETTO:-0500
TZNAME:EST
DTSTART:20251102T060000
END:STANDARD
END:VTIMEZONE
BEGIN:VEVENT
DTSTART;TZID=UTC:20250707T110000
DTEND;TZID=UTC:20250707T133000
DTSTAMP:20260421T160208
CREATED:20230427T201158Z
LAST-MODIFIED:20230427T201158Z
UID:10000626-1751886000-1751895000@www.bblutheran.com
SUMMARY:Bible Study at Holy Trinity
DESCRIPTION:All are welcome to join in a Bible study being held at Holy Trinity at 11:00 a.m. in the Fellowship hall.
URL:https://www.bblutheran.com/event/bible-study-at-holy-trinity-2-2/2025-07-07/
LOCATION:Holy Trinity Church\, 1098 3rd Street\, Beaver\, PA\, 15009\, United States
GEO:40.6930069;-80.3112194
X-APPLE-STRUCTURED-LOCATION;VALUE=URI;X-ADDRESS=Holy Trinity Church 1098 3rd Street Beaver PA 15009 United States;X-APPLE-RADIUS=500;X-TITLE=1098 3rd Street:geo:-80.3112194,40.6930069
END:VEVENT
BEGIN:VEVENT
DTSTART;TZID=America/New_York:20250707T090000
DTEND;TZID=America/New_York:20250707T113000
DTSTAMP:20260421T160208
CREATED:20250602T141422Z
LAST-MODIFIED:20250602T141422Z
UID:10035826-1751878800-1751887800@www.bblutheran.com
SUMMARY:Vacation Bible School at Holy Trinity
DESCRIPTION:
URL:https://www.bblutheran.com/event/vacation-bible-school-at-holy-trinity-5/
LOCATION:Holy Trinity Church\, 1098 3rd Street\, Beaver\, PA\, 15009\, United States
GEO:40.6930069;-80.3112194
X-APPLE-STRUCTURED-LOCATION;VALUE=URI;X-ADDRESS=Holy Trinity Church 1098 3rd Street Beaver PA 15009 United States;X-APPLE-RADIUS=500;X-TITLE=1098 3rd Street:geo:-80.3112194,40.6930069
END:VEVENT
BEGIN:VEVENT
DTSTART;TZID=America/New_York:20250706T110000
DTEND;TZID=America/New_York:20250706T120000
DTSTAMP:20260421T160208
CREATED:20250613T002820Z
LAST-MODIFIED:20250613T002820Z
UID:10036415-1751799600-1751803200@www.bblutheran.com
SUMMARY:Hope Worship 11:00 a.m.
DESCRIPTION:
URL:https://www.bblutheran.com/event/hope-worship-1100-a-m/2025-07-06/
LOCATION:Hope Lutheran Church\, 45 Maple Street\, Beaver\, PA\, 15009\, United States
GEO:40.7051165;-80.4029977
X-APPLE-STRUCTURED-LOCATION;VALUE=URI;X-ADDRESS=Hope Lutheran Church 45 Maple Street Beaver PA 15009 United States;X-APPLE-RADIUS=500;X-TITLE=45 Maple Street:geo:-80.4029977,40.7051165
END:VEVENT
BEGIN:VEVENT
DTSTART;TZID=America/New_York:20250706T091500
DTEND;TZID=America/New_York:20250706T101500
DTSTAMP:20260421T160208
CREATED:20250613T002622Z
LAST-MODIFIED:20250613T002622Z
UID:10036154-1751793300-1751796900@www.bblutheran.com
SUMMARY:Holy Trinity Worship 9:15 a.m.
DESCRIPTION:
URL:https://www.bblutheran.com/event/holy-trinity-worship-915-a-m/2025-07-06/
LOCATION:Holy Trinity Church\, 1098 3rd Street\, Beaver\, PA\, 15009\, United States
GEO:40.6930069;-80.3112194
X-APPLE-STRUCTURED-LOCATION;VALUE=URI;X-ADDRESS=Holy Trinity Church 1098 3rd Street Beaver PA 15009 United States;X-APPLE-RADIUS=500;X-TITLE=1098 3rd Street:geo:-80.3112194,40.6930069
END:VEVENT
BEGIN:VEVENT
DTSTART;TZID=UTC:20250630T110000
DTEND;TZID=UTC:20250630T130000
DTSTAMP:20260421T160208
CREATED:20230427T201051Z
LAST-MODIFIED:20230427T201052Z
UID:10000560-1751281200-1751288400@www.bblutheran.com
SUMMARY:Grief Group at Hope
DESCRIPTION:Hope will be starting a Grief group on April 17th at 11:00 a.m. Anyone is welcomed to sign up on Sunday mornings or by calling Hope’s Church office.
URL:https://www.bblutheran.com/event/grief-group-at-hope-2/2025-06-30/
LOCATION:Hope Lutheran Church\, 45 Maple Street\, Beaver\, PA\, 15009\, United States
GEO:40.7051165;-80.4029977
X-APPLE-STRUCTURED-LOCATION;VALUE=URI;X-ADDRESS=Hope Lutheran Church 45 Maple Street Beaver PA 15009 United States;X-APPLE-RADIUS=500;X-TITLE=45 Maple Street:geo:-80.4029977,40.7051165
END:VEVENT
BEGIN:VEVENT
DTSTART;TZID=America/New_York:20250629T110000
DTEND;TZID=America/New_York:20250629T120000
DTSTAMP:20260421T160208
CREATED:20250613T002820Z
LAST-MODIFIED:20250613T002820Z
UID:10036414-1751194800-1751198400@www.bblutheran.com
SUMMARY:Hope Worship 11:00 a.m.
DESCRIPTION:
URL:https://www.bblutheran.com/event/hope-worship-1100-a-m/2025-06-29/
LOCATION:Hope Lutheran Church\, 45 Maple Street\, Beaver\, PA\, 15009\, United States
GEO:40.7051165;-80.4029977
X-APPLE-STRUCTURED-LOCATION;VALUE=URI;X-ADDRESS=Hope Lutheran Church 45 Maple Street Beaver PA 15009 United States;X-APPLE-RADIUS=500;X-TITLE=45 Maple Street:geo:-80.4029977,40.7051165
END:VEVENT
BEGIN:VEVENT
DTSTART;TZID=America/New_York:20250629T091500
DTEND;TZID=America/New_York:20250629T101500
DTSTAMP:20260421T160208
CREATED:20250613T002622Z
LAST-MODIFIED:20250613T002622Z
UID:10036153-1751188500-1751192100@www.bblutheran.com
SUMMARY:Holy Trinity Worship 9:15 a.m.
DESCRIPTION:
URL:https://www.bblutheran.com/event/holy-trinity-worship-915-a-m/2025-06-29/
LOCATION:Holy Trinity Church\, 1098 3rd Street\, Beaver\, PA\, 15009\, United States
GEO:40.6930069;-80.3112194
X-APPLE-STRUCTURED-LOCATION;VALUE=URI;X-ADDRESS=Holy Trinity Church 1098 3rd Street Beaver PA 15009 United States;X-APPLE-RADIUS=500;X-TITLE=1098 3rd Street:geo:-80.3112194,40.6930069
END:VEVENT
BEGIN:VEVENT
DTSTART;TZID=America/New_York:20250626T090000
DTEND;TZID=America/New_York:20250626T113000
DTSTAMP:20260421T160208
CREATED:20250602T141353Z
LAST-MODIFIED:20250602T141353Z
UID:10035825-1750928400-1750937400@www.bblutheran.com
SUMMARY:Vacation Bible School at Holy Trinity
DESCRIPTION:
URL:https://www.bblutheran.com/event/vacation-bible-school-at-holy-trinity-4/
LOCATION:Holy Trinity Church\, 1098 3rd Street\, Beaver\, PA\, 15009\, United States
GEO:40.6930069;-80.3112194
X-APPLE-STRUCTURED-LOCATION;VALUE=URI;X-ADDRESS=Holy Trinity Church 1098 3rd Street Beaver PA 15009 United States;X-APPLE-RADIUS=500;X-TITLE=1098 3rd Street:geo:-80.3112194,40.6930069
END:VEVENT
BEGIN:VEVENT
DTSTART;TZID=America/New_York:20250624T080000
DTEND;TZID=America/New_York:20250624T170000
DTSTAMP:20260421T160208
CREATED:20250602T142748Z
LAST-MODIFIED:20250602T142748Z
UID:10035836-1750752000-1750784400@www.bblutheran.com
SUMMARY:Newsletter information due
DESCRIPTION:
URL:https://www.bblutheran.com/event/newsletter-information-due-16/
LOCATION:PA
END:VEVENT
BEGIN:VEVENT
DTSTART;TZID=America/New_York:20250623T090000
DTEND;TZID=America/New_York:20250623T113000
DTSTAMP:20260421T160208
CREATED:20250602T141321Z
LAST-MODIFIED:20250602T141321Z
UID:10035824-1750669200-1750678200@www.bblutheran.com
SUMMARY:Vacation Bible School at Holy Trinity
DESCRIPTION:
URL:https://www.bblutheran.com/event/vacation-bible-school-at-holy-trinity-3/
LOCATION:Holy Trinity Church\, 1098 3rd Street\, Beaver\, PA\, 15009\, United States
GEO:40.6930069;-80.3112194
X-APPLE-STRUCTURED-LOCATION;VALUE=URI;X-ADDRESS=Holy Trinity Church 1098 3rd Street Beaver PA 15009 United States;X-APPLE-RADIUS=500;X-TITLE=1098 3rd Street:geo:-80.3112194,40.6930069
END:VEVENT
BEGIN:VEVENT
DTSTART;TZID=America/New_York:20250622T120000
DTEND;TZID=America/New_York:20250622T140000
DTSTAMP:20260421T160208
CREATED:20250602T142655Z
LAST-MODIFIED:20250602T142655Z
UID:10035834-1750593600-1750600800@www.bblutheran.com
SUMMARY:Hope Council will meet following worship
DESCRIPTION:
URL:https://www.bblutheran.com/event/hope-council-will-meet-following-worship-2/
LOCATION:Hope Lutheran Church\, 45 Maple Street\, Beaver\, PA\, 15009\, United States
GEO:40.7051165;-80.4029977
X-APPLE-STRUCTURED-LOCATION;VALUE=URI;X-ADDRESS=Hope Lutheran Church 45 Maple Street Beaver PA 15009 United States;X-APPLE-RADIUS=500;X-TITLE=45 Maple Street:geo:-80.4029977,40.7051165
END:VEVENT
BEGIN:VEVENT
DTSTART;TZID=America/New_York:20250622T110000
DTEND;TZID=America/New_York:20250622T120000
DTSTAMP:20260421T160208
CREATED:20250613T002820Z
LAST-MODIFIED:20250613T002820Z
UID:10036413-1750590000-1750593600@www.bblutheran.com
SUMMARY:Hope Worship 11:00 a.m.
DESCRIPTION:
URL:https://www.bblutheran.com/event/hope-worship-1100-a-m/2025-06-22/
LOCATION:Hope Lutheran Church\, 45 Maple Street\, Beaver\, PA\, 15009\, United States
GEO:40.7051165;-80.4029977
X-APPLE-STRUCTURED-LOCATION;VALUE=URI;X-ADDRESS=Hope Lutheran Church 45 Maple Street Beaver PA 15009 United States;X-APPLE-RADIUS=500;X-TITLE=45 Maple Street:geo:-80.4029977,40.7051165
END:VEVENT
BEGIN:VEVENT
DTSTART;TZID=America/New_York:20250622T091500
DTEND;TZID=America/New_York:20250622T101500
DTSTAMP:20260421T160208
CREATED:20250613T002622Z
LAST-MODIFIED:20250613T002622Z
UID:10036152-1750583700-1750587300@www.bblutheran.com
SUMMARY:Holy Trinity Worship 9:15 a.m.
DESCRIPTION:
URL:https://www.bblutheran.com/event/holy-trinity-worship-915-a-m/2025-06-22/
LOCATION:Holy Trinity Church\, 1098 3rd Street\, Beaver\, PA\, 15009\, United States
GEO:40.6930069;-80.3112194
X-APPLE-STRUCTURED-LOCATION;VALUE=URI;X-ADDRESS=Holy Trinity Church 1098 3rd Street Beaver PA 15009 United States;X-APPLE-RADIUS=500;X-TITLE=1098 3rd Street:geo:-80.3112194,40.6930069
END:VEVENT
BEGIN:VEVENT
DTSTART;TZID=America/New_York:20250621T080000
DTEND;TZID=America/New_York:20250621T170000
DTSTAMP:20260421T160208
CREATED:20250602T142533Z
LAST-MODIFIED:20250602T142533Z
UID:10035833-1750492800-1750525200@www.bblutheran.com
SUMMARY:Parish Yard Sale at Hope
DESCRIPTION:No Electronics\, please take your items to Hope. Sunday June 15th begins set up\, will move tables after Worship. Also set up schedule during the week. \nMonday\, June 16th set up from 9 a.m. to 12 p.m.\nTuesday\, June 17th 9 a.m. to ?\nWednesday\, June 18th 1 p.m. to 4 p.m.\nFriday\, June 20th 9 a.m to ?
URL:https://www.bblutheran.com/event/parish-yard-sale-at-hope/
LOCATION:Hope Lutheran Church\, 45 Maple Street\, Beaver\, PA\, 15009\, United States
GEO:40.7051165;-80.4029977
X-APPLE-STRUCTURED-LOCATION;VALUE=URI;X-ADDRESS=Hope Lutheran Church 45 Maple Street Beaver PA 15009 United States;X-APPLE-RADIUS=500;X-TITLE=45 Maple Street:geo:-80.4029977,40.7051165
END:VEVENT
BEGIN:VEVENT
DTSTART;TZID=America/New_York:20250619T090000
DTEND;TZID=America/New_York:20250619T113000
DTSTAMP:20260421T160208
CREATED:20250602T141245Z
LAST-MODIFIED:20250602T141245Z
UID:10035823-1750323600-1750332600@www.bblutheran.com
SUMMARY:Vacation Bible School at Holy Trinity
DESCRIPTION:
URL:https://www.bblutheran.com/event/vacation-bible-school-at-holy-trinity-2/
LOCATION:Holy Trinity Church\, 1098 3rd Street\, Beaver\, PA\, 15009\, United States
GEO:40.6930069;-80.3112194
X-APPLE-STRUCTURED-LOCATION;VALUE=URI;X-ADDRESS=Holy Trinity Church 1098 3rd Street Beaver PA 15009 United States;X-APPLE-RADIUS=500;X-TITLE=1098 3rd Street:geo:-80.3112194,40.6930069
END:VEVENT
BEGIN:VEVENT
DTSTART;TZID=America/New_York:20250618T190000
DTEND;TZID=America/New_York:20250618T203000
DTSTAMP:20260421T160208
CREATED:20250602T141044Z
LAST-MODIFIED:20250602T141044Z
UID:10035821-1750273200-1750278600@www.bblutheran.com
SUMMARY:Holy Trinity Council Meeting
DESCRIPTION:
URL:https://www.bblutheran.com/event/holy-trinity-council-meeting-12/
LOCATION:Holy Trinity Church\, 1098 3rd Street\, Beaver\, PA\, 15009\, United States
GEO:40.6930069;-80.3112194
X-APPLE-STRUCTURED-LOCATION;VALUE=URI;X-ADDRESS=Holy Trinity Church 1098 3rd Street Beaver PA 15009 United States;X-APPLE-RADIUS=500;X-TITLE=1098 3rd Street:geo:-80.3112194,40.6930069
END:VEVENT
BEGIN:VEVENT
DTSTART;TZID=America/New_York:20250616T090000
DTEND;TZID=America/New_York:20250616T113000
DTSTAMP:20260421T160208
CREATED:20250602T141202Z
LAST-MODIFIED:20250602T141202Z
UID:10035822-1750064400-1750073400@www.bblutheran.com
SUMMARY:Vacation Bible School at Holy Trinity
DESCRIPTION:
URL:https://www.bblutheran.com/event/vacation-bible-school-at-holy-trinity/
LOCATION:Holy Trinity Church\, 1098 3rd Street\, Beaver\, PA\, 15009\, United States
GEO:40.6930069;-80.3112194
X-APPLE-STRUCTURED-LOCATION;VALUE=URI;X-ADDRESS=Holy Trinity Church 1098 3rd Street Beaver PA 15009 United States;X-APPLE-RADIUS=500;X-TITLE=1098 3rd Street:geo:-80.3112194,40.6930069
END:VEVENT
BEGIN:VEVENT
DTSTART;TZID=America/New_York:20250615T110000
DTEND;TZID=America/New_York:20250615T120000
DTSTAMP:20260421T160208
CREATED:20250613T002820Z
LAST-MODIFIED:20250613T002820Z
UID:10036412-1749985200-1749988800@www.bblutheran.com
SUMMARY:Hope Worship 11:00 a.m.
DESCRIPTION:
URL:https://www.bblutheran.com/event/hope-worship-1100-a-m/2025-06-15/
LOCATION:Hope Lutheran Church\, 45 Maple Street\, Beaver\, PA\, 15009\, United States
GEO:40.7051165;-80.4029977
X-APPLE-STRUCTURED-LOCATION;VALUE=URI;X-ADDRESS=Hope Lutheran Church 45 Maple Street Beaver PA 15009 United States;X-APPLE-RADIUS=500;X-TITLE=45 Maple Street:geo:-80.4029977,40.7051165
END:VEVENT
BEGIN:VEVENT
DTSTART;TZID=America/New_York:20250615T091500
DTEND;TZID=America/New_York:20250615T101500
DTSTAMP:20260421T160208
CREATED:20250613T002622Z
LAST-MODIFIED:20250613T002622Z
UID:10036151-1749978900-1749982500@www.bblutheran.com
SUMMARY:Holy Trinity Worship 9:15 a.m.
DESCRIPTION:
URL:https://www.bblutheran.com/event/holy-trinity-worship-915-a-m/2025-06-15/
LOCATION:Holy Trinity Church\, 1098 3rd Street\, Beaver\, PA\, 15009\, United States
GEO:40.6930069;-80.3112194
X-APPLE-STRUCTURED-LOCATION;VALUE=URI;X-ADDRESS=Holy Trinity Church 1098 3rd Street Beaver PA 15009 United States;X-APPLE-RADIUS=500;X-TITLE=1098 3rd Street:geo:-80.3112194,40.6930069
END:VEVENT
BEGIN:VEVENT
DTSTART;TZID=America/New_York:20250615T080000
DTEND;TZID=America/New_York:20250615T170000
DTSTAMP:20260421T160208
CREATED:20250602T142723Z
LAST-MODIFIED:20250602T142723Z
UID:10035835-1749974400-1750006800@www.bblutheran.com
SUMMARY:Happy Father's Day
DESCRIPTION:
URL:https://www.bblutheran.com/event/happy-fathers-day-2/
LOCATION:PA
END:VEVENT
BEGIN:VEVENT
DTSTART;TZID=UTC:20250609T110000
DTEND;TZID=UTC:20250609T130000
DTSTAMP:20260421T160208
CREATED:20230427T201051Z
LAST-MODIFIED:20230427T201052Z
UID:10000559-1749466800-1749474000@www.bblutheran.com
SUMMARY:Grief Group at Hope
DESCRIPTION:Hope will be starting a Grief group on April 17th at 11:00 a.m. Anyone is welcomed to sign up on Sunday mornings or by calling Hope’s Church office.
URL:https://www.bblutheran.com/event/grief-group-at-hope-2/2025-06-09/
LOCATION:Hope Lutheran Church\, 45 Maple Street\, Beaver\, PA\, 15009\, United States
GEO:40.7051165;-80.4029977
X-APPLE-STRUCTURED-LOCATION;VALUE=URI;X-ADDRESS=Hope Lutheran Church 45 Maple Street Beaver PA 15009 United States;X-APPLE-RADIUS=500;X-TITLE=45 Maple Street:geo:-80.4029977,40.7051165
END:VEVENT
BEGIN:VEVENT
DTSTART;TZID=UTC:20250602T110000
DTEND;TZID=UTC:20250602T133000
DTSTAMP:20260421T160208
CREATED:20230427T201158Z
LAST-MODIFIED:20230427T201158Z
UID:10000625-1748862000-1748871000@www.bblutheran.com
SUMMARY:Bible Study at Holy Trinity
DESCRIPTION:All are welcome to join in a Bible study being held at Holy Trinity at 11:00 a.m. in the Fellowship hall.
URL:https://www.bblutheran.com/event/bible-study-at-holy-trinity-2-2/2025-06-02/
LOCATION:Holy Trinity Church\, 1098 3rd Street\, Beaver\, PA\, 15009\, United States
GEO:40.6930069;-80.3112194
X-APPLE-STRUCTURED-LOCATION;VALUE=URI;X-ADDRESS=Holy Trinity Church 1098 3rd Street Beaver PA 15009 United States;X-APPLE-RADIUS=500;X-TITLE=1098 3rd Street:geo:-80.3112194,40.6930069
END:VEVENT
BEGIN:VEVENT
DTSTART;TZID=America/New_York:20250525T101500
DTEND;TZID=America/New_York:20250525T110000
DTSTAMP:20260421T160208
CREATED:20250502T160311Z
LAST-MODIFIED:20250502T161359Z
UID:10034246-1748168100-1748170800@www.bblutheran.com
SUMMARY:Katie Luther's Kaffeeklatsch (Coffee hour) at Hope
DESCRIPTION:
URL:https://www.bblutheran.com/event/coffee-hour-at-hope-4/
LOCATION:Hope Lutheran Church\, 45 Maple Street\, Beaver\, PA\, 15009\, United States
GEO:40.7051165;-80.4029977
X-APPLE-STRUCTURED-LOCATION;VALUE=URI;X-ADDRESS=Hope Lutheran Church 45 Maple Street Beaver PA 15009 United States;X-APPLE-RADIUS=500;X-TITLE=45 Maple Street:geo:-80.4029977,40.7051165
END:VEVENT
BEGIN:VEVENT
DTSTART;TZID=America/New_York:20250524T080000
DTEND;TZID=America/New_York:20250524T170000
DTSTAMP:20260421T160208
CREATED:20250502T155446Z
LAST-MODIFIED:20250502T155446Z
UID:10034239-1748073600-1748106000@www.bblutheran.com
SUMMARY:Newsletter information Due
DESCRIPTION:
URL:https://www.bblutheran.com/event/newsletter-information-due-15/
LOCATION:PA
END:VEVENT
BEGIN:VEVENT
DTSTART;TZID=America/New_York:20250521T190000
DTEND;TZID=America/New_York:20250521T210000
DTSTAMP:20260421T160208
CREATED:20250502T160707Z
LAST-MODIFIED:20250502T160707Z
UID:10034250-1747854000-1747861200@www.bblutheran.com
SUMMARY:Holy Trinity Council Meeting
DESCRIPTION:
URL:https://www.bblutheran.com/event/holy-trinity-council-meeting-11/
LOCATION:Holy Trinity Church\, 1098 3rd Street\, Beaver\, PA\, 15009\, United States
GEO:40.6930069;-80.3112194
X-APPLE-STRUCTURED-LOCATION;VALUE=URI;X-ADDRESS=Holy Trinity Church 1098 3rd Street Beaver PA 15009 United States;X-APPLE-RADIUS=500;X-TITLE=1098 3rd Street:geo:-80.3112194,40.6930069
END:VEVENT
BEGIN:VEVENT
DTSTART;TZID=America/New_York:20250520T080000
DTEND;TZID=America/New_York:20250520T170000
DTSTAMP:20260421T160208
CREATED:20250502T160619Z
LAST-MODIFIED:20250502T160619Z
UID:10034249-1747728000-1747760400@www.bblutheran.com
SUMMARY:Election Day
DESCRIPTION:
URL:https://www.bblutheran.com/event/election-day-2/
LOCATION:PA
END:VEVENT
BEGIN:VEVENT
DTSTART;TZID=UTC:20250519T110000
DTEND;TZID=UTC:20250519T130000
DTSTAMP:20260421T160208
CREATED:20230427T201051Z
LAST-MODIFIED:20230427T201052Z
UID:10000558-1747652400-1747659600@www.bblutheran.com
SUMMARY:Grief Group at Hope
DESCRIPTION:Hope will be starting a Grief group on April 17th at 11:00 a.m. Anyone is welcomed to sign up on Sunday mornings or by calling Hope’s Church office.
URL:https://www.bblutheran.com/event/grief-group-at-hope-2/2025-05-19/
LOCATION:Hope Lutheran Church\, 45 Maple Street\, Beaver\, PA\, 15009\, United States
GEO:40.7051165;-80.4029977
X-APPLE-STRUCTURED-LOCATION;VALUE=URI;X-ADDRESS=Hope Lutheran Church 45 Maple Street Beaver PA 15009 United States;X-APPLE-RADIUS=500;X-TITLE=45 Maple Street:geo:-80.4029977,40.7051165
END:VEVENT
BEGIN:VEVENT
DTSTART;TZID=America/New_York:20250518T120000
DTEND;TZID=America/New_York:20250518T140000
DTSTAMP:20260421T160208
CREATED:20250502T160222Z
LAST-MODIFIED:20250502T160222Z
UID:10034245-1747569600-1747576800@www.bblutheran.com
SUMMARY:Hope Council meets after Worship
DESCRIPTION:
URL:https://www.bblutheran.com/event/hope-council-meets-after-worship/
LOCATION:Hope Lutheran Church\, 45 Maple Street\, Beaver\, PA\, 15009\, United States
GEO:40.7051165;-80.4029977
X-APPLE-STRUCTURED-LOCATION;VALUE=URI;X-ADDRESS=Hope Lutheran Church 45 Maple Street Beaver PA 15009 United States;X-APPLE-RADIUS=500;X-TITLE=45 Maple Street:geo:-80.4029977,40.7051165
END:VEVENT
BEGIN:VEVENT
DTSTART;TZID=America/New_York:20250518T110000
DTEND;TZID=America/New_York:20250518T120000
DTSTAMP:20260421T160208
CREATED:20250502T160140Z
LAST-MODIFIED:20250502T160140Z
UID:10034244-1747566000-1747569600@www.bblutheran.com
SUMMARY:House of Prayer Donations at Hope
DESCRIPTION:
URL:https://www.bblutheran.com/event/house-of-prayer-donations-at-hope-2/
LOCATION:Hope Lutheran Church\, 45 Maple Street\, Beaver\, PA\, 15009\, United States
GEO:40.7051165;-80.4029977
X-APPLE-STRUCTURED-LOCATION;VALUE=URI;X-ADDRESS=Hope Lutheran Church 45 Maple Street Beaver PA 15009 United States;X-APPLE-RADIUS=500;X-TITLE=45 Maple Street:geo:-80.4029977,40.7051165
END:VEVENT
BEGIN:VEVENT
DTSTART;TZID=America/New_York:20250513T120000
DTEND;TZID=America/New_York:20250513T140000
DTSTAMP:20260421T160208
CREATED:20250502T150409Z
LAST-MODIFIED:20250502T150514Z
UID:10034238-1747137600-1747144800@www.bblutheran.com
SUMMARY:Circle of Hope @ Noon
DESCRIPTION:
URL:https://www.bblutheran.com/event/circle-of-hope-noon/
LOCATION:Hope Lutheran Church\, 45 Maple Street\, Beaver\, PA\, 15009\, United States
GEO:40.7051165;-80.4029977
X-APPLE-STRUCTURED-LOCATION;VALUE=URI;X-ADDRESS=Hope Lutheran Church 45 Maple Street Beaver PA 15009 United States;X-APPLE-RADIUS=500;X-TITLE=45 Maple Street:geo:-80.4029977,40.7051165
END:VEVENT
END:VCALENDAR