BEGIN:VCALENDAR
VERSION:2.0
PRODID:-// - ECPv6.3.3.1//NONSGML v1.0//EN
CALSCALE:GREGORIAN
METHOD:PUBLISH
X-ORIGINAL-URL:https://www.bblutheran.com
X-WR-CALDESC:Events for 
REFRESH-INTERVAL;VALUE=DURATION:PT1H
X-Robots-Tag:noindex
X-PUBLISHED-TTL:PT1H
BEGIN:VTIMEZONE
TZID:America/New_York
BEGIN:DAYLIGHT
TZOFFSETFROM:-0500
TZOFFSETTO:-0400
TZNAME:EDT
DTSTART:20270314T070000
END:DAYLIGHT
BEGIN:STANDARD
TZOFFSETFROM:-0400
TZOFFSETTO:-0500
TZNAME:EST
DTSTART:20271107T060000
END:STANDARD
END:VTIMEZONE
BEGIN:VEVENT
DTSTART;TZID=America/New_York:20270627T091500
DTEND;TZID=America/New_York:20270627T101500
DTSTAMP:20260419T101022
CREATED:20250613T002622Z
LAST-MODIFIED:20250613T002622Z
UID:10036257-1814087700-1814091300@www.bblutheran.com
SUMMARY:Holy Trinity Worship 9:15 a.m.
DESCRIPTION:
URL:https://www.bblutheran.com/event/holy-trinity-worship-915-a-m/2027-06-27/
LOCATION:Holy Trinity Church\, 1098 3rd Street\, Beaver\, PA\, 15009\, United States
GEO:40.6930069;-80.3112194
X-APPLE-STRUCTURED-LOCATION;VALUE=URI;X-ADDRESS=Holy Trinity Church 1098 3rd Street Beaver PA 15009 United States;X-APPLE-RADIUS=500;X-TITLE=1098 3rd Street:geo:-80.3112194,40.6930069
END:VEVENT
BEGIN:VEVENT
DTSTART;TZID=America/New_York:20270627T110000
DTEND;TZID=America/New_York:20270627T120000
DTSTAMP:20260419T101022
CREATED:20250613T002820Z
LAST-MODIFIED:20250613T002820Z
UID:10036518-1814094000-1814097600@www.bblutheran.com
SUMMARY:Hope Worship 11:00 a.m.
DESCRIPTION:
URL:https://www.bblutheran.com/event/hope-worship-1100-a-m/2027-06-27/
LOCATION:Hope Lutheran Church\, 45 Maple Street\, Beaver\, PA\, 15009\, United States
GEO:40.7051165;-80.4029977
X-APPLE-STRUCTURED-LOCATION;VALUE=URI;X-ADDRESS=Hope Lutheran Church 45 Maple Street Beaver PA 15009 United States;X-APPLE-RADIUS=500;X-TITLE=45 Maple Street:geo:-80.4029977,40.7051165
END:VEVENT
BEGIN:VEVENT
DTSTART;TZID=America/New_York:20270704T091500
DTEND;TZID=America/New_York:20270704T101500
DTSTAMP:20260419T101022
CREATED:20250613T002622Z
LAST-MODIFIED:20250613T002622Z
UID:10036258-1814692500-1814696100@www.bblutheran.com
SUMMARY:Holy Trinity Worship 9:15 a.m.
DESCRIPTION:
URL:https://www.bblutheran.com/event/holy-trinity-worship-915-a-m/2027-07-04/
LOCATION:Holy Trinity Church\, 1098 3rd Street\, Beaver\, PA\, 15009\, United States
GEO:40.6930069;-80.3112194
X-APPLE-STRUCTURED-LOCATION;VALUE=URI;X-ADDRESS=Holy Trinity Church 1098 3rd Street Beaver PA 15009 United States;X-APPLE-RADIUS=500;X-TITLE=1098 3rd Street:geo:-80.3112194,40.6930069
END:VEVENT
BEGIN:VEVENT
DTSTART;TZID=America/New_York:20270704T110000
DTEND;TZID=America/New_York:20270704T120000
DTSTAMP:20260419T101022
CREATED:20250613T002820Z
LAST-MODIFIED:20250613T002820Z
UID:10036519-1814698800-1814702400@www.bblutheran.com
SUMMARY:Hope Worship 11:00 a.m.
DESCRIPTION:
URL:https://www.bblutheran.com/event/hope-worship-1100-a-m/2027-07-04/
LOCATION:Hope Lutheran Church\, 45 Maple Street\, Beaver\, PA\, 15009\, United States
GEO:40.7051165;-80.4029977
X-APPLE-STRUCTURED-LOCATION;VALUE=URI;X-ADDRESS=Hope Lutheran Church 45 Maple Street Beaver PA 15009 United States;X-APPLE-RADIUS=500;X-TITLE=45 Maple Street:geo:-80.4029977,40.7051165
END:VEVENT
BEGIN:VEVENT
DTSTART;TZID=America/New_York:20270711T091500
DTEND;TZID=America/New_York:20270711T101500
DTSTAMP:20260419T101022
CREATED:20250613T002622Z
LAST-MODIFIED:20250613T002622Z
UID:10036259-1815297300-1815300900@www.bblutheran.com
SUMMARY:Holy Trinity Worship 9:15 a.m.
DESCRIPTION:
URL:https://www.bblutheran.com/event/holy-trinity-worship-915-a-m/2027-07-11/
LOCATION:Holy Trinity Church\, 1098 3rd Street\, Beaver\, PA\, 15009\, United States
GEO:40.6930069;-80.3112194
X-APPLE-STRUCTURED-LOCATION;VALUE=URI;X-ADDRESS=Holy Trinity Church 1098 3rd Street Beaver PA 15009 United States;X-APPLE-RADIUS=500;X-TITLE=1098 3rd Street:geo:-80.3112194,40.6930069
END:VEVENT
BEGIN:VEVENT
DTSTART;TZID=America/New_York:20270711T110000
DTEND;TZID=America/New_York:20270711T120000
DTSTAMP:20260419T101022
CREATED:20250613T002820Z
LAST-MODIFIED:20250613T002820Z
UID:10036520-1815303600-1815307200@www.bblutheran.com
SUMMARY:Hope Worship 11:00 a.m.
DESCRIPTION:
URL:https://www.bblutheran.com/event/hope-worship-1100-a-m/2027-07-11/
LOCATION:Hope Lutheran Church\, 45 Maple Street\, Beaver\, PA\, 15009\, United States
GEO:40.7051165;-80.4029977
X-APPLE-STRUCTURED-LOCATION;VALUE=URI;X-ADDRESS=Hope Lutheran Church 45 Maple Street Beaver PA 15009 United States;X-APPLE-RADIUS=500;X-TITLE=45 Maple Street:geo:-80.4029977,40.7051165
END:VEVENT
BEGIN:VEVENT
DTSTART;TZID=America/New_York:20270718T091500
DTEND;TZID=America/New_York:20270718T101500
DTSTAMP:20260419T101022
CREATED:20250613T002622Z
LAST-MODIFIED:20250613T002622Z
UID:10036260-1815902100-1815905700@www.bblutheran.com
SUMMARY:Holy Trinity Worship 9:15 a.m.
DESCRIPTION:
URL:https://www.bblutheran.com/event/holy-trinity-worship-915-a-m/2027-07-18/
LOCATION:Holy Trinity Church\, 1098 3rd Street\, Beaver\, PA\, 15009\, United States
GEO:40.6930069;-80.3112194
X-APPLE-STRUCTURED-LOCATION;VALUE=URI;X-ADDRESS=Holy Trinity Church 1098 3rd Street Beaver PA 15009 United States;X-APPLE-RADIUS=500;X-TITLE=1098 3rd Street:geo:-80.3112194,40.6930069
END:VEVENT
BEGIN:VEVENT
DTSTART;TZID=America/New_York:20270718T110000
DTEND;TZID=America/New_York:20270718T120000
DTSTAMP:20260419T101022
CREATED:20250613T002820Z
LAST-MODIFIED:20250613T002820Z
UID:10036521-1815908400-1815912000@www.bblutheran.com
SUMMARY:Hope Worship 11:00 a.m.
DESCRIPTION:
URL:https://www.bblutheran.com/event/hope-worship-1100-a-m/2027-07-18/
LOCATION:Hope Lutheran Church\, 45 Maple Street\, Beaver\, PA\, 15009\, United States
GEO:40.7051165;-80.4029977
X-APPLE-STRUCTURED-LOCATION;VALUE=URI;X-ADDRESS=Hope Lutheran Church 45 Maple Street Beaver PA 15009 United States;X-APPLE-RADIUS=500;X-TITLE=45 Maple Street:geo:-80.4029977,40.7051165
END:VEVENT
BEGIN:VEVENT
DTSTART;TZID=America/New_York:20270725T091500
DTEND;TZID=America/New_York:20270725T101500
DTSTAMP:20260419T101022
CREATED:20250613T002622Z
LAST-MODIFIED:20250613T002622Z
UID:10036261-1816506900-1816510500@www.bblutheran.com
SUMMARY:Holy Trinity Worship 9:15 a.m.
DESCRIPTION:
URL:https://www.bblutheran.com/event/holy-trinity-worship-915-a-m/2027-07-25/
LOCATION:Holy Trinity Church\, 1098 3rd Street\, Beaver\, PA\, 15009\, United States
GEO:40.6930069;-80.3112194
X-APPLE-STRUCTURED-LOCATION;VALUE=URI;X-ADDRESS=Holy Trinity Church 1098 3rd Street Beaver PA 15009 United States;X-APPLE-RADIUS=500;X-TITLE=1098 3rd Street:geo:-80.3112194,40.6930069
END:VEVENT
BEGIN:VEVENT
DTSTART;TZID=America/New_York:20270725T110000
DTEND;TZID=America/New_York:20270725T120000
DTSTAMP:20260419T101022
CREATED:20250613T002820Z
LAST-MODIFIED:20250613T002820Z
UID:10036522-1816513200-1816516800@www.bblutheran.com
SUMMARY:Hope Worship 11:00 a.m.
DESCRIPTION:
URL:https://www.bblutheran.com/event/hope-worship-1100-a-m/2027-07-25/
LOCATION:Hope Lutheran Church\, 45 Maple Street\, Beaver\, PA\, 15009\, United States
GEO:40.7051165;-80.4029977
X-APPLE-STRUCTURED-LOCATION;VALUE=URI;X-ADDRESS=Hope Lutheran Church 45 Maple Street Beaver PA 15009 United States;X-APPLE-RADIUS=500;X-TITLE=45 Maple Street:geo:-80.4029977,40.7051165
END:VEVENT
BEGIN:VEVENT
DTSTART;TZID=America/New_York:20270801T091500
DTEND;TZID=America/New_York:20270801T101500
DTSTAMP:20260419T101022
CREATED:20250613T002622Z
LAST-MODIFIED:20250613T002622Z
UID:10036262-1817111700-1817115300@www.bblutheran.com
SUMMARY:Holy Trinity Worship 9:15 a.m.
DESCRIPTION:
URL:https://www.bblutheran.com/event/holy-trinity-worship-915-a-m/2027-08-01/
LOCATION:Holy Trinity Church\, 1098 3rd Street\, Beaver\, PA\, 15009\, United States
GEO:40.6930069;-80.3112194
X-APPLE-STRUCTURED-LOCATION;VALUE=URI;X-ADDRESS=Holy Trinity Church 1098 3rd Street Beaver PA 15009 United States;X-APPLE-RADIUS=500;X-TITLE=1098 3rd Street:geo:-80.3112194,40.6930069
END:VEVENT
BEGIN:VEVENT
DTSTART;TZID=America/New_York:20270801T110000
DTEND;TZID=America/New_York:20270801T120000
DTSTAMP:20260419T101022
CREATED:20250613T002820Z
LAST-MODIFIED:20250613T002820Z
UID:10036523-1817118000-1817121600@www.bblutheran.com
SUMMARY:Hope Worship 11:00 a.m.
DESCRIPTION:
URL:https://www.bblutheran.com/event/hope-worship-1100-a-m/2027-08-01/
LOCATION:Hope Lutheran Church\, 45 Maple Street\, Beaver\, PA\, 15009\, United States
GEO:40.7051165;-80.4029977
X-APPLE-STRUCTURED-LOCATION;VALUE=URI;X-ADDRESS=Hope Lutheran Church 45 Maple Street Beaver PA 15009 United States;X-APPLE-RADIUS=500;X-TITLE=45 Maple Street:geo:-80.4029977,40.7051165
END:VEVENT
BEGIN:VEVENT
DTSTART;TZID=America/New_York:20270808T091500
DTEND;TZID=America/New_York:20270808T101500
DTSTAMP:20260419T101022
CREATED:20250613T002622Z
LAST-MODIFIED:20250613T002622Z
UID:10036263-1817716500-1817720100@www.bblutheran.com
SUMMARY:Holy Trinity Worship 9:15 a.m.
DESCRIPTION:
URL:https://www.bblutheran.com/event/holy-trinity-worship-915-a-m/2027-08-08/
LOCATION:Holy Trinity Church\, 1098 3rd Street\, Beaver\, PA\, 15009\, United States
GEO:40.6930069;-80.3112194
X-APPLE-STRUCTURED-LOCATION;VALUE=URI;X-ADDRESS=Holy Trinity Church 1098 3rd Street Beaver PA 15009 United States;X-APPLE-RADIUS=500;X-TITLE=1098 3rd Street:geo:-80.3112194,40.6930069
END:VEVENT
BEGIN:VEVENT
DTSTART;TZID=America/New_York:20270808T110000
DTEND;TZID=America/New_York:20270808T120000
DTSTAMP:20260419T101022
CREATED:20250613T002820Z
LAST-MODIFIED:20250613T002820Z
UID:10036524-1817722800-1817726400@www.bblutheran.com
SUMMARY:Hope Worship 11:00 a.m.
DESCRIPTION:
URL:https://www.bblutheran.com/event/hope-worship-1100-a-m/2027-08-08/
LOCATION:Hope Lutheran Church\, 45 Maple Street\, Beaver\, PA\, 15009\, United States
GEO:40.7051165;-80.4029977
X-APPLE-STRUCTURED-LOCATION;VALUE=URI;X-ADDRESS=Hope Lutheran Church 45 Maple Street Beaver PA 15009 United States;X-APPLE-RADIUS=500;X-TITLE=45 Maple Street:geo:-80.4029977,40.7051165
END:VEVENT
BEGIN:VEVENT
DTSTART;TZID=America/New_York:20270815T091500
DTEND;TZID=America/New_York:20270815T101500
DTSTAMP:20260419T101022
CREATED:20250613T002622Z
LAST-MODIFIED:20250613T002622Z
UID:10036264-1818321300-1818324900@www.bblutheran.com
SUMMARY:Holy Trinity Worship 9:15 a.m.
DESCRIPTION:
URL:https://www.bblutheran.com/event/holy-trinity-worship-915-a-m/2027-08-15/
LOCATION:Holy Trinity Church\, 1098 3rd Street\, Beaver\, PA\, 15009\, United States
GEO:40.6930069;-80.3112194
X-APPLE-STRUCTURED-LOCATION;VALUE=URI;X-ADDRESS=Holy Trinity Church 1098 3rd Street Beaver PA 15009 United States;X-APPLE-RADIUS=500;X-TITLE=1098 3rd Street:geo:-80.3112194,40.6930069
END:VEVENT
BEGIN:VEVENT
DTSTART;TZID=America/New_York:20270815T110000
DTEND;TZID=America/New_York:20270815T120000
DTSTAMP:20260419T101022
CREATED:20250613T002820Z
LAST-MODIFIED:20250613T002820Z
UID:10036525-1818327600-1818331200@www.bblutheran.com
SUMMARY:Hope Worship 11:00 a.m.
DESCRIPTION:
URL:https://www.bblutheran.com/event/hope-worship-1100-a-m/2027-08-15/
LOCATION:Hope Lutheran Church\, 45 Maple Street\, Beaver\, PA\, 15009\, United States
GEO:40.7051165;-80.4029977
X-APPLE-STRUCTURED-LOCATION;VALUE=URI;X-ADDRESS=Hope Lutheran Church 45 Maple Street Beaver PA 15009 United States;X-APPLE-RADIUS=500;X-TITLE=45 Maple Street:geo:-80.4029977,40.7051165
END:VEVENT
BEGIN:VEVENT
DTSTART;TZID=America/New_York:20270822T091500
DTEND;TZID=America/New_York:20270822T101500
DTSTAMP:20260419T101022
CREATED:20250613T002622Z
LAST-MODIFIED:20250613T002622Z
UID:10036265-1818926100-1818929700@www.bblutheran.com
SUMMARY:Holy Trinity Worship 9:15 a.m.
DESCRIPTION:
URL:https://www.bblutheran.com/event/holy-trinity-worship-915-a-m/2027-08-22/
LOCATION:Holy Trinity Church\, 1098 3rd Street\, Beaver\, PA\, 15009\, United States
GEO:40.6930069;-80.3112194
X-APPLE-STRUCTURED-LOCATION;VALUE=URI;X-ADDRESS=Holy Trinity Church 1098 3rd Street Beaver PA 15009 United States;X-APPLE-RADIUS=500;X-TITLE=1098 3rd Street:geo:-80.3112194,40.6930069
END:VEVENT
BEGIN:VEVENT
DTSTART;TZID=America/New_York:20270822T110000
DTEND;TZID=America/New_York:20270822T120000
DTSTAMP:20260419T101022
CREATED:20250613T002820Z
LAST-MODIFIED:20250613T002820Z
UID:10036526-1818932400-1818936000@www.bblutheran.com
SUMMARY:Hope Worship 11:00 a.m.
DESCRIPTION:
URL:https://www.bblutheran.com/event/hope-worship-1100-a-m/2027-08-22/
LOCATION:Hope Lutheran Church\, 45 Maple Street\, Beaver\, PA\, 15009\, United States
GEO:40.7051165;-80.4029977
X-APPLE-STRUCTURED-LOCATION;VALUE=URI;X-ADDRESS=Hope Lutheran Church 45 Maple Street Beaver PA 15009 United States;X-APPLE-RADIUS=500;X-TITLE=45 Maple Street:geo:-80.4029977,40.7051165
END:VEVENT
BEGIN:VEVENT
DTSTART;TZID=America/New_York:20270829T091500
DTEND;TZID=America/New_York:20270829T101500
DTSTAMP:20260419T101022
CREATED:20250613T002622Z
LAST-MODIFIED:20250613T002622Z
UID:10036266-1819530900-1819534500@www.bblutheran.com
SUMMARY:Holy Trinity Worship 9:15 a.m.
DESCRIPTION:
URL:https://www.bblutheran.com/event/holy-trinity-worship-915-a-m/2027-08-29/
LOCATION:Holy Trinity Church\, 1098 3rd Street\, Beaver\, PA\, 15009\, United States
GEO:40.6930069;-80.3112194
X-APPLE-STRUCTURED-LOCATION;VALUE=URI;X-ADDRESS=Holy Trinity Church 1098 3rd Street Beaver PA 15009 United States;X-APPLE-RADIUS=500;X-TITLE=1098 3rd Street:geo:-80.3112194,40.6930069
END:VEVENT
BEGIN:VEVENT
DTSTART;TZID=America/New_York:20270829T110000
DTEND;TZID=America/New_York:20270829T120000
DTSTAMP:20260419T101022
CREATED:20250613T002820Z
LAST-MODIFIED:20250613T002820Z
UID:10036527-1819537200-1819540800@www.bblutheran.com
SUMMARY:Hope Worship 11:00 a.m.
DESCRIPTION:
URL:https://www.bblutheran.com/event/hope-worship-1100-a-m/2027-08-29/
LOCATION:Hope Lutheran Church\, 45 Maple Street\, Beaver\, PA\, 15009\, United States
GEO:40.7051165;-80.4029977
X-APPLE-STRUCTURED-LOCATION;VALUE=URI;X-ADDRESS=Hope Lutheran Church 45 Maple Street Beaver PA 15009 United States;X-APPLE-RADIUS=500;X-TITLE=45 Maple Street:geo:-80.4029977,40.7051165
END:VEVENT
BEGIN:VEVENT
DTSTART;TZID=America/New_York:20270905T091500
DTEND;TZID=America/New_York:20270905T101500
DTSTAMP:20260419T101022
CREATED:20250613T002622Z
LAST-MODIFIED:20250613T002622Z
UID:10036267-1820135700-1820139300@www.bblutheran.com
SUMMARY:Holy Trinity Worship 9:15 a.m.
DESCRIPTION:
URL:https://www.bblutheran.com/event/holy-trinity-worship-915-a-m/2027-09-05/
LOCATION:Holy Trinity Church\, 1098 3rd Street\, Beaver\, PA\, 15009\, United States
GEO:40.6930069;-80.3112194
X-APPLE-STRUCTURED-LOCATION;VALUE=URI;X-ADDRESS=Holy Trinity Church 1098 3rd Street Beaver PA 15009 United States;X-APPLE-RADIUS=500;X-TITLE=1098 3rd Street:geo:-80.3112194,40.6930069
END:VEVENT
BEGIN:VEVENT
DTSTART;TZID=America/New_York:20270905T110000
DTEND;TZID=America/New_York:20270905T120000
DTSTAMP:20260419T101022
CREATED:20250613T002820Z
LAST-MODIFIED:20250613T002820Z
UID:10036528-1820142000-1820145600@www.bblutheran.com
SUMMARY:Hope Worship 11:00 a.m.
DESCRIPTION:
URL:https://www.bblutheran.com/event/hope-worship-1100-a-m/2027-09-05/
LOCATION:Hope Lutheran Church\, 45 Maple Street\, Beaver\, PA\, 15009\, United States
GEO:40.7051165;-80.4029977
X-APPLE-STRUCTURED-LOCATION;VALUE=URI;X-ADDRESS=Hope Lutheran Church 45 Maple Street Beaver PA 15009 United States;X-APPLE-RADIUS=500;X-TITLE=45 Maple Street:geo:-80.4029977,40.7051165
END:VEVENT
BEGIN:VEVENT
DTSTART;TZID=America/New_York:20270912T091500
DTEND;TZID=America/New_York:20270912T101500
DTSTAMP:20260419T101022
CREATED:20250613T002622Z
LAST-MODIFIED:20250613T002622Z
UID:10036268-1820740500-1820744100@www.bblutheran.com
SUMMARY:Holy Trinity Worship 9:15 a.m.
DESCRIPTION:
URL:https://www.bblutheran.com/event/holy-trinity-worship-915-a-m/2027-09-12/
LOCATION:Holy Trinity Church\, 1098 3rd Street\, Beaver\, PA\, 15009\, United States
GEO:40.6930069;-80.3112194
X-APPLE-STRUCTURED-LOCATION;VALUE=URI;X-ADDRESS=Holy Trinity Church 1098 3rd Street Beaver PA 15009 United States;X-APPLE-RADIUS=500;X-TITLE=1098 3rd Street:geo:-80.3112194,40.6930069
END:VEVENT
BEGIN:VEVENT
DTSTART;TZID=America/New_York:20270912T110000
DTEND;TZID=America/New_York:20270912T120000
DTSTAMP:20260419T101022
CREATED:20250613T002820Z
LAST-MODIFIED:20250613T002820Z
UID:10036529-1820746800-1820750400@www.bblutheran.com
SUMMARY:Hope Worship 11:00 a.m.
DESCRIPTION:
URL:https://www.bblutheran.com/event/hope-worship-1100-a-m/2027-09-12/
LOCATION:Hope Lutheran Church\, 45 Maple Street\, Beaver\, PA\, 15009\, United States
GEO:40.7051165;-80.4029977
X-APPLE-STRUCTURED-LOCATION;VALUE=URI;X-ADDRESS=Hope Lutheran Church 45 Maple Street Beaver PA 15009 United States;X-APPLE-RADIUS=500;X-TITLE=45 Maple Street:geo:-80.4029977,40.7051165
END:VEVENT
BEGIN:VEVENT
DTSTART;TZID=America/New_York:20270919T091500
DTEND;TZID=America/New_York:20270919T101500
DTSTAMP:20260419T101022
CREATED:20250613T002622Z
LAST-MODIFIED:20250613T002622Z
UID:10036269-1821345300-1821348900@www.bblutheran.com
SUMMARY:Holy Trinity Worship 9:15 a.m.
DESCRIPTION:
URL:https://www.bblutheran.com/event/holy-trinity-worship-915-a-m/2027-09-19/
LOCATION:Holy Trinity Church\, 1098 3rd Street\, Beaver\, PA\, 15009\, United States
GEO:40.6930069;-80.3112194
X-APPLE-STRUCTURED-LOCATION;VALUE=URI;X-ADDRESS=Holy Trinity Church 1098 3rd Street Beaver PA 15009 United States;X-APPLE-RADIUS=500;X-TITLE=1098 3rd Street:geo:-80.3112194,40.6930069
END:VEVENT
BEGIN:VEVENT
DTSTART;TZID=America/New_York:20270919T110000
DTEND;TZID=America/New_York:20270919T120000
DTSTAMP:20260419T101022
CREATED:20250613T002820Z
LAST-MODIFIED:20250613T002820Z
UID:10036530-1821351600-1821355200@www.bblutheran.com
SUMMARY:Hope Worship 11:00 a.m.
DESCRIPTION:
URL:https://www.bblutheran.com/event/hope-worship-1100-a-m/2027-09-19/
LOCATION:Hope Lutheran Church\, 45 Maple Street\, Beaver\, PA\, 15009\, United States
GEO:40.7051165;-80.4029977
X-APPLE-STRUCTURED-LOCATION;VALUE=URI;X-ADDRESS=Hope Lutheran Church 45 Maple Street Beaver PA 15009 United States;X-APPLE-RADIUS=500;X-TITLE=45 Maple Street:geo:-80.4029977,40.7051165
END:VEVENT
BEGIN:VEVENT
DTSTART;TZID=America/New_York:20270926T091500
DTEND;TZID=America/New_York:20270926T101500
DTSTAMP:20260419T101022
CREATED:20250613T002622Z
LAST-MODIFIED:20250613T002622Z
UID:10036270-1821950100-1821953700@www.bblutheran.com
SUMMARY:Holy Trinity Worship 9:15 a.m.
DESCRIPTION:
URL:https://www.bblutheran.com/event/holy-trinity-worship-915-a-m/2027-09-26/
LOCATION:Holy Trinity Church\, 1098 3rd Street\, Beaver\, PA\, 15009\, United States
GEO:40.6930069;-80.3112194
X-APPLE-STRUCTURED-LOCATION;VALUE=URI;X-ADDRESS=Holy Trinity Church 1098 3rd Street Beaver PA 15009 United States;X-APPLE-RADIUS=500;X-TITLE=1098 3rd Street:geo:-80.3112194,40.6930069
END:VEVENT
BEGIN:VEVENT
DTSTART;TZID=America/New_York:20270926T110000
DTEND;TZID=America/New_York:20270926T120000
DTSTAMP:20260419T101022
CREATED:20250613T002820Z
LAST-MODIFIED:20250613T002820Z
UID:10036531-1821956400-1821960000@www.bblutheran.com
SUMMARY:Hope Worship 11:00 a.m.
DESCRIPTION:
URL:https://www.bblutheran.com/event/hope-worship-1100-a-m/2027-09-26/
LOCATION:Hope Lutheran Church\, 45 Maple Street\, Beaver\, PA\, 15009\, United States
GEO:40.7051165;-80.4029977
X-APPLE-STRUCTURED-LOCATION;VALUE=URI;X-ADDRESS=Hope Lutheran Church 45 Maple Street Beaver PA 15009 United States;X-APPLE-RADIUS=500;X-TITLE=45 Maple Street:geo:-80.4029977,40.7051165
END:VEVENT
BEGIN:VEVENT
DTSTART;TZID=America/New_York:20271003T091500
DTEND;TZID=America/New_York:20271003T101500
DTSTAMP:20260419T101022
CREATED:20250613T002622Z
LAST-MODIFIED:20250613T002622Z
UID:10036271-1822554900-1822558500@www.bblutheran.com
SUMMARY:Holy Trinity Worship 9:15 a.m.
DESCRIPTION:
URL:https://www.bblutheran.com/event/holy-trinity-worship-915-a-m/2027-10-03/
LOCATION:Holy Trinity Church\, 1098 3rd Street\, Beaver\, PA\, 15009\, United States
GEO:40.6930069;-80.3112194
X-APPLE-STRUCTURED-LOCATION;VALUE=URI;X-ADDRESS=Holy Trinity Church 1098 3rd Street Beaver PA 15009 United States;X-APPLE-RADIUS=500;X-TITLE=1098 3rd Street:geo:-80.3112194,40.6930069
END:VEVENT
BEGIN:VEVENT
DTSTART;TZID=America/New_York:20271003T110000
DTEND;TZID=America/New_York:20271003T120000
DTSTAMP:20260419T101022
CREATED:20250613T002820Z
LAST-MODIFIED:20250613T002820Z
UID:10036532-1822561200-1822564800@www.bblutheran.com
SUMMARY:Hope Worship 11:00 a.m.
DESCRIPTION:
URL:https://www.bblutheran.com/event/hope-worship-1100-a-m/2027-10-03/
LOCATION:Hope Lutheran Church\, 45 Maple Street\, Beaver\, PA\, 15009\, United States
GEO:40.7051165;-80.4029977
X-APPLE-STRUCTURED-LOCATION;VALUE=URI;X-ADDRESS=Hope Lutheran Church 45 Maple Street Beaver PA 15009 United States;X-APPLE-RADIUS=500;X-TITLE=45 Maple Street:geo:-80.4029977,40.7051165
END:VEVENT
END:VCALENDAR