BEGIN:VCALENDAR
VERSION:2.0
PRODID:-// - ECPv6.3.3.1//NONSGML v1.0//EN
CALSCALE:GREGORIAN
METHOD:PUBLISH
X-ORIGINAL-URL:https://www.bblutheran.com
X-WR-CALDESC:Events for 
REFRESH-INTERVAL;VALUE=DURATION:PT1H
X-Robots-Tag:noindex
X-PUBLISHED-TTL:PT1H
BEGIN:VTIMEZONE
TZID:America/New_York
BEGIN:DAYLIGHT
TZOFFSETFROM:-0500
TZOFFSETTO:-0400
TZNAME:EDT
DTSTART:20240310T070000
END:DAYLIGHT
BEGIN:STANDARD
TZOFFSETFROM:-0400
TZOFFSETTO:-0500
TZNAME:EST
DTSTART:20241103T060000
END:STANDARD
TZID:UTC
BEGIN:STANDARD
TZOFFSETFROM:+0000
TZOFFSETTO:+0000
TZNAME:UTC
DTSTART:20240101T000000
END:STANDARD
END:VTIMEZONE
BEGIN:VEVENT
DTSTART;TZID=America/New_York:20240214T110000
DTEND;TZID=America/New_York:20240214T120000
DTSTAMP:20260422T062148
CREATED:20240202T195446Z
LAST-MODIFIED:20240202T195446Z
UID:10013627-1707908400-1707912000@www.bblutheran.com
SUMMARY:ASH Wednesday Service - HTLC
DESCRIPTION:
URL:https://www.bblutheran.com/event/ash-wednesday-service-htlc/
LOCATION:Holy Trinity Church\, 1098 3rd Street\, Beaver\, PA\, 15009\, United States
GEO:40.6930069;-80.3112194
X-APPLE-STRUCTURED-LOCATION;VALUE=URI;X-ADDRESS=Holy Trinity Church 1098 3rd Street Beaver PA 15009 United States;X-APPLE-RADIUS=500;X-TITLE=1098 3rd Street:geo:-80.3112194,40.6930069
END:VEVENT
BEGIN:VEVENT
DTSTART;TZID=America/New_York:20240213T120000
DTEND;TZID=America/New_York:20240213T133000
DTSTAMP:20260422T062148
CREATED:20240202T200849Z
LAST-MODIFIED:20240202T200849Z
UID:10013640-1707825600-1707831000@www.bblutheran.com
SUMMARY:Cirlce Meeting Hope & HTLC at Hope
DESCRIPTION:
URL:https://www.bblutheran.com/event/cirlce-meeting-hope-htlc-at-hope/
LOCATION:PA
END:VEVENT
BEGIN:VEVENT
DTSTART;TZID=UTC:20240212T110000
DTEND;TZID=UTC:20240212T130000
DTSTAMP:20260422T062148
CREATED:20230427T201051Z
LAST-MODIFIED:20230427T201052Z
UID:10000328-1707735600-1707742800@www.bblutheran.com
SUMMARY:Grief Group at Hope
DESCRIPTION:Hope will be starting a Grief group on April 17th at 11:00 a.m. Anyone is welcomed to sign up on Sunday mornings or by calling Hope’s Church office.
URL:https://www.bblutheran.com/event/grief-group-at-hope-2/2024-02-12/
LOCATION:Hope Lutheran Church\, 45 Maple Street\, Beaver\, PA\, 15009\, United States
GEO:40.7051165;-80.4029977
X-APPLE-STRUCTURED-LOCATION;VALUE=URI;X-ADDRESS=Hope Lutheran Church 45 Maple Street Beaver PA 15009 United States;X-APPLE-RADIUS=500;X-TITLE=45 Maple Street:geo:-80.4029977,40.7051165
END:VEVENT
BEGIN:VEVENT
DTSTART;TZID=UTC:20240211T110000
DTEND;TZID=UTC:20240211T120000
DTSTAMP:20260422T062148
CREATED:20230330T225552Z
LAST-MODIFIED:20230330T225552Z
UID:10000516-1707649200-1707652800@www.bblutheran.com
SUMMARY:Food Pantry Collection
DESCRIPTION:Collection for the the food panty in Darlington on the second of each month. The pantry is run by First Presbyterial Church in Darlington.
URL:https://www.bblutheran.com/event/food-pantry-collection/2024-02-11/
LOCATION:Hope Lutheran Church\, 45 Maple Street\, Beaver\, PA\, 15009\, United States
GEO:40.7051165;-80.4029977
X-APPLE-STRUCTURED-LOCATION;VALUE=URI;X-ADDRESS=Hope Lutheran Church 45 Maple Street Beaver PA 15009 United States;X-APPLE-RADIUS=500;X-TITLE=45 Maple Street:geo:-80.4029977,40.7051165
END:VEVENT
BEGIN:VEVENT
DTSTART;TZID=UTC:20240211T110000
DTEND;TZID=UTC:20240211T120000
DTSTAMP:20260422T062148
CREATED:20230201T202100Z
LAST-MODIFIED:20230201T202618Z
UID:10000094-1707649200-1707652800@www.bblutheran.com
SUMMARY:Worship at Hope 11:00 a.m.
DESCRIPTION:
URL:https://www.bblutheran.com/event/worship-at-1100-a-m/2024-02-11/
LOCATION:Hope Lutheran Church\, 45 Maple Street\, Beaver\, PA\, 15009\, United States
GEO:40.7051165;-80.4029977
X-APPLE-STRUCTURED-LOCATION;VALUE=URI;X-ADDRESS=Hope Lutheran Church 45 Maple Street Beaver PA 15009 United States;X-APPLE-RADIUS=500;X-TITLE=45 Maple Street:geo:-80.4029977,40.7051165
END:VEVENT
BEGIN:VEVENT
DTSTART;TZID=America/New_York:20240211T091500
DTEND;TZID=America/New_York:20240211T103000
DTSTAMP:20260422T062148
CREATED:20240202T195221Z
LAST-MODIFIED:20240202T195221Z
UID:10013624-1707642900-1707647400@www.bblutheran.com
SUMMARY:Worship - HTLC
DESCRIPTION:
URL:https://www.bblutheran.com/event/worship-htlc/
LOCATION:Holy Trinity Church\, 1098 3rd Street\, Beaver\, PA\, 15009\, United States
GEO:40.6930069;-80.3112194
X-APPLE-STRUCTURED-LOCATION;VALUE=URI;X-ADDRESS=Holy Trinity Church 1098 3rd Street Beaver PA 15009 United States;X-APPLE-RADIUS=500;X-TITLE=1098 3rd Street:geo:-80.3112194,40.6930069
END:VEVENT
BEGIN:VEVENT
DTSTART;TZID=America/New_York:20240211T091500
DTEND;TZID=America/New_York:20240211T103000
DTSTAMP:20260422T062148
CREATED:20240202T195131Z
LAST-MODIFIED:20240202T195131Z
UID:10013623-1707642900-1707647400@www.bblutheran.com
SUMMARY:Loose Offering HTLC
DESCRIPTION:
URL:https://www.bblutheran.com/event/loose-offering-htlc/
LOCATION:Holy Trinity Church\, 1098 3rd Street\, Beaver\, PA\, 15009\, United States
GEO:40.6930069;-80.3112194
X-APPLE-STRUCTURED-LOCATION;VALUE=URI;X-ADDRESS=Holy Trinity Church 1098 3rd Street Beaver PA 15009 United States;X-APPLE-RADIUS=500;X-TITLE=1098 3rd Street:geo:-80.3112194,40.6930069
END:VEVENT
BEGIN:VEVENT
DTSTART;TZID=UTC:20240211T091500
DTEND;TZID=UTC:20240211T101500
DTSTAMP:20260422T062148
CREATED:20230201T202448Z
LAST-MODIFIED:20230201T202448Z
UID:10000198-1707642900-1707646500@www.bblutheran.com
SUMMARY:Worship at Holy Trinity @ 9:15 a.m.
DESCRIPTION:
URL:https://www.bblutheran.com/event/worship-at-holy-trinity-915-a-m/2024-02-11/
LOCATION:Holy Trinity Church\, 1098 3rd Street\, Beaver\, PA\, 15009\, United States
GEO:40.6930069;-80.3112194
X-APPLE-STRUCTURED-LOCATION;VALUE=URI;X-ADDRESS=Holy Trinity Church 1098 3rd Street Beaver PA 15009 United States;X-APPLE-RADIUS=500;X-TITLE=1098 3rd Street:geo:-80.3112194,40.6930069
END:VEVENT
BEGIN:VEVENT
DTSTART;TZID=UTC:20240205T110000
DTEND;TZID=UTC:20240205T133000
DTSTAMP:20260422T062148
CREATED:20230427T201158Z
LAST-MODIFIED:20230427T201158Z
UID:10000431-1707130800-1707139800@www.bblutheran.com
SUMMARY:Bible Study at Holy Trinity
DESCRIPTION:All are welcome to join in a Bible study being held at Holy Trinity at 11:00 a.m. in the Fellowship hall.
URL:https://www.bblutheran.com/event/bible-study-at-holy-trinity-2-2/2024-02-05/
LOCATION:Holy Trinity Church\, 1098 3rd Street\, Beaver\, PA\, 15009\, United States
GEO:40.6930069;-80.3112194
X-APPLE-STRUCTURED-LOCATION;VALUE=URI;X-ADDRESS=Holy Trinity Church 1098 3rd Street Beaver PA 15009 United States;X-APPLE-RADIUS=500;X-TITLE=1098 3rd Street:geo:-80.3112194,40.6930069
END:VEVENT
BEGIN:VEVENT
DTSTART;TZID=UTC:20240204T110000
DTEND;TZID=UTC:20240204T120000
DTSTAMP:20260422T062148
CREATED:20230201T202100Z
LAST-MODIFIED:20230201T202618Z
UID:10000093-1707044400-1707048000@www.bblutheran.com
SUMMARY:Worship at Hope 11:00 a.m.
DESCRIPTION:
URL:https://www.bblutheran.com/event/worship-at-1100-a-m/2024-02-04/
LOCATION:Hope Lutheran Church\, 45 Maple Street\, Beaver\, PA\, 15009\, United States
GEO:40.7051165;-80.4029977
X-APPLE-STRUCTURED-LOCATION;VALUE=URI;X-ADDRESS=Hope Lutheran Church 45 Maple Street Beaver PA 15009 United States;X-APPLE-RADIUS=500;X-TITLE=45 Maple Street:geo:-80.4029977,40.7051165
END:VEVENT
BEGIN:VEVENT
DTSTART;TZID=America/New_York:20240204T091500
DTEND;TZID=America/New_York:20240204T103000
DTSTAMP:20260422T062148
CREATED:20240202T195039Z
LAST-MODIFIED:20240202T195039Z
UID:10013622-1707038100-1707042600@www.bblutheran.com
SUMMARY:Worship and Congregational Meeting at HTLC
DESCRIPTION:Annual congregational meeting will follow the 9:15 Worship.
URL:https://www.bblutheran.com/event/worship-and-congregational-meeting-at-htlc/
LOCATION:Holy Trinity Church\, 1098 3rd Street\, Beaver\, PA\, 15009\, United States
GEO:40.6930069;-80.3112194
X-APPLE-STRUCTURED-LOCATION;VALUE=URI;X-ADDRESS=Holy Trinity Church 1098 3rd Street Beaver PA 15009 United States;X-APPLE-RADIUS=500;X-TITLE=1098 3rd Street:geo:-80.3112194,40.6930069
END:VEVENT
BEGIN:VEVENT
DTSTART;TZID=UTC:20240204T091500
DTEND;TZID=UTC:20240204T101500
DTSTAMP:20260422T062148
CREATED:20230201T202448Z
LAST-MODIFIED:20230201T202448Z
UID:10000197-1707038100-1707041700@www.bblutheran.com
SUMMARY:Worship at Holy Trinity @ 9:15 a.m.
DESCRIPTION:
URL:https://www.bblutheran.com/event/worship-at-holy-trinity-915-a-m/2024-02-04/
LOCATION:Holy Trinity Church\, 1098 3rd Street\, Beaver\, PA\, 15009\, United States
GEO:40.6930069;-80.3112194
X-APPLE-STRUCTURED-LOCATION;VALUE=URI;X-ADDRESS=Holy Trinity Church 1098 3rd Street Beaver PA 15009 United States;X-APPLE-RADIUS=500;X-TITLE=1098 3rd Street:geo:-80.3112194,40.6930069
END:VEVENT
BEGIN:VEVENT
DTSTART;TZID=America/New_York:20240129T150000
DTEND;TZID=America/New_York:20240129T170000
DTSTAMP:20260422T062148
CREATED:20231227T165945Z
LAST-MODIFIED:20231227T165945Z
UID:10012048-1706540400-1706547600@www.bblutheran.com
SUMMARY:Confirmation Class at Holy Trinity
DESCRIPTION:
URL:https://www.bblutheran.com/event/confirmation-class-at-holy-trinity-14/
LOCATION:Holy Trinity Church\, 1098 3rd Street\, Beaver\, PA\, 15009\, United States
GEO:40.6930069;-80.3112194
X-APPLE-STRUCTURED-LOCATION;VALUE=URI;X-ADDRESS=Holy Trinity Church 1098 3rd Street Beaver PA 15009 United States;X-APPLE-RADIUS=500;X-TITLE=1098 3rd Street:geo:-80.3112194,40.6930069
END:VEVENT
BEGIN:VEVENT
DTSTART;TZID=America/New_York:20240128T120000
DTEND;TZID=America/New_York:20240128T133000
DTSTAMP:20260422T062148
CREATED:20231227T165807Z
LAST-MODIFIED:20231227T165807Z
UID:10012046-1706443200-1706448600@www.bblutheran.com
SUMMARY:Coffee hour and Annual Congegational meeting following worship at Hope
DESCRIPTION:
URL:https://www.bblutheran.com/event/coffee-hour-and-annual-congegational-meeting-following-worship-at-hope/
LOCATION:Hope Lutheran Church\, 45 Maple Street\, Beaver\, PA\, 15009\, United States
GEO:40.7051165;-80.4029977
X-APPLE-STRUCTURED-LOCATION;VALUE=URI;X-ADDRESS=Hope Lutheran Church 45 Maple Street Beaver PA 15009 United States;X-APPLE-RADIUS=500;X-TITLE=45 Maple Street:geo:-80.4029977,40.7051165
END:VEVENT
BEGIN:VEVENT
DTSTART;TZID=UTC:20240128T110000
DTEND;TZID=UTC:20240128T120000
DTSTAMP:20260422T062148
CREATED:20230330T225552Z
LAST-MODIFIED:20230330T225552Z
UID:10000515-1706439600-1706443200@www.bblutheran.com
SUMMARY:Food Pantry Collection
DESCRIPTION:Collection for the the food panty in Darlington on the second of each month. The pantry is run by First Presbyterial Church in Darlington.
URL:https://www.bblutheran.com/event/food-pantry-collection/2024-01-28/
LOCATION:Hope Lutheran Church\, 45 Maple Street\, Beaver\, PA\, 15009\, United States
GEO:40.7051165;-80.4029977
X-APPLE-STRUCTURED-LOCATION;VALUE=URI;X-ADDRESS=Hope Lutheran Church 45 Maple Street Beaver PA 15009 United States;X-APPLE-RADIUS=500;X-TITLE=45 Maple Street:geo:-80.4029977,40.7051165
END:VEVENT
BEGIN:VEVENT
DTSTART;TZID=UTC:20240128T110000
DTEND;TZID=UTC:20240128T120000
DTSTAMP:20260422T062148
CREATED:20230201T202100Z
LAST-MODIFIED:20230201T202618Z
UID:10000092-1706439600-1706443200@www.bblutheran.com
SUMMARY:Worship at Hope 11:00 a.m.
DESCRIPTION:
URL:https://www.bblutheran.com/event/worship-at-1100-a-m/2024-01-28/
LOCATION:Hope Lutheran Church\, 45 Maple Street\, Beaver\, PA\, 15009\, United States
GEO:40.7051165;-80.4029977
X-APPLE-STRUCTURED-LOCATION;VALUE=URI;X-ADDRESS=Hope Lutheran Church 45 Maple Street Beaver PA 15009 United States;X-APPLE-RADIUS=500;X-TITLE=45 Maple Street:geo:-80.4029977,40.7051165
END:VEVENT
BEGIN:VEVENT
DTSTART;TZID=UTC:20240128T091500
DTEND;TZID=UTC:20240128T101500
DTSTAMP:20260422T062148
CREATED:20230201T202448Z
LAST-MODIFIED:20230201T202448Z
UID:10000196-1706433300-1706436900@www.bblutheran.com
SUMMARY:Worship at Holy Trinity @ 9:15 a.m.
DESCRIPTION:
URL:https://www.bblutheran.com/event/worship-at-holy-trinity-915-a-m/2024-01-28/
LOCATION:Holy Trinity Church\, 1098 3rd Street\, Beaver\, PA\, 15009\, United States
GEO:40.6930069;-80.3112194
X-APPLE-STRUCTURED-LOCATION;VALUE=URI;X-ADDRESS=Holy Trinity Church 1098 3rd Street Beaver PA 15009 United States;X-APPLE-RADIUS=500;X-TITLE=1098 3rd Street:geo:-80.3112194,40.6930069
END:VEVENT
BEGIN:VEVENT
DTSTART;TZID=America/New_York:20240124T080000
DTEND;TZID=America/New_York:20240124T170000
DTSTAMP:20260422T062148
CREATED:20231227T165553Z
LAST-MODIFIED:20231227T165553Z
UID:10012044-1706083200-1706115600@www.bblutheran.com
SUMMARY:Newsletter Information Due
DESCRIPTION:
URL:https://www.bblutheran.com/event/newsletter-information-due-7/
LOCATION:PA
END:VEVENT
BEGIN:VEVENT
DTSTART;TZID=UTC:20240121T110000
DTEND;TZID=UTC:20240121T120000
DTSTAMP:20260422T062148
CREATED:20230201T202100Z
LAST-MODIFIED:20230201T202618Z
UID:10000091-1705834800-1705838400@www.bblutheran.com
SUMMARY:Worship at Hope 11:00 a.m.
DESCRIPTION:
URL:https://www.bblutheran.com/event/worship-at-1100-a-m/2024-01-21/
LOCATION:Hope Lutheran Church\, 45 Maple Street\, Beaver\, PA\, 15009\, United States
GEO:40.7051165;-80.4029977
X-APPLE-STRUCTURED-LOCATION;VALUE=URI;X-ADDRESS=Hope Lutheran Church 45 Maple Street Beaver PA 15009 United States;X-APPLE-RADIUS=500;X-TITLE=45 Maple Street:geo:-80.4029977,40.7051165
END:VEVENT
BEGIN:VEVENT
DTSTART;TZID=UTC:20240121T091500
DTEND;TZID=UTC:20240121T101500
DTSTAMP:20260422T062148
CREATED:20230201T202448Z
LAST-MODIFIED:20230201T202448Z
UID:10000195-1705828500-1705832100@www.bblutheran.com
SUMMARY:Worship at Holy Trinity @ 9:15 a.m.
DESCRIPTION:
URL:https://www.bblutheran.com/event/worship-at-holy-trinity-915-a-m/2024-01-21/
LOCATION:Holy Trinity Church\, 1098 3rd Street\, Beaver\, PA\, 15009\, United States
GEO:40.6930069;-80.3112194
X-APPLE-STRUCTURED-LOCATION;VALUE=URI;X-ADDRESS=Holy Trinity Church 1098 3rd Street Beaver PA 15009 United States;X-APPLE-RADIUS=500;X-TITLE=1098 3rd Street:geo:-80.3112194,40.6930069
END:VEVENT
BEGIN:VEVENT
DTSTART;TZID=America/New_York:20240121T080000
DTEND;TZID=America/New_York:20240121T170000
DTSTAMP:20260422T062148
CREATED:20231227T165659Z
LAST-MODIFIED:20231227T165659Z
UID:10012045-1705824000-1705856400@www.bblutheran.com
SUMMARY:Annual Reports are due from Hope
DESCRIPTION:
URL:https://www.bblutheran.com/event/annual-reports-are-due-from-hope/
LOCATION:Hope Lutheran Church\, 45 Maple Street\, Beaver\, PA\, 15009\, United States
GEO:40.7051165;-80.4029977
X-APPLE-STRUCTURED-LOCATION;VALUE=URI;X-ADDRESS=Hope Lutheran Church 45 Maple Street Beaver PA 15009 United States;X-APPLE-RADIUS=500;X-TITLE=45 Maple Street:geo:-80.4029977,40.7051165
END:VEVENT
BEGIN:VEVENT
DTSTART;TZID=America/New_York:20240115T190000
DTEND;TZID=America/New_York:20240115T203000
DTSTAMP:20260422T062148
CREATED:20231227T172031Z
LAST-MODIFIED:20231227T172031Z
UID:10012051-1705345200-1705350600@www.bblutheran.com
SUMMARY:Holy Trinity Council meeting
DESCRIPTION:
URL:https://www.bblutheran.com/event/holy-trinity-council-meeting-3/
LOCATION:Holy Trinity Church\, 1098 3rd Street\, Beaver\, PA\, 15009\, United States
GEO:40.6930069;-80.3112194
X-APPLE-STRUCTURED-LOCATION;VALUE=URI;X-ADDRESS=Holy Trinity Church 1098 3rd Street Beaver PA 15009 United States;X-APPLE-RADIUS=500;X-TITLE=1098 3rd Street:geo:-80.3112194,40.6930069
END:VEVENT
BEGIN:VEVENT
DTSTART;TZID=America/New_York:20240115T150000
DTEND;TZID=America/New_York:20240115T170000
DTSTAMP:20260422T062148
CREATED:20231227T170030Z
LAST-MODIFIED:20231227T170030Z
UID:10012049-1705330800-1705338000@www.bblutheran.com
SUMMARY:Confirmation Class at Holy Trinity
DESCRIPTION:
URL:https://www.bblutheran.com/event/confirmation-class-at-holy-trinity-15/
LOCATION:Holy Trinity Church\, 1098 3rd Street\, Beaver\, PA\, 15009\, United States
GEO:40.6930069;-80.3112194
X-APPLE-STRUCTURED-LOCATION;VALUE=URI;X-ADDRESS=Holy Trinity Church 1098 3rd Street Beaver PA 15009 United States;X-APPLE-RADIUS=500;X-TITLE=1098 3rd Street:geo:-80.3112194,40.6930069
END:VEVENT
BEGIN:VEVENT
DTSTART;TZID=America/New_York:20240115T120000
DTEND;TZID=America/New_York:20240115T133000
DTSTAMP:20260422T062148
CREATED:20231227T165513Z
LAST-MODIFIED:20231227T165513Z
UID:10012043-1705320000-1705325400@www.bblutheran.com
SUMMARY:Grief Group will meet at Hope
DESCRIPTION:
URL:https://www.bblutheran.com/event/grief-group-will-meet-at-hope/
LOCATION:Hope Lutheran Church\, 45 Maple Street\, Beaver\, PA\, 15009\, United States
GEO:40.7051165;-80.4029977
X-APPLE-STRUCTURED-LOCATION;VALUE=URI;X-ADDRESS=Hope Lutheran Church 45 Maple Street Beaver PA 15009 United States;X-APPLE-RADIUS=500;X-TITLE=45 Maple Street:geo:-80.4029977,40.7051165
END:VEVENT
BEGIN:VEVENT
DTSTART;TZID=UTC:20240114T110000
DTEND;TZID=UTC:20240114T120000
DTSTAMP:20260422T062148
CREATED:20230330T225552Z
LAST-MODIFIED:20230330T225552Z
UID:10000514-1705230000-1705233600@www.bblutheran.com
SUMMARY:Food Pantry Collection
DESCRIPTION:Collection for the the food panty in Darlington on the second of each month. The pantry is run by First Presbyterial Church in Darlington.
URL:https://www.bblutheran.com/event/food-pantry-collection/2024-01-14/
LOCATION:Hope Lutheran Church\, 45 Maple Street\, Beaver\, PA\, 15009\, United States
GEO:40.7051165;-80.4029977
X-APPLE-STRUCTURED-LOCATION;VALUE=URI;X-ADDRESS=Hope Lutheran Church 45 Maple Street Beaver PA 15009 United States;X-APPLE-RADIUS=500;X-TITLE=45 Maple Street:geo:-80.4029977,40.7051165
END:VEVENT
BEGIN:VEVENT
DTSTART;TZID=UTC:20240114T110000
DTEND;TZID=UTC:20240114T120000
DTSTAMP:20260422T062148
CREATED:20230201T202100Z
LAST-MODIFIED:20230201T202618Z
UID:10000090-1705230000-1705233600@www.bblutheran.com
SUMMARY:Worship at Hope 11:00 a.m.
DESCRIPTION:
URL:https://www.bblutheran.com/event/worship-at-1100-a-m/2024-01-14/
LOCATION:Hope Lutheran Church\, 45 Maple Street\, Beaver\, PA\, 15009\, United States
GEO:40.7051165;-80.4029977
X-APPLE-STRUCTURED-LOCATION;VALUE=URI;X-ADDRESS=Hope Lutheran Church 45 Maple Street Beaver PA 15009 United States;X-APPLE-RADIUS=500;X-TITLE=45 Maple Street:geo:-80.4029977,40.7051165
END:VEVENT
BEGIN:VEVENT
DTSTART;TZID=America/New_York:20240114T091500
DTEND;TZID=America/New_York:20240114T101500
DTSTAMP:20260422T062148
CREATED:20231227T170133Z
LAST-MODIFIED:20231227T170133Z
UID:10012050-1705223700-1705227300@www.bblutheran.com
SUMMARY:Loose Offerings at Holy Trinity
DESCRIPTION:
URL:https://www.bblutheran.com/event/loose-offerings-at-holy-trinity/
LOCATION:Holy Trinity Church\, 1098 3rd Street\, Beaver\, PA\, 15009\, United States
GEO:40.6930069;-80.3112194
X-APPLE-STRUCTURED-LOCATION;VALUE=URI;X-ADDRESS=Holy Trinity Church 1098 3rd Street Beaver PA 15009 United States;X-APPLE-RADIUS=500;X-TITLE=1098 3rd Street:geo:-80.3112194,40.6930069
END:VEVENT
BEGIN:VEVENT
DTSTART;TZID=UTC:20240114T091500
DTEND;TZID=UTC:20240114T101500
DTSTAMP:20260422T062148
CREATED:20230201T202448Z
LAST-MODIFIED:20230201T202448Z
UID:10000194-1705223700-1705227300@www.bblutheran.com
SUMMARY:Worship at Holy Trinity @ 9:15 a.m.
DESCRIPTION:
URL:https://www.bblutheran.com/event/worship-at-holy-trinity-915-a-m/2024-01-14/
LOCATION:Holy Trinity Church\, 1098 3rd Street\, Beaver\, PA\, 15009\, United States
GEO:40.6930069;-80.3112194
X-APPLE-STRUCTURED-LOCATION;VALUE=URI;X-ADDRESS=Holy Trinity Church 1098 3rd Street Beaver PA 15009 United States;X-APPLE-RADIUS=500;X-TITLE=1098 3rd Street:geo:-80.3112194,40.6930069
END:VEVENT
BEGIN:VEVENT
DTSTART;TZID=America/New_York:20240109T120000
DTEND;TZID=America/New_York:20240109T140000
DTSTAMP:20260422T062148
CREATED:20231227T165404Z
LAST-MODIFIED:20231227T165404Z
UID:10012042-1704801600-1704808800@www.bblutheran.com
SUMMARY:Circle will meet at Hope
DESCRIPTION:
URL:https://www.bblutheran.com/event/circle-will-meet-at-hope/
LOCATION:Hope Lutheran Church\, 45 Maple Street\, Beaver\, PA\, 15009\, United States
GEO:40.7051165;-80.4029977
X-APPLE-STRUCTURED-LOCATION;VALUE=URI;X-ADDRESS=Hope Lutheran Church 45 Maple Street Beaver PA 15009 United States;X-APPLE-RADIUS=500;X-TITLE=45 Maple Street:geo:-80.4029977,40.7051165
END:VEVENT
BEGIN:VEVENT
DTSTART;TZID=UTC:20240107T110000
DTEND;TZID=UTC:20240107T120000
DTSTAMP:20260422T062148
CREATED:20230201T202100Z
LAST-MODIFIED:20230201T202618Z
UID:10000089-1704625200-1704628800@www.bblutheran.com
SUMMARY:Worship at Hope 11:00 a.m.
DESCRIPTION:
URL:https://www.bblutheran.com/event/worship-at-1100-a-m/2024-01-07/
LOCATION:Hope Lutheran Church\, 45 Maple Street\, Beaver\, PA\, 15009\, United States
GEO:40.7051165;-80.4029977
X-APPLE-STRUCTURED-LOCATION;VALUE=URI;X-ADDRESS=Hope Lutheran Church 45 Maple Street Beaver PA 15009 United States;X-APPLE-RADIUS=500;X-TITLE=45 Maple Street:geo:-80.4029977,40.7051165
END:VEVENT
END:VCALENDAR