BEGIN:VCALENDAR
VERSION:2.0
PRODID:-// - ECPv6.3.3.1//NONSGML v1.0//EN
CALSCALE:GREGORIAN
METHOD:PUBLISH
X-ORIGINAL-URL:https://www.bblutheran.com
X-WR-CALDESC:Events for 
REFRESH-INTERVAL;VALUE=DURATION:PT1H
X-Robots-Tag:noindex
X-PUBLISHED-TTL:PT1H
BEGIN:VTIMEZONE
TZID:America/New_York
BEGIN:DAYLIGHT
TZOFFSETFROM:-0500
TZOFFSETTO:-0400
TZNAME:EDT
DTSTART:20260308T070000
END:DAYLIGHT
BEGIN:STANDARD
TZOFFSETFROM:-0400
TZOFFSETTO:-0500
TZNAME:EST
DTSTART:20261101T060000
END:STANDARD
TZID:UTC
BEGIN:STANDARD
TZOFFSETFROM:+0000
TZOFFSETTO:+0000
TZNAME:UTC
DTSTART:20260101T000000
END:STANDARD
END:VTIMEZONE
BEGIN:VEVENT
DTSTART;TZID=America/New_York:20260329T110000
DTEND;TZID=America/New_York:20260329T120000
DTSTAMP:20260420T013202
CREATED:20250613T002820Z
LAST-MODIFIED:20250613T002820Z
UID:10036453-1774782000-1774785600@www.bblutheran.com
SUMMARY:Hope Worship 11:00 a.m.
DESCRIPTION:
URL:https://www.bblutheran.com/event/hope-worship-1100-a-m/2026-03-29/
LOCATION:Hope Lutheran Church\, 45 Maple Street\, Beaver\, PA\, 15009\, United States
GEO:40.7051165;-80.4029977
X-APPLE-STRUCTURED-LOCATION;VALUE=URI;X-ADDRESS=Hope Lutheran Church 45 Maple Street Beaver PA 15009 United States;X-APPLE-RADIUS=500;X-TITLE=45 Maple Street:geo:-80.4029977,40.7051165
END:VEVENT
BEGIN:VEVENT
DTSTART;TZID=America/New_York:20260402T190000
DTEND;TZID=America/New_York:20260402T200000
DTSTAMP:20260420T013202
CREATED:20260225T171457Z
LAST-MODIFIED:20260225T171457Z
UID:10038372-1775156400-1775160000@www.bblutheran.com
SUMMARY:Maundy Thursday Service at Hope
DESCRIPTION:
URL:https://www.bblutheran.com/event/maundy-thursday-service-at-hope-2/
LOCATION:Hope Lutheran Church\, 45 Maple Street\, Beaver\, PA\, 15009\, United States
GEO:40.7051165;-80.4029977
X-APPLE-STRUCTURED-LOCATION;VALUE=URI;X-ADDRESS=Hope Lutheran Church 45 Maple Street Beaver PA 15009 United States;X-APPLE-RADIUS=500;X-TITLE=45 Maple Street:geo:-80.4029977,40.7051165
END:VEVENT
BEGIN:VEVENT
DTSTART;TZID=America/New_York:20260403T190000
DTEND;TZID=America/New_York:20260403T200000
DTSTAMP:20260420T013202
CREATED:20260225T171540Z
LAST-MODIFIED:20260225T171540Z
UID:10038373-1775242800-1775246400@www.bblutheran.com
SUMMARY:Good Friday Service at Holy Trinity
DESCRIPTION:
URL:https://www.bblutheran.com/event/good-friday-service-at-holy-trinity/
LOCATION:Holy Trinity Church\, 1098 3rd Street\, Beaver\, PA\, 15009\, United States
GEO:40.6930069;-80.3112194
X-APPLE-STRUCTURED-LOCATION;VALUE=URI;X-ADDRESS=Holy Trinity Church 1098 3rd Street Beaver PA 15009 United States;X-APPLE-RADIUS=500;X-TITLE=1098 3rd Street:geo:-80.3112194,40.6930069
END:VEVENT
BEGIN:VEVENT
DTSTART;TZID=America/New_York:20260405T080000
DTEND;TZID=America/New_York:20260405T170000
DTSTAMP:20260420T013202
CREATED:20260225T171612Z
LAST-MODIFIED:20260225T171612Z
UID:10038374-1775376000-1775408400@www.bblutheran.com
SUMMARY:Easter Sunday
DESCRIPTION:
URL:https://www.bblutheran.com/event/easter-sunday/
LOCATION:PA
END:VEVENT
BEGIN:VEVENT
DTSTART;TZID=America/New_York:20260405T091500
DTEND;TZID=America/New_York:20260405T101500
DTSTAMP:20260420T013202
CREATED:20250613T002622Z
LAST-MODIFIED:20250613T002622Z
UID:10036193-1775380500-1775384100@www.bblutheran.com
SUMMARY:Holy Trinity Worship 9:15 a.m.
DESCRIPTION:
URL:https://www.bblutheran.com/event/holy-trinity-worship-915-a-m/2026-04-05/
LOCATION:Holy Trinity Church\, 1098 3rd Street\, Beaver\, PA\, 15009\, United States
GEO:40.6930069;-80.3112194
X-APPLE-STRUCTURED-LOCATION;VALUE=URI;X-ADDRESS=Holy Trinity Church 1098 3rd Street Beaver PA 15009 United States;X-APPLE-RADIUS=500;X-TITLE=1098 3rd Street:geo:-80.3112194,40.6930069
END:VEVENT
BEGIN:VEVENT
DTSTART;TZID=America/New_York:20260405T110000
DTEND;TZID=America/New_York:20260405T120000
DTSTAMP:20260420T013202
CREATED:20250613T002820Z
LAST-MODIFIED:20250613T002820Z
UID:10036454-1775386800-1775390400@www.bblutheran.com
SUMMARY:Hope Worship 11:00 a.m.
DESCRIPTION:
URL:https://www.bblutheran.com/event/hope-worship-1100-a-m/2026-04-05/
LOCATION:Hope Lutheran Church\, 45 Maple Street\, Beaver\, PA\, 15009\, United States
GEO:40.7051165;-80.4029977
X-APPLE-STRUCTURED-LOCATION;VALUE=URI;X-ADDRESS=Hope Lutheran Church 45 Maple Street Beaver PA 15009 United States;X-APPLE-RADIUS=500;X-TITLE=45 Maple Street:geo:-80.4029977,40.7051165
END:VEVENT
BEGIN:VEVENT
DTSTART;TZID=America/New_York:20260412T091500
DTEND;TZID=America/New_York:20260412T101500
DTSTAMP:20260420T013202
CREATED:20250613T002622Z
LAST-MODIFIED:20250613T002622Z
UID:10036194-1775985300-1775988900@www.bblutheran.com
SUMMARY:Holy Trinity Worship 9:15 a.m.
DESCRIPTION:
URL:https://www.bblutheran.com/event/holy-trinity-worship-915-a-m/2026-04-12/
LOCATION:Holy Trinity Church\, 1098 3rd Street\, Beaver\, PA\, 15009\, United States
GEO:40.6930069;-80.3112194
X-APPLE-STRUCTURED-LOCATION;VALUE=URI;X-ADDRESS=Holy Trinity Church 1098 3rd Street Beaver PA 15009 United States;X-APPLE-RADIUS=500;X-TITLE=1098 3rd Street:geo:-80.3112194,40.6930069
END:VEVENT
BEGIN:VEVENT
DTSTART;TZID=America/New_York:20260412T110000
DTEND;TZID=America/New_York:20260412T120000
DTSTAMP:20260420T013202
CREATED:20250613T002820Z
LAST-MODIFIED:20250613T002820Z
UID:10036455-1775991600-1775995200@www.bblutheran.com
SUMMARY:Hope Worship 11:00 a.m.
DESCRIPTION:
URL:https://www.bblutheran.com/event/hope-worship-1100-a-m/2026-04-12/
LOCATION:Hope Lutheran Church\, 45 Maple Street\, Beaver\, PA\, 15009\, United States
GEO:40.7051165;-80.4029977
X-APPLE-STRUCTURED-LOCATION;VALUE=URI;X-ADDRESS=Hope Lutheran Church 45 Maple Street Beaver PA 15009 United States;X-APPLE-RADIUS=500;X-TITLE=45 Maple Street:geo:-80.4029977,40.7051165
END:VEVENT
BEGIN:VEVENT
DTSTART;TZID=UTC:20260413T110000
DTEND;TZID=UTC:20260413T133000
DTSTAMP:20260420T013202
CREATED:20260330T162025Z
LAST-MODIFIED:20260330T162131Z
UID:10000635-1776078000-1776087000@www.bblutheran.com
SUMMARY:Bible Study at Holy Trinity
DESCRIPTION:All are welcome to join in a Bible study being held at Holy Trinity at 11:00 a.m. in the Fellowship hall.
URL:https://www.bblutheran.com/event/bible-study-at-holy-trinity-2-2-3/
LOCATION:Holy Trinity Church\, 1098 3rd Street\, Beaver\, PA\, 15009\, United States
GEO:40.6930069;-80.3112194
X-APPLE-STRUCTURED-LOCATION;VALUE=URI;X-ADDRESS=Holy Trinity Church 1098 3rd Street Beaver PA 15009 United States;X-APPLE-RADIUS=500;X-TITLE=1098 3rd Street:geo:-80.3112194,40.6930069
END:VEVENT
BEGIN:VEVENT
DTSTART;TZID=America/New_York:20260414T190000
DTEND;TZID=America/New_York:20260414T210000
DTSTAMP:20260420T013202
CREATED:20260330T162826Z
LAST-MODIFIED:20260330T162826Z
UID:10038379-1776193200-1776200400@www.bblutheran.com
SUMMARY:Women of Hope
DESCRIPTION:Women of Hope General Meeting April 14 at 7pm. All women of the church are invited to come to this meeting. Refreshments will be served.
URL:https://www.bblutheran.com/event/women-of-hope/
LOCATION:Hope Lutheran Church\, 45 Maple Street\, Beaver\, PA\, 15009\, United States
GEO:40.7051165;-80.4029977
X-APPLE-STRUCTURED-LOCATION;VALUE=URI;X-ADDRESS=Hope Lutheran Church 45 Maple Street Beaver PA 15009 United States;X-APPLE-RADIUS=500;X-TITLE=45 Maple Street:geo:-80.4029977,40.7051165
END:VEVENT
BEGIN:VEVENT
DTSTART;TZID=America/New_York:20260415T190000
DTEND;TZID=America/New_York:20260415T210000
DTSTAMP:20260420T013202
CREATED:20260330T162709Z
LAST-MODIFIED:20260330T162709Z
UID:10038378-1776279600-1776286800@www.bblutheran.com
SUMMARY:Holy Trinity Council Meeting at 7:00 p.m.
DESCRIPTION:
URL:https://www.bblutheran.com/event/holy-trinity-council-meeting-at-700-p-m-4/
LOCATION:Holy Trinity Church\, 1098 3rd Street\, Beaver\, PA\, 15009\, United States
GEO:40.6930069;-80.3112194
X-APPLE-STRUCTURED-LOCATION;VALUE=URI;X-ADDRESS=Holy Trinity Church 1098 3rd Street Beaver PA 15009 United States;X-APPLE-RADIUS=500;X-TITLE=1098 3rd Street:geo:-80.3112194,40.6930069
END:VEVENT
BEGIN:VEVENT
DTSTART;TZID=America/New_York:20260419T091500
DTEND;TZID=America/New_York:20260419T101500
DTSTAMP:20260420T013202
CREATED:20250613T002622Z
LAST-MODIFIED:20250613T002622Z
UID:10036195-1776590100-1776593700@www.bblutheran.com
SUMMARY:Holy Trinity Worship 9:15 a.m.
DESCRIPTION:
URL:https://www.bblutheran.com/event/holy-trinity-worship-915-a-m/2026-04-19/
LOCATION:Holy Trinity Church\, 1098 3rd Street\, Beaver\, PA\, 15009\, United States
GEO:40.6930069;-80.3112194
X-APPLE-STRUCTURED-LOCATION;VALUE=URI;X-ADDRESS=Holy Trinity Church 1098 3rd Street Beaver PA 15009 United States;X-APPLE-RADIUS=500;X-TITLE=1098 3rd Street:geo:-80.3112194,40.6930069
END:VEVENT
BEGIN:VEVENT
DTSTART;TZID=America/New_York:20260419T110000
DTEND;TZID=America/New_York:20260419T120000
DTSTAMP:20260420T013202
CREATED:20250613T002820Z
LAST-MODIFIED:20250613T002820Z
UID:10036456-1776596400-1776600000@www.bblutheran.com
SUMMARY:Hope Worship 11:00 a.m.
DESCRIPTION:
URL:https://www.bblutheran.com/event/hope-worship-1100-a-m/2026-04-19/
LOCATION:Hope Lutheran Church\, 45 Maple Street\, Beaver\, PA\, 15009\, United States
GEO:40.7051165;-80.4029977
X-APPLE-STRUCTURED-LOCATION;VALUE=URI;X-ADDRESS=Hope Lutheran Church 45 Maple Street Beaver PA 15009 United States;X-APPLE-RADIUS=500;X-TITLE=45 Maple Street:geo:-80.4029977,40.7051165
END:VEVENT
BEGIN:VEVENT
DTSTART;TZID=America/New_York:20260419T120000
DTEND;TZID=America/New_York:20260419T133000
DTSTAMP:20260420T013202
CREATED:20260330T163017Z
LAST-MODIFIED:20260330T163017Z
UID:10038380-1776600000-1776605400@www.bblutheran.com
SUMMARY:Hope Council meeting following worship
DESCRIPTION:
URL:https://www.bblutheran.com/event/hope-council-meeting-following-worship-3/
LOCATION:Hope Lutheran Church\, 45 Maple Street\, Beaver\, PA\, 15009\, United States
GEO:40.7051165;-80.4029977
X-APPLE-STRUCTURED-LOCATION;VALUE=URI;X-ADDRESS=Hope Lutheran Church 45 Maple Street Beaver PA 15009 United States;X-APPLE-RADIUS=500;X-TITLE=45 Maple Street:geo:-80.4029977,40.7051165
END:VEVENT
BEGIN:VEVENT
DTSTART;TZID=America/New_York:20260420T110000
DTEND;TZID=America/New_York:20260420T130000
DTSTAMP:20260420T013202
CREATED:20260330T162325Z
LAST-MODIFIED:20260330T162325Z
UID:10038375-1776682800-1776690000@www.bblutheran.com
SUMMARY:Grief Group meets at Hope
DESCRIPTION:
URL:https://www.bblutheran.com/event/grief-group-meets-at-hope-7/
LOCATION:Hope Lutheran Church\, 45 Maple Street\, Beaver\, PA\, 15009\, United States
GEO:40.7051165;-80.4029977
X-APPLE-STRUCTURED-LOCATION;VALUE=URI;X-ADDRESS=Hope Lutheran Church 45 Maple Street Beaver PA 15009 United States;X-APPLE-RADIUS=500;X-TITLE=45 Maple Street:geo:-80.4029977,40.7051165
END:VEVENT
BEGIN:VEVENT
DTSTART;TZID=America/New_York:20260422T190000
DTEND;TZID=America/New_York:20260422T210000
DTSTAMP:20260420T013202
CREATED:20260225T163527Z
LAST-MODIFIED:20260225T163527Z
UID:10038360-1776884400-1776891600@www.bblutheran.com
SUMMARY:"Hope Rising" Community Concert
DESCRIPTION:
URL:https://www.bblutheran.com/event/hope-rising-community-concert/
LOCATION:Holy Trinity Church\, 1098 3rd Street\, Beaver\, PA\, 15009\, United States
GEO:40.6930069;-80.3112194
X-APPLE-STRUCTURED-LOCATION;VALUE=URI;X-ADDRESS=Holy Trinity Church 1098 3rd Street Beaver PA 15009 United States;X-APPLE-RADIUS=500;X-TITLE=1098 3rd Street:geo:-80.3112194,40.6930069
END:VEVENT
BEGIN:VEVENT
DTSTART;TZID=America/New_York:20260424T080000
DTEND;TZID=America/New_York:20260424T170000
DTSTAMP:20260420T013202
CREATED:20260330T162424Z
LAST-MODIFIED:20260330T162424Z
UID:10038376-1777017600-1777050000@www.bblutheran.com
SUMMARY:Newsletter Information Due
DESCRIPTION:
URL:https://www.bblutheran.com/event/newsletter-information-due-25/
LOCATION:PA
END:VEVENT
BEGIN:VEVENT
DTSTART;TZID=America/New_York:20260425T091500
DTEND;TZID=America/New_York:20260425T150000
DTSTAMP:20260420T013202
CREATED:20260330T162529Z
LAST-MODIFIED:20260330T162603Z
UID:10038377-1777108500-1777129200@www.bblutheran.com
SUMMARY:Women's Retreat at Hope
DESCRIPTION:“God\, you are the Potter\, we are the Clay” Saturday April 25 at Hope. Time: 9:15 to 3pm Breakfast and Lunch provided. You will be invited to decorate a mug to take home or to donate. We are gathering men’s and women’s gently used or new clothing donations for Beaver County Trails\, a faith based ministry supporting reentry into society of incarcerated individuals. (hoodies\, sweatshirts\, sweatpants\, cargo pants\, T-shirts\, socks\, jackets\, coats\, hats and gloves). Please sign up today!!
URL:https://www.bblutheran.com/event/womens-retreat-at-hope-3/
LOCATION:Hope Lutheran Church\, 45 Maple Street\, Beaver\, PA\, 15009\, United States
GEO:40.7051165;-80.4029977
X-APPLE-STRUCTURED-LOCATION;VALUE=URI;X-ADDRESS=Hope Lutheran Church 45 Maple Street Beaver PA 15009 United States;X-APPLE-RADIUS=500;X-TITLE=45 Maple Street:geo:-80.4029977,40.7051165
END:VEVENT
BEGIN:VEVENT
DTSTART;TZID=America/New_York:20260426T091500
DTEND;TZID=America/New_York:20260426T101500
DTSTAMP:20260420T013202
CREATED:20250613T002622Z
LAST-MODIFIED:20250613T002622Z
UID:10036196-1777194900-1777198500@www.bblutheran.com
SUMMARY:Holy Trinity Worship 9:15 a.m.
DESCRIPTION:
URL:https://www.bblutheran.com/event/holy-trinity-worship-915-a-m/2026-04-26/
LOCATION:Holy Trinity Church\, 1098 3rd Street\, Beaver\, PA\, 15009\, United States
GEO:40.6930069;-80.3112194
X-APPLE-STRUCTURED-LOCATION;VALUE=URI;X-ADDRESS=Holy Trinity Church 1098 3rd Street Beaver PA 15009 United States;X-APPLE-RADIUS=500;X-TITLE=1098 3rd Street:geo:-80.3112194,40.6930069
END:VEVENT
BEGIN:VEVENT
DTSTART;TZID=America/New_York:20260426T100000
DTEND;TZID=America/New_York:20260426T110000
DTSTAMP:20260420T013202
CREATED:20260330T163107Z
LAST-MODIFIED:20260330T163107Z
UID:10038381-1777197600-1777201200@www.bblutheran.com
SUMMARY:Katie Luther’s Kaffeeklatsch - Coffee Hour at Hope
DESCRIPTION:
URL:https://www.bblutheran.com/event/katie-luthers-kaffeeklatsch-coffee-hour-at-hope-5/
LOCATION:Hope Lutheran Church\, 45 Maple Street\, Beaver\, PA\, 15009\, United States
GEO:40.7051165;-80.4029977
X-APPLE-STRUCTURED-LOCATION;VALUE=URI;X-ADDRESS=Hope Lutheran Church 45 Maple Street Beaver PA 15009 United States;X-APPLE-RADIUS=500;X-TITLE=45 Maple Street:geo:-80.4029977,40.7051165
END:VEVENT
BEGIN:VEVENT
DTSTART;TZID=America/New_York:20260426T110000
DTEND;TZID=America/New_York:20260426T120000
DTSTAMP:20260420T013202
CREATED:20250613T002820Z
LAST-MODIFIED:20250613T002820Z
UID:10036457-1777201200-1777204800@www.bblutheran.com
SUMMARY:Hope Worship 11:00 a.m.
DESCRIPTION:
URL:https://www.bblutheran.com/event/hope-worship-1100-a-m/2026-04-26/
LOCATION:Hope Lutheran Church\, 45 Maple Street\, Beaver\, PA\, 15009\, United States
GEO:40.7051165;-80.4029977
X-APPLE-STRUCTURED-LOCATION;VALUE=URI;X-ADDRESS=Hope Lutheran Church 45 Maple Street Beaver PA 15009 United States;X-APPLE-RADIUS=500;X-TITLE=45 Maple Street:geo:-80.4029977,40.7051165
END:VEVENT
BEGIN:VEVENT
DTSTART;TZID=America/New_York:20260503T091500
DTEND;TZID=America/New_York:20260503T101500
DTSTAMP:20260420T013202
CREATED:20250613T002622Z
LAST-MODIFIED:20250613T002622Z
UID:10036197-1777799700-1777803300@www.bblutheran.com
SUMMARY:Holy Trinity Worship 9:15 a.m.
DESCRIPTION:
URL:https://www.bblutheran.com/event/holy-trinity-worship-915-a-m/2026-05-03/
LOCATION:Holy Trinity Church\, 1098 3rd Street\, Beaver\, PA\, 15009\, United States
GEO:40.6930069;-80.3112194
X-APPLE-STRUCTURED-LOCATION;VALUE=URI;X-ADDRESS=Holy Trinity Church 1098 3rd Street Beaver PA 15009 United States;X-APPLE-RADIUS=500;X-TITLE=1098 3rd Street:geo:-80.3112194,40.6930069
END:VEVENT
BEGIN:VEVENT
DTSTART;TZID=America/New_York:20260503T110000
DTEND;TZID=America/New_York:20260503T120000
DTSTAMP:20260420T013202
CREATED:20250613T002820Z
LAST-MODIFIED:20250613T002820Z
UID:10036458-1777806000-1777809600@www.bblutheran.com
SUMMARY:Hope Worship 11:00 a.m.
DESCRIPTION:
URL:https://www.bblutheran.com/event/hope-worship-1100-a-m/2026-05-03/
LOCATION:Hope Lutheran Church\, 45 Maple Street\, Beaver\, PA\, 15009\, United States
GEO:40.7051165;-80.4029977
X-APPLE-STRUCTURED-LOCATION;VALUE=URI;X-ADDRESS=Hope Lutheran Church 45 Maple Street Beaver PA 15009 United States;X-APPLE-RADIUS=500;X-TITLE=45 Maple Street:geo:-80.4029977,40.7051165
END:VEVENT
BEGIN:VEVENT
DTSTART;TZID=America/New_York:20260510T091500
DTEND;TZID=America/New_York:20260510T101500
DTSTAMP:20260420T013202
CREATED:20250613T002622Z
LAST-MODIFIED:20250613T002622Z
UID:10036198-1778404500-1778408100@www.bblutheran.com
SUMMARY:Holy Trinity Worship 9:15 a.m.
DESCRIPTION:
URL:https://www.bblutheran.com/event/holy-trinity-worship-915-a-m/2026-05-10/
LOCATION:Holy Trinity Church\, 1098 3rd Street\, Beaver\, PA\, 15009\, United States
GEO:40.6930069;-80.3112194
X-APPLE-STRUCTURED-LOCATION;VALUE=URI;X-ADDRESS=Holy Trinity Church 1098 3rd Street Beaver PA 15009 United States;X-APPLE-RADIUS=500;X-TITLE=1098 3rd Street:geo:-80.3112194,40.6930069
END:VEVENT
BEGIN:VEVENT
DTSTART;TZID=America/New_York:20260510T110000
DTEND;TZID=America/New_York:20260510T120000
DTSTAMP:20260420T013202
CREATED:20250613T002820Z
LAST-MODIFIED:20250613T002820Z
UID:10036459-1778410800-1778414400@www.bblutheran.com
SUMMARY:Hope Worship 11:00 a.m.
DESCRIPTION:
URL:https://www.bblutheran.com/event/hope-worship-1100-a-m/2026-05-10/
LOCATION:Hope Lutheran Church\, 45 Maple Street\, Beaver\, PA\, 15009\, United States
GEO:40.7051165;-80.4029977
X-APPLE-STRUCTURED-LOCATION;VALUE=URI;X-ADDRESS=Hope Lutheran Church 45 Maple Street Beaver PA 15009 United States;X-APPLE-RADIUS=500;X-TITLE=45 Maple Street:geo:-80.4029977,40.7051165
END:VEVENT
BEGIN:VEVENT
DTSTART;TZID=America/New_York:20260517T091500
DTEND;TZID=America/New_York:20260517T101500
DTSTAMP:20260420T013202
CREATED:20250613T002622Z
LAST-MODIFIED:20250613T002622Z
UID:10036199-1779009300-1779012900@www.bblutheran.com
SUMMARY:Holy Trinity Worship 9:15 a.m.
DESCRIPTION:
URL:https://www.bblutheran.com/event/holy-trinity-worship-915-a-m/2026-05-17/
LOCATION:Holy Trinity Church\, 1098 3rd Street\, Beaver\, PA\, 15009\, United States
GEO:40.6930069;-80.3112194
X-APPLE-STRUCTURED-LOCATION;VALUE=URI;X-ADDRESS=Holy Trinity Church 1098 3rd Street Beaver PA 15009 United States;X-APPLE-RADIUS=500;X-TITLE=1098 3rd Street:geo:-80.3112194,40.6930069
END:VEVENT
BEGIN:VEVENT
DTSTART;TZID=America/New_York:20260517T110000
DTEND;TZID=America/New_York:20260517T120000
DTSTAMP:20260420T013202
CREATED:20250613T002820Z
LAST-MODIFIED:20250613T002820Z
UID:10036460-1779015600-1779019200@www.bblutheran.com
SUMMARY:Hope Worship 11:00 a.m.
DESCRIPTION:
URL:https://www.bblutheran.com/event/hope-worship-1100-a-m/2026-05-17/
LOCATION:Hope Lutheran Church\, 45 Maple Street\, Beaver\, PA\, 15009\, United States
GEO:40.7051165;-80.4029977
X-APPLE-STRUCTURED-LOCATION;VALUE=URI;X-ADDRESS=Hope Lutheran Church 45 Maple Street Beaver PA 15009 United States;X-APPLE-RADIUS=500;X-TITLE=45 Maple Street:geo:-80.4029977,40.7051165
END:VEVENT
BEGIN:VEVENT
DTSTART;TZID=America/New_York:20260524T091500
DTEND;TZID=America/New_York:20260524T101500
DTSTAMP:20260420T013202
CREATED:20250613T002622Z
LAST-MODIFIED:20250613T002622Z
UID:10036200-1779614100-1779617700@www.bblutheran.com
SUMMARY:Holy Trinity Worship 9:15 a.m.
DESCRIPTION:
URL:https://www.bblutheran.com/event/holy-trinity-worship-915-a-m/2026-05-24/
LOCATION:Holy Trinity Church\, 1098 3rd Street\, Beaver\, PA\, 15009\, United States
GEO:40.6930069;-80.3112194
X-APPLE-STRUCTURED-LOCATION;VALUE=URI;X-ADDRESS=Holy Trinity Church 1098 3rd Street Beaver PA 15009 United States;X-APPLE-RADIUS=500;X-TITLE=1098 3rd Street:geo:-80.3112194,40.6930069
END:VEVENT
BEGIN:VEVENT
DTSTART;TZID=America/New_York:20260524T110000
DTEND;TZID=America/New_York:20260524T120000
DTSTAMP:20260420T013202
CREATED:20250613T002820Z
LAST-MODIFIED:20250613T002820Z
UID:10036461-1779620400-1779624000@www.bblutheran.com
SUMMARY:Hope Worship 11:00 a.m.
DESCRIPTION:
URL:https://www.bblutheran.com/event/hope-worship-1100-a-m/2026-05-24/
LOCATION:Hope Lutheran Church\, 45 Maple Street\, Beaver\, PA\, 15009\, United States
GEO:40.7051165;-80.4029977
X-APPLE-STRUCTURED-LOCATION;VALUE=URI;X-ADDRESS=Hope Lutheran Church 45 Maple Street Beaver PA 15009 United States;X-APPLE-RADIUS=500;X-TITLE=45 Maple Street:geo:-80.4029977,40.7051165
END:VEVENT
BEGIN:VEVENT
DTSTART;TZID=America/New_York:20260531T091500
DTEND;TZID=America/New_York:20260531T101500
DTSTAMP:20260420T013202
CREATED:20250613T002622Z
LAST-MODIFIED:20250613T002622Z
UID:10036201-1780218900-1780222500@www.bblutheran.com
SUMMARY:Holy Trinity Worship 9:15 a.m.
DESCRIPTION:
URL:https://www.bblutheran.com/event/holy-trinity-worship-915-a-m/2026-05-31/
LOCATION:Holy Trinity Church\, 1098 3rd Street\, Beaver\, PA\, 15009\, United States
GEO:40.6930069;-80.3112194
X-APPLE-STRUCTURED-LOCATION;VALUE=URI;X-ADDRESS=Holy Trinity Church 1098 3rd Street Beaver PA 15009 United States;X-APPLE-RADIUS=500;X-TITLE=1098 3rd Street:geo:-80.3112194,40.6930069
END:VEVENT
END:VCALENDAR