BEGIN:VCALENDAR
VERSION:2.0
PRODID:-// - ECPv6.3.3.1//NONSGML v1.0//EN
CALSCALE:GREGORIAN
METHOD:PUBLISH
X-ORIGINAL-URL:https://www.bblutheran.com
X-WR-CALDESC:Events for 
REFRESH-INTERVAL;VALUE=DURATION:PT1H
X-Robots-Tag:noindex
X-PUBLISHED-TTL:PT1H
BEGIN:VTIMEZONE
TZID:America/New_York
BEGIN:DAYLIGHT
TZOFFSETFROM:-0500
TZOFFSETTO:-0400
TZNAME:EDT
DTSTART:20280312T070000
END:DAYLIGHT
BEGIN:STANDARD
TZOFFSETFROM:-0400
TZOFFSETTO:-0500
TZNAME:EST
DTSTART:20281105T060000
END:STANDARD
BEGIN:DAYLIGHT
TZOFFSETFROM:-0500
TZOFFSETTO:-0400
TZNAME:EDT
DTSTART:20290311T070000
END:DAYLIGHT
BEGIN:STANDARD
TZOFFSETFROM:-0400
TZOFFSETTO:-0500
TZNAME:EST
DTSTART:20291104T060000
END:STANDARD
END:VTIMEZONE
BEGIN:VEVENT
DTSTART;TZID=America/New_York:20281217T091500
DTEND;TZID=America/New_York:20281217T101500
DTSTAMP:20260421T211029
CREATED:20250613T002622Z
LAST-MODIFIED:20250613T002622Z
UID:10036334-1860657300-1860660900@www.bblutheran.com
SUMMARY:Holy Trinity Worship 9:15 a.m.
DESCRIPTION:
URL:https://www.bblutheran.com/event/holy-trinity-worship-915-a-m/2028-12-17/
LOCATION:Holy Trinity Church\, 1098 3rd Street\, Beaver\, PA\, 15009\, United States
GEO:40.6930069;-80.3112194
X-APPLE-STRUCTURED-LOCATION;VALUE=URI;X-ADDRESS=Holy Trinity Church 1098 3rd Street Beaver PA 15009 United States;X-APPLE-RADIUS=500;X-TITLE=1098 3rd Street:geo:-80.3112194,40.6930069
END:VEVENT
BEGIN:VEVENT
DTSTART;TZID=America/New_York:20281217T110000
DTEND;TZID=America/New_York:20281217T120000
DTSTAMP:20260421T211029
CREATED:20250613T002820Z
LAST-MODIFIED:20250613T002820Z
UID:10036595-1860663600-1860667200@www.bblutheran.com
SUMMARY:Hope Worship 11:00 a.m.
DESCRIPTION:
URL:https://www.bblutheran.com/event/hope-worship-1100-a-m/2028-12-17/
LOCATION:Hope Lutheran Church\, 45 Maple Street\, Beaver\, PA\, 15009\, United States
GEO:40.7051165;-80.4029977
X-APPLE-STRUCTURED-LOCATION;VALUE=URI;X-ADDRESS=Hope Lutheran Church 45 Maple Street Beaver PA 15009 United States;X-APPLE-RADIUS=500;X-TITLE=45 Maple Street:geo:-80.4029977,40.7051165
END:VEVENT
BEGIN:VEVENT
DTSTART;TZID=America/New_York:20281224T091500
DTEND;TZID=America/New_York:20281224T101500
DTSTAMP:20260421T211029
CREATED:20250613T002622Z
LAST-MODIFIED:20250613T002622Z
UID:10036335-1861262100-1861265700@www.bblutheran.com
SUMMARY:Holy Trinity Worship 9:15 a.m.
DESCRIPTION:
URL:https://www.bblutheran.com/event/holy-trinity-worship-915-a-m/2028-12-24/
LOCATION:Holy Trinity Church\, 1098 3rd Street\, Beaver\, PA\, 15009\, United States
GEO:40.6930069;-80.3112194
X-APPLE-STRUCTURED-LOCATION;VALUE=URI;X-ADDRESS=Holy Trinity Church 1098 3rd Street Beaver PA 15009 United States;X-APPLE-RADIUS=500;X-TITLE=1098 3rd Street:geo:-80.3112194,40.6930069
END:VEVENT
BEGIN:VEVENT
DTSTART;TZID=America/New_York:20281224T110000
DTEND;TZID=America/New_York:20281224T120000
DTSTAMP:20260421T211029
CREATED:20250613T002820Z
LAST-MODIFIED:20250613T002820Z
UID:10036596-1861268400-1861272000@www.bblutheran.com
SUMMARY:Hope Worship 11:00 a.m.
DESCRIPTION:
URL:https://www.bblutheran.com/event/hope-worship-1100-a-m/2028-12-24/
LOCATION:Hope Lutheran Church\, 45 Maple Street\, Beaver\, PA\, 15009\, United States
GEO:40.7051165;-80.4029977
X-APPLE-STRUCTURED-LOCATION;VALUE=URI;X-ADDRESS=Hope Lutheran Church 45 Maple Street Beaver PA 15009 United States;X-APPLE-RADIUS=500;X-TITLE=45 Maple Street:geo:-80.4029977,40.7051165
END:VEVENT
BEGIN:VEVENT
DTSTART;TZID=America/New_York:20281231T091500
DTEND;TZID=America/New_York:20281231T101500
DTSTAMP:20260421T211029
CREATED:20250613T002622Z
LAST-MODIFIED:20250613T002622Z
UID:10036336-1861866900-1861870500@www.bblutheran.com
SUMMARY:Holy Trinity Worship 9:15 a.m.
DESCRIPTION:
URL:https://www.bblutheran.com/event/holy-trinity-worship-915-a-m/2028-12-31/
LOCATION:Holy Trinity Church\, 1098 3rd Street\, Beaver\, PA\, 15009\, United States
GEO:40.6930069;-80.3112194
X-APPLE-STRUCTURED-LOCATION;VALUE=URI;X-ADDRESS=Holy Trinity Church 1098 3rd Street Beaver PA 15009 United States;X-APPLE-RADIUS=500;X-TITLE=1098 3rd Street:geo:-80.3112194,40.6930069
END:VEVENT
BEGIN:VEVENT
DTSTART;TZID=America/New_York:20281231T110000
DTEND;TZID=America/New_York:20281231T120000
DTSTAMP:20260421T211029
CREATED:20250613T002820Z
LAST-MODIFIED:20250613T002820Z
UID:10036597-1861873200-1861876800@www.bblutheran.com
SUMMARY:Hope Worship 11:00 a.m.
DESCRIPTION:
URL:https://www.bblutheran.com/event/hope-worship-1100-a-m/2028-12-31/
LOCATION:Hope Lutheran Church\, 45 Maple Street\, Beaver\, PA\, 15009\, United States
GEO:40.7051165;-80.4029977
X-APPLE-STRUCTURED-LOCATION;VALUE=URI;X-ADDRESS=Hope Lutheran Church 45 Maple Street Beaver PA 15009 United States;X-APPLE-RADIUS=500;X-TITLE=45 Maple Street:geo:-80.4029977,40.7051165
END:VEVENT
BEGIN:VEVENT
DTSTART;TZID=America/New_York:20290107T091500
DTEND;TZID=America/New_York:20290107T101500
DTSTAMP:20260421T211029
CREATED:20250613T002622Z
LAST-MODIFIED:20250613T002622Z
UID:10036337-1862471700-1862475300@www.bblutheran.com
SUMMARY:Holy Trinity Worship 9:15 a.m.
DESCRIPTION:
URL:https://www.bblutheran.com/event/holy-trinity-worship-915-a-m/2029-01-07/
LOCATION:Holy Trinity Church\, 1098 3rd Street\, Beaver\, PA\, 15009\, United States
GEO:40.6930069;-80.3112194
X-APPLE-STRUCTURED-LOCATION;VALUE=URI;X-ADDRESS=Holy Trinity Church 1098 3rd Street Beaver PA 15009 United States;X-APPLE-RADIUS=500;X-TITLE=1098 3rd Street:geo:-80.3112194,40.6930069
END:VEVENT
BEGIN:VEVENT
DTSTART;TZID=America/New_York:20290107T110000
DTEND;TZID=America/New_York:20290107T120000
DTSTAMP:20260421T211029
CREATED:20250613T002820Z
LAST-MODIFIED:20250613T002820Z
UID:10036598-1862478000-1862481600@www.bblutheran.com
SUMMARY:Hope Worship 11:00 a.m.
DESCRIPTION:
URL:https://www.bblutheran.com/event/hope-worship-1100-a-m/2029-01-07/
LOCATION:Hope Lutheran Church\, 45 Maple Street\, Beaver\, PA\, 15009\, United States
GEO:40.7051165;-80.4029977
X-APPLE-STRUCTURED-LOCATION;VALUE=URI;X-ADDRESS=Hope Lutheran Church 45 Maple Street Beaver PA 15009 United States;X-APPLE-RADIUS=500;X-TITLE=45 Maple Street:geo:-80.4029977,40.7051165
END:VEVENT
BEGIN:VEVENT
DTSTART;TZID=America/New_York:20290114T091500
DTEND;TZID=America/New_York:20290114T101500
DTSTAMP:20260421T211029
CREATED:20250613T002622Z
LAST-MODIFIED:20250613T002622Z
UID:10036338-1863076500-1863080100@www.bblutheran.com
SUMMARY:Holy Trinity Worship 9:15 a.m.
DESCRIPTION:
URL:https://www.bblutheran.com/event/holy-trinity-worship-915-a-m/2029-01-14/
LOCATION:Holy Trinity Church\, 1098 3rd Street\, Beaver\, PA\, 15009\, United States
GEO:40.6930069;-80.3112194
X-APPLE-STRUCTURED-LOCATION;VALUE=URI;X-ADDRESS=Holy Trinity Church 1098 3rd Street Beaver PA 15009 United States;X-APPLE-RADIUS=500;X-TITLE=1098 3rd Street:geo:-80.3112194,40.6930069
END:VEVENT
BEGIN:VEVENT
DTSTART;TZID=America/New_York:20290114T110000
DTEND;TZID=America/New_York:20290114T120000
DTSTAMP:20260421T211029
CREATED:20250613T002820Z
LAST-MODIFIED:20250613T002820Z
UID:10036599-1863082800-1863086400@www.bblutheran.com
SUMMARY:Hope Worship 11:00 a.m.
DESCRIPTION:
URL:https://www.bblutheran.com/event/hope-worship-1100-a-m/2029-01-14/
LOCATION:Hope Lutheran Church\, 45 Maple Street\, Beaver\, PA\, 15009\, United States
GEO:40.7051165;-80.4029977
X-APPLE-STRUCTURED-LOCATION;VALUE=URI;X-ADDRESS=Hope Lutheran Church 45 Maple Street Beaver PA 15009 United States;X-APPLE-RADIUS=500;X-TITLE=45 Maple Street:geo:-80.4029977,40.7051165
END:VEVENT
BEGIN:VEVENT
DTSTART;TZID=America/New_York:20290121T091500
DTEND;TZID=America/New_York:20290121T101500
DTSTAMP:20260421T211029
CREATED:20250613T002622Z
LAST-MODIFIED:20250613T002622Z
UID:10036339-1863681300-1863684900@www.bblutheran.com
SUMMARY:Holy Trinity Worship 9:15 a.m.
DESCRIPTION:
URL:https://www.bblutheran.com/event/holy-trinity-worship-915-a-m/2029-01-21/
LOCATION:Holy Trinity Church\, 1098 3rd Street\, Beaver\, PA\, 15009\, United States
GEO:40.6930069;-80.3112194
X-APPLE-STRUCTURED-LOCATION;VALUE=URI;X-ADDRESS=Holy Trinity Church 1098 3rd Street Beaver PA 15009 United States;X-APPLE-RADIUS=500;X-TITLE=1098 3rd Street:geo:-80.3112194,40.6930069
END:VEVENT
BEGIN:VEVENT
DTSTART;TZID=America/New_York:20290121T110000
DTEND;TZID=America/New_York:20290121T120000
DTSTAMP:20260421T211029
CREATED:20250613T002820Z
LAST-MODIFIED:20250613T002820Z
UID:10036600-1863687600-1863691200@www.bblutheran.com
SUMMARY:Hope Worship 11:00 a.m.
DESCRIPTION:
URL:https://www.bblutheran.com/event/hope-worship-1100-a-m/2029-01-21/
LOCATION:Hope Lutheran Church\, 45 Maple Street\, Beaver\, PA\, 15009\, United States
GEO:40.7051165;-80.4029977
X-APPLE-STRUCTURED-LOCATION;VALUE=URI;X-ADDRESS=Hope Lutheran Church 45 Maple Street Beaver PA 15009 United States;X-APPLE-RADIUS=500;X-TITLE=45 Maple Street:geo:-80.4029977,40.7051165
END:VEVENT
BEGIN:VEVENT
DTSTART;TZID=America/New_York:20290128T091500
DTEND;TZID=America/New_York:20290128T101500
DTSTAMP:20260421T211029
CREATED:20250613T002622Z
LAST-MODIFIED:20250613T002622Z
UID:10036340-1864286100-1864289700@www.bblutheran.com
SUMMARY:Holy Trinity Worship 9:15 a.m.
DESCRIPTION:
URL:https://www.bblutheran.com/event/holy-trinity-worship-915-a-m/2029-01-28/
LOCATION:Holy Trinity Church\, 1098 3rd Street\, Beaver\, PA\, 15009\, United States
GEO:40.6930069;-80.3112194
X-APPLE-STRUCTURED-LOCATION;VALUE=URI;X-ADDRESS=Holy Trinity Church 1098 3rd Street Beaver PA 15009 United States;X-APPLE-RADIUS=500;X-TITLE=1098 3rd Street:geo:-80.3112194,40.6930069
END:VEVENT
BEGIN:VEVENT
DTSTART;TZID=America/New_York:20290128T110000
DTEND;TZID=America/New_York:20290128T120000
DTSTAMP:20260421T211029
CREATED:20250613T002820Z
LAST-MODIFIED:20250613T002820Z
UID:10036601-1864292400-1864296000@www.bblutheran.com
SUMMARY:Hope Worship 11:00 a.m.
DESCRIPTION:
URL:https://www.bblutheran.com/event/hope-worship-1100-a-m/2029-01-28/
LOCATION:Hope Lutheran Church\, 45 Maple Street\, Beaver\, PA\, 15009\, United States
GEO:40.7051165;-80.4029977
X-APPLE-STRUCTURED-LOCATION;VALUE=URI;X-ADDRESS=Hope Lutheran Church 45 Maple Street Beaver PA 15009 United States;X-APPLE-RADIUS=500;X-TITLE=45 Maple Street:geo:-80.4029977,40.7051165
END:VEVENT
BEGIN:VEVENT
DTSTART;TZID=America/New_York:20290204T091500
DTEND;TZID=America/New_York:20290204T101500
DTSTAMP:20260421T211029
CREATED:20250613T002622Z
LAST-MODIFIED:20250613T002622Z
UID:10036341-1864890900-1864894500@www.bblutheran.com
SUMMARY:Holy Trinity Worship 9:15 a.m.
DESCRIPTION:
URL:https://www.bblutheran.com/event/holy-trinity-worship-915-a-m/2029-02-04/
LOCATION:Holy Trinity Church\, 1098 3rd Street\, Beaver\, PA\, 15009\, United States
GEO:40.6930069;-80.3112194
X-APPLE-STRUCTURED-LOCATION;VALUE=URI;X-ADDRESS=Holy Trinity Church 1098 3rd Street Beaver PA 15009 United States;X-APPLE-RADIUS=500;X-TITLE=1098 3rd Street:geo:-80.3112194,40.6930069
END:VEVENT
BEGIN:VEVENT
DTSTART;TZID=America/New_York:20290204T110000
DTEND;TZID=America/New_York:20290204T120000
DTSTAMP:20260421T211029
CREATED:20250613T002820Z
LAST-MODIFIED:20250613T002820Z
UID:10036602-1864897200-1864900800@www.bblutheran.com
SUMMARY:Hope Worship 11:00 a.m.
DESCRIPTION:
URL:https://www.bblutheran.com/event/hope-worship-1100-a-m/2029-02-04/
LOCATION:Hope Lutheran Church\, 45 Maple Street\, Beaver\, PA\, 15009\, United States
GEO:40.7051165;-80.4029977
X-APPLE-STRUCTURED-LOCATION;VALUE=URI;X-ADDRESS=Hope Lutheran Church 45 Maple Street Beaver PA 15009 United States;X-APPLE-RADIUS=500;X-TITLE=45 Maple Street:geo:-80.4029977,40.7051165
END:VEVENT
BEGIN:VEVENT
DTSTART;TZID=America/New_York:20290211T091500
DTEND;TZID=America/New_York:20290211T101500
DTSTAMP:20260421T211029
CREATED:20250613T002622Z
LAST-MODIFIED:20250613T002622Z
UID:10036342-1865495700-1865499300@www.bblutheran.com
SUMMARY:Holy Trinity Worship 9:15 a.m.
DESCRIPTION:
URL:https://www.bblutheran.com/event/holy-trinity-worship-915-a-m/2029-02-11/
LOCATION:Holy Trinity Church\, 1098 3rd Street\, Beaver\, PA\, 15009\, United States
GEO:40.6930069;-80.3112194
X-APPLE-STRUCTURED-LOCATION;VALUE=URI;X-ADDRESS=Holy Trinity Church 1098 3rd Street Beaver PA 15009 United States;X-APPLE-RADIUS=500;X-TITLE=1098 3rd Street:geo:-80.3112194,40.6930069
END:VEVENT
BEGIN:VEVENT
DTSTART;TZID=America/New_York:20290211T110000
DTEND;TZID=America/New_York:20290211T120000
DTSTAMP:20260421T211029
CREATED:20250613T002820Z
LAST-MODIFIED:20250613T002820Z
UID:10036603-1865502000-1865505600@www.bblutheran.com
SUMMARY:Hope Worship 11:00 a.m.
DESCRIPTION:
URL:https://www.bblutheran.com/event/hope-worship-1100-a-m/2029-02-11/
LOCATION:Hope Lutheran Church\, 45 Maple Street\, Beaver\, PA\, 15009\, United States
GEO:40.7051165;-80.4029977
X-APPLE-STRUCTURED-LOCATION;VALUE=URI;X-ADDRESS=Hope Lutheran Church 45 Maple Street Beaver PA 15009 United States;X-APPLE-RADIUS=500;X-TITLE=45 Maple Street:geo:-80.4029977,40.7051165
END:VEVENT
BEGIN:VEVENT
DTSTART;TZID=America/New_York:20290218T091500
DTEND;TZID=America/New_York:20290218T101500
DTSTAMP:20260421T211029
CREATED:20250613T002622Z
LAST-MODIFIED:20250613T002622Z
UID:10036343-1866100500-1866104100@www.bblutheran.com
SUMMARY:Holy Trinity Worship 9:15 a.m.
DESCRIPTION:
URL:https://www.bblutheran.com/event/holy-trinity-worship-915-a-m/2029-02-18/
LOCATION:Holy Trinity Church\, 1098 3rd Street\, Beaver\, PA\, 15009\, United States
GEO:40.6930069;-80.3112194
X-APPLE-STRUCTURED-LOCATION;VALUE=URI;X-ADDRESS=Holy Trinity Church 1098 3rd Street Beaver PA 15009 United States;X-APPLE-RADIUS=500;X-TITLE=1098 3rd Street:geo:-80.3112194,40.6930069
END:VEVENT
BEGIN:VEVENT
DTSTART;TZID=America/New_York:20290218T110000
DTEND;TZID=America/New_York:20290218T120000
DTSTAMP:20260421T211029
CREATED:20250613T002820Z
LAST-MODIFIED:20250613T002820Z
UID:10036604-1866106800-1866110400@www.bblutheran.com
SUMMARY:Hope Worship 11:00 a.m.
DESCRIPTION:
URL:https://www.bblutheran.com/event/hope-worship-1100-a-m/2029-02-18/
LOCATION:Hope Lutheran Church\, 45 Maple Street\, Beaver\, PA\, 15009\, United States
GEO:40.7051165;-80.4029977
X-APPLE-STRUCTURED-LOCATION;VALUE=URI;X-ADDRESS=Hope Lutheran Church 45 Maple Street Beaver PA 15009 United States;X-APPLE-RADIUS=500;X-TITLE=45 Maple Street:geo:-80.4029977,40.7051165
END:VEVENT
BEGIN:VEVENT
DTSTART;TZID=America/New_York:20290225T091500
DTEND;TZID=America/New_York:20290225T101500
DTSTAMP:20260421T211029
CREATED:20250613T002622Z
LAST-MODIFIED:20250613T002622Z
UID:10036344-1866705300-1866708900@www.bblutheran.com
SUMMARY:Holy Trinity Worship 9:15 a.m.
DESCRIPTION:
URL:https://www.bblutheran.com/event/holy-trinity-worship-915-a-m/2029-02-25/
LOCATION:Holy Trinity Church\, 1098 3rd Street\, Beaver\, PA\, 15009\, United States
GEO:40.6930069;-80.3112194
X-APPLE-STRUCTURED-LOCATION;VALUE=URI;X-ADDRESS=Holy Trinity Church 1098 3rd Street Beaver PA 15009 United States;X-APPLE-RADIUS=500;X-TITLE=1098 3rd Street:geo:-80.3112194,40.6930069
END:VEVENT
BEGIN:VEVENT
DTSTART;TZID=America/New_York:20290225T110000
DTEND;TZID=America/New_York:20290225T120000
DTSTAMP:20260421T211029
CREATED:20250613T002820Z
LAST-MODIFIED:20250613T002820Z
UID:10036605-1866711600-1866715200@www.bblutheran.com
SUMMARY:Hope Worship 11:00 a.m.
DESCRIPTION:
URL:https://www.bblutheran.com/event/hope-worship-1100-a-m/2029-02-25/
LOCATION:Hope Lutheran Church\, 45 Maple Street\, Beaver\, PA\, 15009\, United States
GEO:40.7051165;-80.4029977
X-APPLE-STRUCTURED-LOCATION;VALUE=URI;X-ADDRESS=Hope Lutheran Church 45 Maple Street Beaver PA 15009 United States;X-APPLE-RADIUS=500;X-TITLE=45 Maple Street:geo:-80.4029977,40.7051165
END:VEVENT
BEGIN:VEVENT
DTSTART;TZID=America/New_York:20290304T091500
DTEND;TZID=America/New_York:20290304T101500
DTSTAMP:20260421T211029
CREATED:20250613T002622Z
LAST-MODIFIED:20250613T002622Z
UID:10036345-1867310100-1867313700@www.bblutheran.com
SUMMARY:Holy Trinity Worship 9:15 a.m.
DESCRIPTION:
URL:https://www.bblutheran.com/event/holy-trinity-worship-915-a-m/2029-03-04/
LOCATION:Holy Trinity Church\, 1098 3rd Street\, Beaver\, PA\, 15009\, United States
GEO:40.6930069;-80.3112194
X-APPLE-STRUCTURED-LOCATION;VALUE=URI;X-ADDRESS=Holy Trinity Church 1098 3rd Street Beaver PA 15009 United States;X-APPLE-RADIUS=500;X-TITLE=1098 3rd Street:geo:-80.3112194,40.6930069
END:VEVENT
BEGIN:VEVENT
DTSTART;TZID=America/New_York:20290304T110000
DTEND;TZID=America/New_York:20290304T120000
DTSTAMP:20260421T211029
CREATED:20250613T002820Z
LAST-MODIFIED:20250613T002820Z
UID:10036606-1867316400-1867320000@www.bblutheran.com
SUMMARY:Hope Worship 11:00 a.m.
DESCRIPTION:
URL:https://www.bblutheran.com/event/hope-worship-1100-a-m/2029-03-04/
LOCATION:Hope Lutheran Church\, 45 Maple Street\, Beaver\, PA\, 15009\, United States
GEO:40.7051165;-80.4029977
X-APPLE-STRUCTURED-LOCATION;VALUE=URI;X-ADDRESS=Hope Lutheran Church 45 Maple Street Beaver PA 15009 United States;X-APPLE-RADIUS=500;X-TITLE=45 Maple Street:geo:-80.4029977,40.7051165
END:VEVENT
BEGIN:VEVENT
DTSTART;TZID=America/New_York:20290311T091500
DTEND;TZID=America/New_York:20290311T101500
DTSTAMP:20260421T211029
CREATED:20250613T002622Z
LAST-MODIFIED:20250613T002622Z
UID:10036346-1867914900-1867918500@www.bblutheran.com
SUMMARY:Holy Trinity Worship 9:15 a.m.
DESCRIPTION:
URL:https://www.bblutheran.com/event/holy-trinity-worship-915-a-m/2029-03-11/
LOCATION:Holy Trinity Church\, 1098 3rd Street\, Beaver\, PA\, 15009\, United States
GEO:40.6930069;-80.3112194
X-APPLE-STRUCTURED-LOCATION;VALUE=URI;X-ADDRESS=Holy Trinity Church 1098 3rd Street Beaver PA 15009 United States;X-APPLE-RADIUS=500;X-TITLE=1098 3rd Street:geo:-80.3112194,40.6930069
END:VEVENT
BEGIN:VEVENT
DTSTART;TZID=America/New_York:20290311T110000
DTEND;TZID=America/New_York:20290311T120000
DTSTAMP:20260421T211029
CREATED:20250613T002820Z
LAST-MODIFIED:20250613T002820Z
UID:10036607-1867921200-1867924800@www.bblutheran.com
SUMMARY:Hope Worship 11:00 a.m.
DESCRIPTION:
URL:https://www.bblutheran.com/event/hope-worship-1100-a-m/2029-03-11/
LOCATION:Hope Lutheran Church\, 45 Maple Street\, Beaver\, PA\, 15009\, United States
GEO:40.7051165;-80.4029977
X-APPLE-STRUCTURED-LOCATION;VALUE=URI;X-ADDRESS=Hope Lutheran Church 45 Maple Street Beaver PA 15009 United States;X-APPLE-RADIUS=500;X-TITLE=45 Maple Street:geo:-80.4029977,40.7051165
END:VEVENT
BEGIN:VEVENT
DTSTART;TZID=America/New_York:20290318T091500
DTEND;TZID=America/New_York:20290318T101500
DTSTAMP:20260421T211029
CREATED:20250613T002622Z
LAST-MODIFIED:20250613T002622Z
UID:10036347-1868519700-1868523300@www.bblutheran.com
SUMMARY:Holy Trinity Worship 9:15 a.m.
DESCRIPTION:
URL:https://www.bblutheran.com/event/holy-trinity-worship-915-a-m/2029-03-18/
LOCATION:Holy Trinity Church\, 1098 3rd Street\, Beaver\, PA\, 15009\, United States
GEO:40.6930069;-80.3112194
X-APPLE-STRUCTURED-LOCATION;VALUE=URI;X-ADDRESS=Holy Trinity Church 1098 3rd Street Beaver PA 15009 United States;X-APPLE-RADIUS=500;X-TITLE=1098 3rd Street:geo:-80.3112194,40.6930069
END:VEVENT
BEGIN:VEVENT
DTSTART;TZID=America/New_York:20290318T110000
DTEND;TZID=America/New_York:20290318T120000
DTSTAMP:20260421T211029
CREATED:20250613T002820Z
LAST-MODIFIED:20250613T002820Z
UID:10036608-1868526000-1868529600@www.bblutheran.com
SUMMARY:Hope Worship 11:00 a.m.
DESCRIPTION:
URL:https://www.bblutheran.com/event/hope-worship-1100-a-m/2029-03-18/
LOCATION:Hope Lutheran Church\, 45 Maple Street\, Beaver\, PA\, 15009\, United States
GEO:40.7051165;-80.4029977
X-APPLE-STRUCTURED-LOCATION;VALUE=URI;X-ADDRESS=Hope Lutheran Church 45 Maple Street Beaver PA 15009 United States;X-APPLE-RADIUS=500;X-TITLE=45 Maple Street:geo:-80.4029977,40.7051165
END:VEVENT
BEGIN:VEVENT
DTSTART;TZID=America/New_York:20290325T091500
DTEND;TZID=America/New_York:20290325T101500
DTSTAMP:20260421T211029
CREATED:20250613T002622Z
LAST-MODIFIED:20250613T002622Z
UID:10036348-1869124500-1869128100@www.bblutheran.com
SUMMARY:Holy Trinity Worship 9:15 a.m.
DESCRIPTION:
URL:https://www.bblutheran.com/event/holy-trinity-worship-915-a-m/2029-03-25/
LOCATION:Holy Trinity Church\, 1098 3rd Street\, Beaver\, PA\, 15009\, United States
GEO:40.6930069;-80.3112194
X-APPLE-STRUCTURED-LOCATION;VALUE=URI;X-ADDRESS=Holy Trinity Church 1098 3rd Street Beaver PA 15009 United States;X-APPLE-RADIUS=500;X-TITLE=1098 3rd Street:geo:-80.3112194,40.6930069
END:VEVENT
BEGIN:VEVENT
DTSTART;TZID=America/New_York:20290325T110000
DTEND;TZID=America/New_York:20290325T120000
DTSTAMP:20260421T211029
CREATED:20250613T002820Z
LAST-MODIFIED:20250613T002820Z
UID:10036609-1869130800-1869134400@www.bblutheran.com
SUMMARY:Hope Worship 11:00 a.m.
DESCRIPTION:
URL:https://www.bblutheran.com/event/hope-worship-1100-a-m/2029-03-25/
LOCATION:Hope Lutheran Church\, 45 Maple Street\, Beaver\, PA\, 15009\, United States
GEO:40.7051165;-80.4029977
X-APPLE-STRUCTURED-LOCATION;VALUE=URI;X-ADDRESS=Hope Lutheran Church 45 Maple Street Beaver PA 15009 United States;X-APPLE-RADIUS=500;X-TITLE=45 Maple Street:geo:-80.4029977,40.7051165
END:VEVENT
END:VCALENDAR