BEGIN:VCALENDAR
VERSION:2.0
PRODID:-// - ECPv6.3.3.1//NONSGML v1.0//EN
CALSCALE:GREGORIAN
METHOD:PUBLISH
X-ORIGINAL-URL:https://www.bblutheran.com
X-WR-CALDESC:Events for 
REFRESH-INTERVAL;VALUE=DURATION:PT1H
X-Robots-Tag:noindex
X-PUBLISHED-TTL:PT1H
BEGIN:VTIMEZONE
TZID:UTC
BEGIN:STANDARD
TZOFFSETFROM:+0000
TZOFFSETTO:+0000
TZNAME:UTC
DTSTART:20240101T000000
END:STANDARD
TZID:America/New_York
BEGIN:DAYLIGHT
TZOFFSETFROM:-0500
TZOFFSETTO:-0400
TZNAME:EDT
DTSTART:20250309T070000
END:DAYLIGHT
BEGIN:STANDARD
TZOFFSETFROM:-0400
TZOFFSETTO:-0500
TZNAME:EST
DTSTART:20251102T060000
END:STANDARD
END:VTIMEZONE
BEGIN:VEVENT
DTSTART;TZID=UTC:20241229T110000
DTEND;TZID=UTC:20241229T120000
DTSTAMP:20260420T172336
CREATED:20230330T225552Z
LAST-MODIFIED:20230330T225552Z
UID:10000539-1735470000-1735473600@www.bblutheran.com
SUMMARY:Food Pantry Collection
DESCRIPTION:Collection for the the food panty in Darlington on the second of each month. The pantry is run by First Presbyterial Church in Darlington.
URL:https://www.bblutheran.com/event/food-pantry-collection/2024-12-29/
LOCATION:Hope Lutheran Church\, 45 Maple Street\, Beaver\, PA\, 15009\, United States
GEO:40.7051165;-80.4029977
X-APPLE-STRUCTURED-LOCATION;VALUE=URI;X-ADDRESS=Hope Lutheran Church 45 Maple Street Beaver PA 15009 United States;X-APPLE-RADIUS=500;X-TITLE=45 Maple Street:geo:-80.4029977,40.7051165
END:VEVENT
BEGIN:VEVENT
DTSTART;TZID=America/New_York:20250101T080000
DTEND;TZID=America/New_York:20250101T170000
DTSTAMP:20260420T172336
CREATED:20241204T165632Z
LAST-MODIFIED:20241204T165632Z
UID:10027585-1735718400-1735750800@www.bblutheran.com
SUMMARY:Happy New Year!
DESCRIPTION:
URL:https://www.bblutheran.com/event/happy-new-year/
LOCATION:PA
END:VEVENT
BEGIN:VEVENT
DTSTART;TZID=UTC:20250105T091500
DTEND;TZID=UTC:20250105T101500
DTSTAMP:20260420T172336
CREATED:20230201T202448Z
LAST-MODIFIED:20230201T202448Z
UID:10000245-1736068500-1736072100@www.bblutheran.com
SUMMARY:Worship at Holy Trinity @ 9:15 a.m.
DESCRIPTION:
URL:https://www.bblutheran.com/event/worship-at-holy-trinity-915-a-m/2025-01-05/
LOCATION:Holy Trinity Church\, 1098 3rd Street\, Beaver\, PA\, 15009\, United States
GEO:40.6930069;-80.3112194
X-APPLE-STRUCTURED-LOCATION;VALUE=URI;X-ADDRESS=Holy Trinity Church 1098 3rd Street Beaver PA 15009 United States;X-APPLE-RADIUS=500;X-TITLE=1098 3rd Street:geo:-80.3112194,40.6930069
END:VEVENT
BEGIN:VEVENT
DTSTART;TZID=UTC:20250105T110000
DTEND;TZID=UTC:20250105T120000
DTSTAMP:20260420T172336
CREATED:20230201T202100Z
LAST-MODIFIED:20230201T202618Z
UID:10000141-1736074800-1736078400@www.bblutheran.com
SUMMARY:Worship at Hope 11:00 a.m.
DESCRIPTION:
URL:https://www.bblutheran.com/event/worship-at-1100-a-m/2025-01-05/
LOCATION:Hope Lutheran Church\, 45 Maple Street\, Beaver\, PA\, 15009\, United States
GEO:40.7051165;-80.4029977
X-APPLE-STRUCTURED-LOCATION;VALUE=URI;X-ADDRESS=Hope Lutheran Church 45 Maple Street Beaver PA 15009 United States;X-APPLE-RADIUS=500;X-TITLE=45 Maple Street:geo:-80.4029977,40.7051165
END:VEVENT
BEGIN:VEVENT
DTSTART;TZID=America/New_York:20250105T110000
DTEND;TZID=America/New_York:20250105T120000
DTSTAMP:20260420T172336
CREATED:20241231T170532Z
LAST-MODIFIED:20241231T170532Z
UID:10028845-1736074800-1736078400@www.bblutheran.com
SUMMARY:Men's Shelter Donations at Hope
DESCRIPTION:
URL:https://www.bblutheran.com/event/mens-shelter-donations-at-hope-5/
LOCATION:Hope Lutheran Church\, 45 Maple Street\, Beaver\, PA\, 15009\, United States
GEO:40.7051165;-80.4029977
X-APPLE-STRUCTURED-LOCATION;VALUE=URI;X-ADDRESS=Hope Lutheran Church 45 Maple Street Beaver PA 15009 United States;X-APPLE-RADIUS=500;X-TITLE=45 Maple Street:geo:-80.4029977,40.7051165
END:VEVENT
BEGIN:VEVENT
DTSTART;TZID=America/New_York:20250106T110000
DTEND;TZID=America/New_York:20250106T140000
DTSTAMP:20260420T172336
CREATED:20241231T171052Z
LAST-MODIFIED:20241231T171052Z
UID:10028851-1736161200-1736172000@www.bblutheran.com
SUMMARY:Bible Study at Holy Trinity
DESCRIPTION:
URL:https://www.bblutheran.com/event/bible-study-at-holy-trinity-7/
LOCATION:Holy Trinity Church\, 1098 3rd Street\, Beaver\, PA\, 15009\, United States
GEO:40.6930069;-80.3112194
X-APPLE-STRUCTURED-LOCATION;VALUE=URI;X-ADDRESS=Holy Trinity Church 1098 3rd Street Beaver PA 15009 United States;X-APPLE-RADIUS=500;X-TITLE=1098 3rd Street:geo:-80.3112194,40.6930069
END:VEVENT
BEGIN:VEVENT
DTSTART;TZID=UTC:20250112T091500
DTEND;TZID=UTC:20250112T101500
DTSTAMP:20260420T172336
CREATED:20230201T202448Z
LAST-MODIFIED:20230201T202448Z
UID:10000246-1736673300-1736676900@www.bblutheran.com
SUMMARY:Worship at Holy Trinity @ 9:15 a.m.
DESCRIPTION:
URL:https://www.bblutheran.com/event/worship-at-holy-trinity-915-a-m/2025-01-12/
LOCATION:Holy Trinity Church\, 1098 3rd Street\, Beaver\, PA\, 15009\, United States
GEO:40.6930069;-80.3112194
X-APPLE-STRUCTURED-LOCATION;VALUE=URI;X-ADDRESS=Holy Trinity Church 1098 3rd Street Beaver PA 15009 United States;X-APPLE-RADIUS=500;X-TITLE=1098 3rd Street:geo:-80.3112194,40.6930069
END:VEVENT
BEGIN:VEVENT
DTSTART;TZID=UTC:20250112T110000
DTEND;TZID=UTC:20250112T120000
DTSTAMP:20260420T172336
CREATED:20230201T202100Z
LAST-MODIFIED:20230201T202618Z
UID:10000142-1736679600-1736683200@www.bblutheran.com
SUMMARY:Worship at Hope 11:00 a.m.
DESCRIPTION:
URL:https://www.bblutheran.com/event/worship-at-1100-a-m/2025-01-12/
LOCATION:Hope Lutheran Church\, 45 Maple Street\, Beaver\, PA\, 15009\, United States
GEO:40.7051165;-80.4029977
X-APPLE-STRUCTURED-LOCATION;VALUE=URI;X-ADDRESS=Hope Lutheran Church 45 Maple Street Beaver PA 15009 United States;X-APPLE-RADIUS=500;X-TITLE=45 Maple Street:geo:-80.4029977,40.7051165
END:VEVENT
BEGIN:VEVENT
DTSTART;TZID=UTC:20250112T110000
DTEND;TZID=UTC:20250112T120000
DTSTAMP:20260420T172336
CREATED:20230330T225552Z
LAST-MODIFIED:20230330T225552Z
UID:10000540-1736679600-1736683200@www.bblutheran.com
SUMMARY:Food Pantry Collection
DESCRIPTION:Collection for the the food panty in Darlington on the second of each month. The pantry is run by First Presbyterial Church in Darlington.
URL:https://www.bblutheran.com/event/food-pantry-collection/2025-01-12/
LOCATION:Hope Lutheran Church\, 45 Maple Street\, Beaver\, PA\, 15009\, United States
GEO:40.7051165;-80.4029977
X-APPLE-STRUCTURED-LOCATION;VALUE=URI;X-ADDRESS=Hope Lutheran Church 45 Maple Street Beaver PA 15009 United States;X-APPLE-RADIUS=500;X-TITLE=45 Maple Street:geo:-80.4029977,40.7051165
END:VEVENT
BEGIN:VEVENT
DTSTART;TZID=America/New_York:20250112T120000
DTEND;TZID=America/New_York:20250112T140000
DTSTAMP:20260420T172336
CREATED:20241231T170655Z
LAST-MODIFIED:20241231T170655Z
UID:10028847-1736683200-1736690400@www.bblutheran.com
SUMMARY:Hope council meeting following worship
DESCRIPTION:
URL:https://www.bblutheran.com/event/hope-council-meeting-following-worship-2/
LOCATION:Hope Lutheran Church\, 45 Maple Street\, Beaver\, PA\, 15009\, United States
GEO:40.7051165;-80.4029977
X-APPLE-STRUCTURED-LOCATION;VALUE=URI;X-ADDRESS=Hope Lutheran Church 45 Maple Street Beaver PA 15009 United States;X-APPLE-RADIUS=500;X-TITLE=45 Maple Street:geo:-80.4029977,40.7051165
END:VEVENT
BEGIN:VEVENT
DTSTART;TZID=America/New_York:20250113T110000
DTEND;TZID=America/New_York:20250113T140000
DTSTAMP:20260420T172336
CREATED:20241231T170735Z
LAST-MODIFIED:20241231T170735Z
UID:10028848-1736766000-1736776800@www.bblutheran.com
SUMMARY:Grief Group at Hope
DESCRIPTION:
URL:https://www.bblutheran.com/event/grief-group-at-hope-10/
LOCATION:Hope Lutheran Church\, 45 Maple Street\, Beaver\, PA\, 15009\, United States
GEO:40.7051165;-80.4029977
X-APPLE-STRUCTURED-LOCATION;VALUE=URI;X-ADDRESS=Hope Lutheran Church 45 Maple Street Beaver PA 15009 United States;X-APPLE-RADIUS=500;X-TITLE=45 Maple Street:geo:-80.4029977,40.7051165
END:VEVENT
BEGIN:VEVENT
DTSTART;TZID=America/New_York:20250115T190000
DTEND;TZID=America/New_York:20250115T210000
DTSTAMP:20260420T172336
CREATED:20241231T171143Z
LAST-MODIFIED:20241231T171143Z
UID:10028852-1736967600-1736974800@www.bblutheran.com
SUMMARY:Holy Trinity council meeting
DESCRIPTION:
URL:https://www.bblutheran.com/event/holy-trinity-council-meeting-10/
LOCATION:Holy Trinity Church\, 1098 3rd Street\, Beaver\, PA\, 15009\, United States
GEO:40.6930069;-80.3112194
X-APPLE-STRUCTURED-LOCATION;VALUE=URI;X-ADDRESS=Holy Trinity Church 1098 3rd Street Beaver PA 15009 United States;X-APPLE-RADIUS=500;X-TITLE=1098 3rd Street:geo:-80.3112194,40.6930069
END:VEVENT
BEGIN:VEVENT
DTSTART;TZID=America/New_York:20250116T080000
DTEND;TZID=America/New_York:20250116T170000
DTSTAMP:20260420T172336
CREATED:20241231T171228Z
LAST-MODIFIED:20241231T171228Z
UID:10028853-1737014400-1737046800@www.bblutheran.com
SUMMARY:Men's shelter meal  & delivery
DESCRIPTION:
URL:https://www.bblutheran.com/event/mens-shelter-meal-delivery/
LOCATION:Holy Trinity Church\, 1098 3rd Street\, Beaver\, PA\, 15009\, United States
GEO:40.6930069;-80.3112194
X-APPLE-STRUCTURED-LOCATION;VALUE=URI;X-ADDRESS=Holy Trinity Church 1098 3rd Street Beaver PA 15009 United States;X-APPLE-RADIUS=500;X-TITLE=1098 3rd Street:geo:-80.3112194,40.6930069
END:VEVENT
BEGIN:VEVENT
DTSTART;TZID=UTC:20250119T091500
DTEND;TZID=UTC:20250119T101500
DTSTAMP:20260420T172336
CREATED:20230201T202448Z
LAST-MODIFIED:20230201T202448Z
UID:10000247-1737278100-1737281700@www.bblutheran.com
SUMMARY:Worship at Holy Trinity @ 9:15 a.m.
DESCRIPTION:
URL:https://www.bblutheran.com/event/worship-at-holy-trinity-915-a-m/2025-01-19/
LOCATION:Holy Trinity Church\, 1098 3rd Street\, Beaver\, PA\, 15009\, United States
GEO:40.6930069;-80.3112194
X-APPLE-STRUCTURED-LOCATION;VALUE=URI;X-ADDRESS=Holy Trinity Church 1098 3rd Street Beaver PA 15009 United States;X-APPLE-RADIUS=500;X-TITLE=1098 3rd Street:geo:-80.3112194,40.6930069
END:VEVENT
BEGIN:VEVENT
DTSTART;TZID=UTC:20250119T110000
DTEND;TZID=UTC:20250119T120000
DTSTAMP:20260420T172336
CREATED:20230201T202100Z
LAST-MODIFIED:20230201T202618Z
UID:10000143-1737284400-1737288000@www.bblutheran.com
SUMMARY:Worship at Hope 11:00 a.m.
DESCRIPTION:
URL:https://www.bblutheran.com/event/worship-at-1100-a-m/2025-01-19/
LOCATION:Hope Lutheran Church\, 45 Maple Street\, Beaver\, PA\, 15009\, United States
GEO:40.7051165;-80.4029977
X-APPLE-STRUCTURED-LOCATION;VALUE=URI;X-ADDRESS=Hope Lutheran Church 45 Maple Street Beaver PA 15009 United States;X-APPLE-RADIUS=500;X-TITLE=45 Maple Street:geo:-80.4029977,40.7051165
END:VEVENT
BEGIN:VEVENT
DTSTART;TZID=UTC:20250126T091500
DTEND;TZID=UTC:20250126T101500
DTSTAMP:20260420T172336
CREATED:20230201T202448Z
LAST-MODIFIED:20230201T202448Z
UID:10000248-1737882900-1737886500@www.bblutheran.com
SUMMARY:Worship at Holy Trinity @ 9:15 a.m.
DESCRIPTION:
URL:https://www.bblutheran.com/event/worship-at-holy-trinity-915-a-m/2025-01-26/
LOCATION:Holy Trinity Church\, 1098 3rd Street\, Beaver\, PA\, 15009\, United States
GEO:40.6930069;-80.3112194
X-APPLE-STRUCTURED-LOCATION;VALUE=URI;X-ADDRESS=Holy Trinity Church 1098 3rd Street Beaver PA 15009 United States;X-APPLE-RADIUS=500;X-TITLE=1098 3rd Street:geo:-80.3112194,40.6930069
END:VEVENT
BEGIN:VEVENT
DTSTART;TZID=UTC:20250126T110000
DTEND;TZID=UTC:20250126T120000
DTSTAMP:20260420T172336
CREATED:20230201T202100Z
LAST-MODIFIED:20230201T202618Z
UID:10000144-1737889200-1737892800@www.bblutheran.com
SUMMARY:Worship at Hope 11:00 a.m.
DESCRIPTION:
URL:https://www.bblutheran.com/event/worship-at-1100-a-m/2025-01-26/
LOCATION:Hope Lutheran Church\, 45 Maple Street\, Beaver\, PA\, 15009\, United States
GEO:40.7051165;-80.4029977
X-APPLE-STRUCTURED-LOCATION;VALUE=URI;X-ADDRESS=Hope Lutheran Church 45 Maple Street Beaver PA 15009 United States;X-APPLE-RADIUS=500;X-TITLE=45 Maple Street:geo:-80.4029977,40.7051165
END:VEVENT
BEGIN:VEVENT
DTSTART;TZID=UTC:20250126T110000
DTEND;TZID=UTC:20250126T120000
DTSTAMP:20260420T172336
CREATED:20230330T225552Z
LAST-MODIFIED:20230330T225552Z
UID:10000541-1737889200-1737892800@www.bblutheran.com
SUMMARY:Food Pantry Collection
DESCRIPTION:Collection for the the food panty in Darlington on the second of each month. The pantry is run by First Presbyterial Church in Darlington.
URL:https://www.bblutheran.com/event/food-pantry-collection/2025-01-26/
LOCATION:Hope Lutheran Church\, 45 Maple Street\, Beaver\, PA\, 15009\, United States
GEO:40.7051165;-80.4029977
X-APPLE-STRUCTURED-LOCATION;VALUE=URI;X-ADDRESS=Hope Lutheran Church 45 Maple Street Beaver PA 15009 United States;X-APPLE-RADIUS=500;X-TITLE=45 Maple Street:geo:-80.4029977,40.7051165
END:VEVENT
BEGIN:VEVENT
DTSTART;TZID=America/New_York:20250126T120000
DTEND;TZID=America/New_York:20250126T133000
DTSTAMP:20260420T172336
CREATED:20241231T170836Z
LAST-MODIFIED:20241231T170836Z
UID:10028849-1737892800-1737898200@www.bblutheran.com
SUMMARY:Hope - Annual Congregational meeting following worship
DESCRIPTION:
URL:https://www.bblutheran.com/event/hope-annual-congregational-meeting-following-worship/
LOCATION:Hope Lutheran Church\, 45 Maple Street\, Beaver\, PA\, 15009\, United States
GEO:40.7051165;-80.4029977
X-APPLE-STRUCTURED-LOCATION;VALUE=URI;X-ADDRESS=Hope Lutheran Church 45 Maple Street Beaver PA 15009 United States;X-APPLE-RADIUS=500;X-TITLE=45 Maple Street:geo:-80.4029977,40.7051165
END:VEVENT
BEGIN:VEVENT
DTSTART;TZID=America/New_York:20250202T110000
DTEND;TZID=America/New_York:20250202T120000
DTSTAMP:20260420T172336
CREATED:20250204T162328Z
LAST-MODIFIED:20250204T162328Z
UID:10030428-1738494000-1738497600@www.bblutheran.com
SUMMARY:Men's Shelter donations taken at Hope
DESCRIPTION:
URL:https://www.bblutheran.com/event/mens-shelter-donations-taken-at-hope/
LOCATION:Hope Lutheran Church\, 45 Maple Street\, Beaver\, PA\, 15009\, United States
GEO:40.7051165;-80.4029977
X-APPLE-STRUCTURED-LOCATION;VALUE=URI;X-ADDRESS=Hope Lutheran Church 45 Maple Street Beaver PA 15009 United States;X-APPLE-RADIUS=500;X-TITLE=45 Maple Street:geo:-80.4029977,40.7051165
END:VEVENT
BEGIN:VEVENT
DTSTART;TZID=America/New_York:20250202T120000
DTEND;TZID=America/New_York:20250202T133000
DTSTAMP:20260420T172336
CREATED:20250204T162424Z
LAST-MODIFIED:20250204T162424Z
UID:10030429-1738497600-1738503000@www.bblutheran.com
SUMMARY:Women of Hope Board meeting following worship at Hope
DESCRIPTION:
URL:https://www.bblutheran.com/event/women-of-hope-board-meeting-following-worship-at-hope/
LOCATION:Hope Lutheran Church\, 45 Maple Street\, Beaver\, PA\, 15009\, United States
GEO:40.7051165;-80.4029977
X-APPLE-STRUCTURED-LOCATION;VALUE=URI;X-ADDRESS=Hope Lutheran Church 45 Maple Street Beaver PA 15009 United States;X-APPLE-RADIUS=500;X-TITLE=45 Maple Street:geo:-80.4029977,40.7051165
END:VEVENT
BEGIN:VEVENT
DTSTART;TZID=UTC:20250203T110000
DTEND;TZID=UTC:20250203T130000
DTSTAMP:20260420T172336
CREATED:20230427T201051Z
LAST-MODIFIED:20230427T201052Z
UID:10000379-1738580400-1738587600@www.bblutheran.com
SUMMARY:Grief Group at Hope
DESCRIPTION:Hope will be starting a Grief group on April 17th at 11:00 a.m. Anyone is welcomed to sign up on Sunday mornings or by calling Hope’s Church office.
URL:https://www.bblutheran.com/event/grief-group-at-hope-2/2025-02-03/
LOCATION:Hope Lutheran Church\, 45 Maple Street\, Beaver\, PA\, 15009\, United States
GEO:40.7051165;-80.4029977
X-APPLE-STRUCTURED-LOCATION;VALUE=URI;X-ADDRESS=Hope Lutheran Church 45 Maple Street Beaver PA 15009 United States;X-APPLE-RADIUS=500;X-TITLE=45 Maple Street:geo:-80.4029977,40.7051165
END:VEVENT
BEGIN:VEVENT
DTSTART;TZID=UTC:20250203T110000
DTEND;TZID=UTC:20250203T133000
DTSTAMP:20260420T172336
CREATED:20230427T201158Z
LAST-MODIFIED:20230427T201158Z
UID:10000483-1738580400-1738589400@www.bblutheran.com
SUMMARY:Bible Study at Holy Trinity
DESCRIPTION:All are welcome to join in a Bible study being held at Holy Trinity at 11:00 a.m. in the Fellowship hall.
URL:https://www.bblutheran.com/event/bible-study-at-holy-trinity-2-2/2025-02-03/
LOCATION:Holy Trinity Church\, 1098 3rd Street\, Beaver\, PA\, 15009\, United States
GEO:40.6930069;-80.3112194
X-APPLE-STRUCTURED-LOCATION;VALUE=URI;X-ADDRESS=Holy Trinity Church 1098 3rd Street Beaver PA 15009 United States;X-APPLE-RADIUS=500;X-TITLE=1098 3rd Street:geo:-80.3112194,40.6930069
END:VEVENT
BEGIN:VEVENT
DTSTART;TZID=America/New_York:20250209T091500
DTEND;TZID=America/New_York:20250209T130000
DTSTAMP:20260420T172336
CREATED:20250204T163047Z
LAST-MODIFIED:20250204T163047Z
UID:10030430-1739092500-1739106000@www.bblutheran.com
SUMMARY:Annual meeting and luncheon at Holy Trinity
DESCRIPTION:
URL:https://www.bblutheran.com/event/annual-meeting-and-luncheon-at-holy-trinity/
LOCATION:Holy Trinity Church\, 1098 3rd Street\, Beaver\, PA\, 15009\, United States
GEO:40.6930069;-80.3112194
X-APPLE-STRUCTURED-LOCATION;VALUE=URI;X-ADDRESS=Holy Trinity Church 1098 3rd Street Beaver PA 15009 United States;X-APPLE-RADIUS=500;X-TITLE=1098 3rd Street:geo:-80.3112194,40.6930069
END:VEVENT
BEGIN:VEVENT
DTSTART;TZID=America/New_York:20250209T103000
DTEND;TZID=America/New_York:20250209T123000
DTSTAMP:20260420T172336
CREATED:20241231T170951Z
LAST-MODIFIED:20241231T170951Z
UID:10028850-1739097000-1739104200@www.bblutheran.com
SUMMARY:Holy Trinity - Annual Congregational meeting following worship
DESCRIPTION:
URL:https://www.bblutheran.com/event/holy-trinity-annual-congregational-meeting-following-worship/
LOCATION:Holy Trinity Church\, 1098 3rd Street\, Beaver\, PA\, 15009\, United States
GEO:40.6930069;-80.3112194
X-APPLE-STRUCTURED-LOCATION;VALUE=URI;X-ADDRESS=Holy Trinity Church 1098 3rd Street Beaver PA 15009 United States;X-APPLE-RADIUS=500;X-TITLE=1098 3rd Street:geo:-80.3112194,40.6930069
END:VEVENT
BEGIN:VEVENT
DTSTART;TZID=UTC:20250209T110000
DTEND;TZID=UTC:20250209T120000
DTSTAMP:20260420T172336
CREATED:20230330T225552Z
LAST-MODIFIED:20230330T225552Z
UID:10000542-1739098800-1739102400@www.bblutheran.com
SUMMARY:Food Pantry Collection
DESCRIPTION:Collection for the the food panty in Darlington on the second of each month. The pantry is run by First Presbyterial Church in Darlington.
URL:https://www.bblutheran.com/event/food-pantry-collection/2025-02-09/
LOCATION:Hope Lutheran Church\, 45 Maple Street\, Beaver\, PA\, 15009\, United States
GEO:40.7051165;-80.4029977
X-APPLE-STRUCTURED-LOCATION;VALUE=URI;X-ADDRESS=Hope Lutheran Church 45 Maple Street Beaver PA 15009 United States;X-APPLE-RADIUS=500;X-TITLE=45 Maple Street:geo:-80.4029977,40.7051165
END:VEVENT
BEGIN:VEVENT
DTSTART;TZID=America/New_York:20250209T110000
DTEND;TZID=America/New_York:20250209T120000
DTSTAMP:20260420T172336
CREATED:20250204T161413Z
LAST-MODIFIED:20250204T161413Z
UID:10030427-1739098800-1739102400@www.bblutheran.com
SUMMARY:Souper Bowl Sunday donations taken at Hope
DESCRIPTION:
URL:https://www.bblutheran.com/event/souper-bowl-sunday-donations-taken-at-hope/
LOCATION:Hope Lutheran Church\, 45 Maple Street\, Beaver\, PA\, 15009\, United States
GEO:40.7051165;-80.4029977
X-APPLE-STRUCTURED-LOCATION;VALUE=URI;X-ADDRESS=Hope Lutheran Church 45 Maple Street Beaver PA 15009 United States;X-APPLE-RADIUS=500;X-TITLE=45 Maple Street:geo:-80.4029977,40.7051165
END:VEVENT
BEGIN:VEVENT
DTSTART;TZID=America/New_York:20250210T091500
DTEND;TZID=America/New_York:20250210T101500
DTSTAMP:20260420T172336
CREATED:20250204T163441Z
LAST-MODIFIED:20250204T163441Z
UID:10030431-1739178900-1739182500@www.bblutheran.com
SUMMARY:Men's Shelter dinner - Holy Trinity
DESCRIPTION:
URL:https://www.bblutheran.com/event/mens-shelter-dinner-holy-trinity-2/
LOCATION:Holy Trinity Church\, 1098 3rd Street\, Beaver\, PA\, 15009\, United States
GEO:40.6930069;-80.3112194
X-APPLE-STRUCTURED-LOCATION;VALUE=URI;X-ADDRESS=Holy Trinity Church 1098 3rd Street Beaver PA 15009 United States;X-APPLE-RADIUS=500;X-TITLE=1098 3rd Street:geo:-80.3112194,40.6930069
END:VEVENT
BEGIN:VEVENT
DTSTART;TZID=America/New_York:20250211T120000
DTEND;TZID=America/New_York:20250211T140000
DTSTAMP:20260420T172336
CREATED:20250204T161024Z
LAST-MODIFIED:20250204T161024Z
UID:10030424-1739275200-1739282400@www.bblutheran.com
SUMMARY:Circle meeting at Hope
DESCRIPTION:
URL:https://www.bblutheran.com/event/circle-meeting-at-hope-4/
LOCATION:Hope Lutheran Church\, 45 Maple Street\, Beaver\, PA\, 15009\, United States
GEO:40.7051165;-80.4029977
X-APPLE-STRUCTURED-LOCATION;VALUE=URI;X-ADDRESS=Hope Lutheran Church 45 Maple Street Beaver PA 15009 United States;X-APPLE-RADIUS=500;X-TITLE=45 Maple Street:geo:-80.4029977,40.7051165
END:VEVENT
BEGIN:VEVENT
DTSTART;TZID=America/New_York:20250216T083000
DTEND;TZID=America/New_York:20250216T091500
DTSTAMP:20260420T172336
CREATED:20250204T163759Z
LAST-MODIFIED:20250204T163759Z
UID:10030432-1739694600-1739697300@www.bblutheran.com
SUMMARY:Choir and Chime Choir rehearsal at Holy Trinity
DESCRIPTION:
URL:https://www.bblutheran.com/event/choir-and-chime-choir-rehearsal-at-holy-trinity/
LOCATION:Holy Trinity Church\, 1098 3rd Street\, Beaver\, PA\, 15009\, United States
GEO:40.6930069;-80.3112194
X-APPLE-STRUCTURED-LOCATION;VALUE=URI;X-ADDRESS=Holy Trinity Church 1098 3rd Street Beaver PA 15009 United States;X-APPLE-RADIUS=500;X-TITLE=1098 3rd Street:geo:-80.3112194,40.6930069
END:VEVENT
END:VCALENDAR