BEGIN:VCALENDAR
VERSION:2.0
PRODID:-// - ECPv6.3.3.1//NONSGML v1.0//EN
CALSCALE:GREGORIAN
METHOD:PUBLISH
X-ORIGINAL-URL:https://www.bblutheran.com
X-WR-CALDESC:Events for 
REFRESH-INTERVAL;VALUE=DURATION:PT1H
X-Robots-Tag:noindex
X-PUBLISHED-TTL:PT1H
BEGIN:VTIMEZONE
TZID:America/New_York
BEGIN:DAYLIGHT
TZOFFSETFROM:-0500
TZOFFSETTO:-0400
TZNAME:EDT
DTSTART:20240310T070000
END:DAYLIGHT
BEGIN:STANDARD
TZOFFSETFROM:-0400
TZOFFSETTO:-0500
TZNAME:EST
DTSTART:20241103T060000
END:STANDARD
BEGIN:DAYLIGHT
TZOFFSETFROM:-0500
TZOFFSETTO:-0400
TZNAME:EDT
DTSTART:20250309T070000
END:DAYLIGHT
BEGIN:STANDARD
TZOFFSETFROM:-0400
TZOFFSETTO:-0500
TZNAME:EST
DTSTART:20251102T060000
END:STANDARD
TZID:UTC
BEGIN:STANDARD
TZOFFSETFROM:+0000
TZOFFSETTO:+0000
TZNAME:UTC
DTSTART:20240101T000000
END:STANDARD
END:VTIMEZONE
BEGIN:VEVENT
DTSTART;TZID=America/New_York:20250309T083000
DTEND;TZID=America/New_York:20250309T090000
DTSTAMP:20260421T123447
CREATED:20250226T233235Z
LAST-MODIFIED:20250226T233235Z
UID:10031391-1741509000-1741510800@www.bblutheran.com
SUMMARY:Choir and Chime Choir Rehearsal at Holy Trinity
DESCRIPTION:
URL:https://www.bblutheran.com/event/choir-and-chime-choir-rehearsal-at-holy-trinity-3/
LOCATION:Holy Trinity Church\, 1098 3rd Street\, Beaver\, PA\, 15009\, United States
GEO:40.6930069;-80.3112194
X-APPLE-STRUCTURED-LOCATION;VALUE=URI;X-ADDRESS=Holy Trinity Church 1098 3rd Street Beaver PA 15009 United States;X-APPLE-RADIUS=500;X-TITLE=1098 3rd Street:geo:-80.3112194,40.6930069
END:VEVENT
BEGIN:VEVENT
DTSTART;TZID=America/New_York:20250305T110000
DTEND;TZID=America/New_York:20250305T120000
DTSTAMP:20260421T123447
CREATED:20250226T230429Z
LAST-MODIFIED:20250226T230429Z
UID:10031377-1741172400-1741176000@www.bblutheran.com
SUMMARY:Ash Wednesday at Holy Trinity
DESCRIPTION:
URL:https://www.bblutheran.com/event/ash-wednesday-at-holy-trinity/
LOCATION:Holy Trinity Church\, 1098 3rd Street\, Beaver\, PA\, 15009\, United States
GEO:40.6930069;-80.3112194
X-APPLE-STRUCTURED-LOCATION;VALUE=URI;X-ADDRESS=Holy Trinity Church 1098 3rd Street Beaver PA 15009 United States;X-APPLE-RADIUS=500;X-TITLE=1098 3rd Street:geo:-80.3112194,40.6930069
END:VEVENT
BEGIN:VEVENT
DTSTART;TZID=UTC:20250303T110000
DTEND;TZID=UTC:20250303T133000
DTSTAMP:20260421T123447
CREATED:20250226T225916Z
LAST-MODIFIED:20250226T225917Z
UID:10000623-1740999600-1741008600@www.bblutheran.com
SUMMARY:Bible Study at Holy Trinity
DESCRIPTION:All are welcome to join in a Bible study being held at Holy Trinity at 11:00 a.m. in the Fellowship hall.
URL:https://www.bblutheran.com/event/bible-study-at-holy-trinity-2-2-2/
LOCATION:Holy Trinity Church\, 1098 3rd Street\, Beaver\, PA\, 15009\, United States
GEO:40.6930069;-80.3112194
X-APPLE-STRUCTURED-LOCATION;VALUE=URI;X-ADDRESS=Holy Trinity Church 1098 3rd Street Beaver PA 15009 United States;X-APPLE-RADIUS=500;X-TITLE=1098 3rd Street:geo:-80.3112194,40.6930069
END:VEVENT
BEGIN:VEVENT
DTSTART;TZID=America/New_York:20250302T083000
DTEND;TZID=America/New_York:20250302T090000
DTSTAMP:20260421T123447
CREATED:20250226T233205Z
LAST-MODIFIED:20250226T233205Z
UID:10031390-1740904200-1740906000@www.bblutheran.com
SUMMARY:Choir and Chime Choir Rehearsal at Holy Trinity
DESCRIPTION:
URL:https://www.bblutheran.com/event/choir-and-chime-choir-rehearsal-at-holy-trinity-2/
LOCATION:Holy Trinity Church\, 1098 3rd Street\, Beaver\, PA\, 15009\, United States
GEO:40.6930069;-80.3112194
X-APPLE-STRUCTURED-LOCATION;VALUE=URI;X-ADDRESS=Holy Trinity Church 1098 3rd Street Beaver PA 15009 United States;X-APPLE-RADIUS=500;X-TITLE=1098 3rd Street:geo:-80.3112194,40.6930069
END:VEVENT
BEGIN:VEVENT
DTSTART;TZID=America/New_York:20250219T190000
DTEND;TZID=America/New_York:20250219T203000
DTSTAMP:20260421T123447
CREATED:20250204T163845Z
LAST-MODIFIED:20250204T163845Z
UID:10030433-1739991600-1739997000@www.bblutheran.com
SUMMARY:Holy Trinity Council meeting at 7:00 p.m.
DESCRIPTION:
URL:https://www.bblutheran.com/event/holy-trinity-council-meeting-at-700-p-m-3/
LOCATION:Holy Trinity Church\, 1098 3rd Street\, Beaver\, PA\, 15009\, United States
GEO:40.6930069;-80.3112194
X-APPLE-STRUCTURED-LOCATION;VALUE=URI;X-ADDRESS=Holy Trinity Church 1098 3rd Street Beaver PA 15009 United States;X-APPLE-RADIUS=500;X-TITLE=1098 3rd Street:geo:-80.3112194,40.6930069
END:VEVENT
BEGIN:VEVENT
DTSTART;TZID=America/New_York:20250216T083000
DTEND;TZID=America/New_York:20250216T091500
DTSTAMP:20260421T123447
CREATED:20250204T163759Z
LAST-MODIFIED:20250204T163759Z
UID:10030432-1739694600-1739697300@www.bblutheran.com
SUMMARY:Choir and Chime Choir rehearsal at Holy Trinity
DESCRIPTION:
URL:https://www.bblutheran.com/event/choir-and-chime-choir-rehearsal-at-holy-trinity/
LOCATION:Holy Trinity Church\, 1098 3rd Street\, Beaver\, PA\, 15009\, United States
GEO:40.6930069;-80.3112194
X-APPLE-STRUCTURED-LOCATION;VALUE=URI;X-ADDRESS=Holy Trinity Church 1098 3rd Street Beaver PA 15009 United States;X-APPLE-RADIUS=500;X-TITLE=1098 3rd Street:geo:-80.3112194,40.6930069
END:VEVENT
BEGIN:VEVENT
DTSTART;TZID=America/New_York:20250210T091500
DTEND;TZID=America/New_York:20250210T101500
DTSTAMP:20260421T123447
CREATED:20250204T163441Z
LAST-MODIFIED:20250204T163441Z
UID:10030431-1739178900-1739182500@www.bblutheran.com
SUMMARY:Men's Shelter dinner - Holy Trinity
DESCRIPTION:
URL:https://www.bblutheran.com/event/mens-shelter-dinner-holy-trinity-2/
LOCATION:Holy Trinity Church\, 1098 3rd Street\, Beaver\, PA\, 15009\, United States
GEO:40.6930069;-80.3112194
X-APPLE-STRUCTURED-LOCATION;VALUE=URI;X-ADDRESS=Holy Trinity Church 1098 3rd Street Beaver PA 15009 United States;X-APPLE-RADIUS=500;X-TITLE=1098 3rd Street:geo:-80.3112194,40.6930069
END:VEVENT
BEGIN:VEVENT
DTSTART;TZID=America/New_York:20250209T103000
DTEND;TZID=America/New_York:20250209T123000
DTSTAMP:20260421T123447
CREATED:20241231T170951Z
LAST-MODIFIED:20241231T170951Z
UID:10028850-1739097000-1739104200@www.bblutheran.com
SUMMARY:Holy Trinity - Annual Congregational meeting following worship
DESCRIPTION:
URL:https://www.bblutheran.com/event/holy-trinity-annual-congregational-meeting-following-worship/
LOCATION:Holy Trinity Church\, 1098 3rd Street\, Beaver\, PA\, 15009\, United States
GEO:40.6930069;-80.3112194
X-APPLE-STRUCTURED-LOCATION;VALUE=URI;X-ADDRESS=Holy Trinity Church 1098 3rd Street Beaver PA 15009 United States;X-APPLE-RADIUS=500;X-TITLE=1098 3rd Street:geo:-80.3112194,40.6930069
END:VEVENT
BEGIN:VEVENT
DTSTART;TZID=America/New_York:20250209T091500
DTEND;TZID=America/New_York:20250209T130000
DTSTAMP:20260421T123447
CREATED:20250204T163047Z
LAST-MODIFIED:20250204T163047Z
UID:10030430-1739092500-1739106000@www.bblutheran.com
SUMMARY:Annual meeting and luncheon at Holy Trinity
DESCRIPTION:
URL:https://www.bblutheran.com/event/annual-meeting-and-luncheon-at-holy-trinity/
LOCATION:Holy Trinity Church\, 1098 3rd Street\, Beaver\, PA\, 15009\, United States
GEO:40.6930069;-80.3112194
X-APPLE-STRUCTURED-LOCATION;VALUE=URI;X-ADDRESS=Holy Trinity Church 1098 3rd Street Beaver PA 15009 United States;X-APPLE-RADIUS=500;X-TITLE=1098 3rd Street:geo:-80.3112194,40.6930069
END:VEVENT
BEGIN:VEVENT
DTSTART;TZID=UTC:20250203T110000
DTEND;TZID=UTC:20250203T133000
DTSTAMP:20260421T123447
CREATED:20230427T201158Z
LAST-MODIFIED:20230427T201158Z
UID:10000483-1738580400-1738589400@www.bblutheran.com
SUMMARY:Bible Study at Holy Trinity
DESCRIPTION:All are welcome to join in a Bible study being held at Holy Trinity at 11:00 a.m. in the Fellowship hall.
URL:https://www.bblutheran.com/event/bible-study-at-holy-trinity-2-2/2025-02-03/
LOCATION:Holy Trinity Church\, 1098 3rd Street\, Beaver\, PA\, 15009\, United States
GEO:40.6930069;-80.3112194
X-APPLE-STRUCTURED-LOCATION;VALUE=URI;X-ADDRESS=Holy Trinity Church 1098 3rd Street Beaver PA 15009 United States;X-APPLE-RADIUS=500;X-TITLE=1098 3rd Street:geo:-80.3112194,40.6930069
END:VEVENT
BEGIN:VEVENT
DTSTART;TZID=UTC:20250126T091500
DTEND;TZID=UTC:20250126T101500
DTSTAMP:20260421T123447
CREATED:20230201T202448Z
LAST-MODIFIED:20230201T202448Z
UID:10000248-1737882900-1737886500@www.bblutheran.com
SUMMARY:Worship at Holy Trinity @ 9:15 a.m.
DESCRIPTION:
URL:https://www.bblutheran.com/event/worship-at-holy-trinity-915-a-m/2025-01-26/
LOCATION:Holy Trinity Church\, 1098 3rd Street\, Beaver\, PA\, 15009\, United States
GEO:40.6930069;-80.3112194
X-APPLE-STRUCTURED-LOCATION;VALUE=URI;X-ADDRESS=Holy Trinity Church 1098 3rd Street Beaver PA 15009 United States;X-APPLE-RADIUS=500;X-TITLE=1098 3rd Street:geo:-80.3112194,40.6930069
END:VEVENT
BEGIN:VEVENT
DTSTART;TZID=UTC:20250119T091500
DTEND;TZID=UTC:20250119T101500
DTSTAMP:20260421T123447
CREATED:20230201T202448Z
LAST-MODIFIED:20230201T202448Z
UID:10000247-1737278100-1737281700@www.bblutheran.com
SUMMARY:Worship at Holy Trinity @ 9:15 a.m.
DESCRIPTION:
URL:https://www.bblutheran.com/event/worship-at-holy-trinity-915-a-m/2025-01-19/
LOCATION:Holy Trinity Church\, 1098 3rd Street\, Beaver\, PA\, 15009\, United States
GEO:40.6930069;-80.3112194
X-APPLE-STRUCTURED-LOCATION;VALUE=URI;X-ADDRESS=Holy Trinity Church 1098 3rd Street Beaver PA 15009 United States;X-APPLE-RADIUS=500;X-TITLE=1098 3rd Street:geo:-80.3112194,40.6930069
END:VEVENT
BEGIN:VEVENT
DTSTART;TZID=America/New_York:20250116T080000
DTEND;TZID=America/New_York:20250116T170000
DTSTAMP:20260421T123447
CREATED:20241231T171228Z
LAST-MODIFIED:20241231T171228Z
UID:10028853-1737014400-1737046800@www.bblutheran.com
SUMMARY:Men's shelter meal  & delivery
DESCRIPTION:
URL:https://www.bblutheran.com/event/mens-shelter-meal-delivery/
LOCATION:Holy Trinity Church\, 1098 3rd Street\, Beaver\, PA\, 15009\, United States
GEO:40.6930069;-80.3112194
X-APPLE-STRUCTURED-LOCATION;VALUE=URI;X-ADDRESS=Holy Trinity Church 1098 3rd Street Beaver PA 15009 United States;X-APPLE-RADIUS=500;X-TITLE=1098 3rd Street:geo:-80.3112194,40.6930069
END:VEVENT
BEGIN:VEVENT
DTSTART;TZID=America/New_York:20250115T190000
DTEND;TZID=America/New_York:20250115T210000
DTSTAMP:20260421T123447
CREATED:20241231T171143Z
LAST-MODIFIED:20241231T171143Z
UID:10028852-1736967600-1736974800@www.bblutheran.com
SUMMARY:Holy Trinity council meeting
DESCRIPTION:
URL:https://www.bblutheran.com/event/holy-trinity-council-meeting-10/
LOCATION:Holy Trinity Church\, 1098 3rd Street\, Beaver\, PA\, 15009\, United States
GEO:40.6930069;-80.3112194
X-APPLE-STRUCTURED-LOCATION;VALUE=URI;X-ADDRESS=Holy Trinity Church 1098 3rd Street Beaver PA 15009 United States;X-APPLE-RADIUS=500;X-TITLE=1098 3rd Street:geo:-80.3112194,40.6930069
END:VEVENT
BEGIN:VEVENT
DTSTART;TZID=UTC:20250112T091500
DTEND;TZID=UTC:20250112T101500
DTSTAMP:20260421T123447
CREATED:20230201T202448Z
LAST-MODIFIED:20230201T202448Z
UID:10000246-1736673300-1736676900@www.bblutheran.com
SUMMARY:Worship at Holy Trinity @ 9:15 a.m.
DESCRIPTION:
URL:https://www.bblutheran.com/event/worship-at-holy-trinity-915-a-m/2025-01-12/
LOCATION:Holy Trinity Church\, 1098 3rd Street\, Beaver\, PA\, 15009\, United States
GEO:40.6930069;-80.3112194
X-APPLE-STRUCTURED-LOCATION;VALUE=URI;X-ADDRESS=Holy Trinity Church 1098 3rd Street Beaver PA 15009 United States;X-APPLE-RADIUS=500;X-TITLE=1098 3rd Street:geo:-80.3112194,40.6930069
END:VEVENT
BEGIN:VEVENT
DTSTART;TZID=America/New_York:20250106T110000
DTEND;TZID=America/New_York:20250106T140000
DTSTAMP:20260421T123447
CREATED:20241231T171052Z
LAST-MODIFIED:20241231T171052Z
UID:10028851-1736161200-1736172000@www.bblutheran.com
SUMMARY:Bible Study at Holy Trinity
DESCRIPTION:
URL:https://www.bblutheran.com/event/bible-study-at-holy-trinity-7/
LOCATION:Holy Trinity Church\, 1098 3rd Street\, Beaver\, PA\, 15009\, United States
GEO:40.6930069;-80.3112194
X-APPLE-STRUCTURED-LOCATION;VALUE=URI;X-ADDRESS=Holy Trinity Church 1098 3rd Street Beaver PA 15009 United States;X-APPLE-RADIUS=500;X-TITLE=1098 3rd Street:geo:-80.3112194,40.6930069
END:VEVENT
BEGIN:VEVENT
DTSTART;TZID=UTC:20250105T091500
DTEND;TZID=UTC:20250105T101500
DTSTAMP:20260421T123447
CREATED:20230201T202448Z
LAST-MODIFIED:20230201T202448Z
UID:10000245-1736068500-1736072100@www.bblutheran.com
SUMMARY:Worship at Holy Trinity @ 9:15 a.m.
DESCRIPTION:
URL:https://www.bblutheran.com/event/worship-at-holy-trinity-915-a-m/2025-01-05/
LOCATION:Holy Trinity Church\, 1098 3rd Street\, Beaver\, PA\, 15009\, United States
GEO:40.6930069;-80.3112194
X-APPLE-STRUCTURED-LOCATION;VALUE=URI;X-ADDRESS=Holy Trinity Church 1098 3rd Street Beaver PA 15009 United States;X-APPLE-RADIUS=500;X-TITLE=1098 3rd Street:geo:-80.3112194,40.6930069
END:VEVENT
BEGIN:VEVENT
DTSTART;TZID=America/New_York:20241229T091500
DTEND;TZID=America/New_York:20241229T103000
DTSTAMP:20260421T123447
CREATED:20241204T165841Z
LAST-MODIFIED:20241204T165841Z
UID:10027587-1735463700-1735468200@www.bblutheran.com
SUMMARY:Lessons and Carol Sing at Holy Trinity
DESCRIPTION:
URL:https://www.bblutheran.com/event/lessons-and-carol-sing-at-holy-trinity/
LOCATION:Holy Trinity Church\, 1098 3rd Street\, Beaver\, PA\, 15009\, United States
GEO:40.6930069;-80.3112194
X-APPLE-STRUCTURED-LOCATION;VALUE=URI;X-ADDRESS=Holy Trinity Church 1098 3rd Street Beaver PA 15009 United States;X-APPLE-RADIUS=500;X-TITLE=1098 3rd Street:geo:-80.3112194,40.6930069
END:VEVENT
BEGIN:VEVENT
DTSTART;TZID=UTC:20241229T091500
DTEND;TZID=UTC:20241229T101500
DTSTAMP:20260421T123447
CREATED:20230201T202448Z
LAST-MODIFIED:20230201T202448Z
UID:10000244-1735463700-1735467300@www.bblutheran.com
SUMMARY:Worship at Holy Trinity @ 9:15 a.m.
DESCRIPTION:
URL:https://www.bblutheran.com/event/worship-at-holy-trinity-915-a-m/2024-12-29/
LOCATION:Holy Trinity Church\, 1098 3rd Street\, Beaver\, PA\, 15009\, United States
GEO:40.6930069;-80.3112194
X-APPLE-STRUCTURED-LOCATION;VALUE=URI;X-ADDRESS=Holy Trinity Church 1098 3rd Street Beaver PA 15009 United States;X-APPLE-RADIUS=500;X-TITLE=1098 3rd Street:geo:-80.3112194,40.6930069
END:VEVENT
BEGIN:VEVENT
DTSTART;TZID=America/New_York:20241224T193000
DTEND;TZID=America/New_York:20241224T210000
DTSTAMP:20260421T123447
CREATED:20241204T164606Z
LAST-MODIFIED:20241204T164606Z
UID:10027575-1735068600-1735074000@www.bblutheran.com
SUMMARY:Christmas Eve Worship at Holy Trinity 7:30 p.m.
DESCRIPTION:
URL:https://www.bblutheran.com/event/christmas-eve-worship-at-holy-trinity-730-p-m/
LOCATION:Holy Trinity Church\, 1098 3rd Street\, Beaver\, PA\, 15009\, United States
GEO:40.6930069;-80.3112194
X-APPLE-STRUCTURED-LOCATION;VALUE=URI;X-ADDRESS=Holy Trinity Church 1098 3rd Street Beaver PA 15009 United States;X-APPLE-RADIUS=500;X-TITLE=1098 3rd Street:geo:-80.3112194,40.6930069
END:VEVENT
BEGIN:VEVENT
DTSTART;TZID=UTC:20241222T091500
DTEND;TZID=UTC:20241222T101500
DTSTAMP:20260421T123447
CREATED:20230201T202448Z
LAST-MODIFIED:20230201T202448Z
UID:10000243-1734858900-1734862500@www.bblutheran.com
SUMMARY:Worship at Holy Trinity @ 9:15 a.m.
DESCRIPTION:
URL:https://www.bblutheran.com/event/worship-at-holy-trinity-915-a-m/2024-12-22/
LOCATION:Holy Trinity Church\, 1098 3rd Street\, Beaver\, PA\, 15009\, United States
GEO:40.6930069;-80.3112194
X-APPLE-STRUCTURED-LOCATION;VALUE=URI;X-ADDRESS=Holy Trinity Church 1098 3rd Street Beaver PA 15009 United States;X-APPLE-RADIUS=500;X-TITLE=1098 3rd Street:geo:-80.3112194,40.6930069
END:VEVENT
BEGIN:VEVENT
DTSTART;TZID=UTC:20241215T091500
DTEND;TZID=UTC:20241215T101500
DTSTAMP:20260421T123447
CREATED:20230201T202448Z
LAST-MODIFIED:20230201T202448Z
UID:10000242-1734254100-1734257700@www.bblutheran.com
SUMMARY:Worship at Holy Trinity @ 9:15 a.m.
DESCRIPTION:
URL:https://www.bblutheran.com/event/worship-at-holy-trinity-915-a-m/2024-12-15/
LOCATION:Holy Trinity Church\, 1098 3rd Street\, Beaver\, PA\, 15009\, United States
GEO:40.6930069;-80.3112194
X-APPLE-STRUCTURED-LOCATION;VALUE=URI;X-ADDRESS=Holy Trinity Church 1098 3rd Street Beaver PA 15009 United States;X-APPLE-RADIUS=500;X-TITLE=1098 3rd Street:geo:-80.3112194,40.6930069
END:VEVENT
BEGIN:VEVENT
DTSTART;TZID=America/New_York:20241211T180000
DTEND;TZID=America/New_York:20241211T200000
DTSTAMP:20260421T123447
CREATED:20241204T164145Z
LAST-MODIFIED:20241204T164145Z
UID:10027571-1733940000-1733947200@www.bblutheran.com
SUMMARY:Mid Week Advent Holden Evening Prayer Service at Holy Trinity
DESCRIPTION:Light Supper at 6:00 p.m. Service follows at 7:00 p.m.
URL:https://www.bblutheran.com/event/mid-week-advent-holden-evening-prayer-service-at-holy-trinity/
LOCATION:Holy Trinity Church\, 1098 3rd Street\, Beaver\, PA\, 15009\, United States
GEO:40.6930069;-80.3112194
X-APPLE-STRUCTURED-LOCATION;VALUE=URI;X-ADDRESS=Holy Trinity Church 1098 3rd Street Beaver PA 15009 United States;X-APPLE-RADIUS=500;X-TITLE=1098 3rd Street:geo:-80.3112194,40.6930069
END:VEVENT
BEGIN:VEVENT
DTSTART;TZID=America/New_York:20241209T091500
DTEND;TZID=America/New_York:20241209T103000
DTSTAMP:20260421T123447
CREATED:20241204T165747Z
LAST-MODIFIED:20241204T165747Z
UID:10027586-1733735700-1733740200@www.bblutheran.com
SUMMARY:Men's Shelter Dinner - Holy Trinity
DESCRIPTION:
URL:https://www.bblutheran.com/event/mens-shelter-dinner-holy-trinity/
LOCATION:Holy Trinity Church\, 1098 3rd Street\, Beaver\, PA\, 15009\, United States
GEO:40.6930069;-80.3112194
X-APPLE-STRUCTURED-LOCATION;VALUE=URI;X-ADDRESS=Holy Trinity Church 1098 3rd Street Beaver PA 15009 United States;X-APPLE-RADIUS=500;X-TITLE=1098 3rd Street:geo:-80.3112194,40.6930069
END:VEVENT
BEGIN:VEVENT
DTSTART;TZID=America/New_York:20241208T091500
DTEND;TZID=America/New_York:20241208T103000
DTSTAMP:20260421T123447
CREATED:20241204T170002Z
LAST-MODIFIED:20241204T170002Z
UID:10027588-1733649300-1733653800@www.bblutheran.com
SUMMARY:Noisy collection at Holy Trinity
DESCRIPTION:
URL:https://www.bblutheran.com/event/noisy-collection-at-holy-trinity-3/
LOCATION:Holy Trinity Church\, 1098 3rd Street\, Beaver\, PA\, 15009\, United States
GEO:40.6930069;-80.3112194
X-APPLE-STRUCTURED-LOCATION;VALUE=URI;X-ADDRESS=Holy Trinity Church 1098 3rd Street Beaver PA 15009 United States;X-APPLE-RADIUS=500;X-TITLE=1098 3rd Street:geo:-80.3112194,40.6930069
END:VEVENT
BEGIN:VEVENT
DTSTART;TZID=UTC:20241208T091500
DTEND;TZID=UTC:20241208T101500
DTSTAMP:20260421T123447
CREATED:20230201T202448Z
LAST-MODIFIED:20230201T202448Z
UID:10000241-1733649300-1733652900@www.bblutheran.com
SUMMARY:Worship at Holy Trinity @ 9:15 a.m.
DESCRIPTION:
URL:https://www.bblutheran.com/event/worship-at-holy-trinity-915-a-m/2024-12-08/
LOCATION:Holy Trinity Church\, 1098 3rd Street\, Beaver\, PA\, 15009\, United States
GEO:40.6930069;-80.3112194
X-APPLE-STRUCTURED-LOCATION;VALUE=URI;X-ADDRESS=Holy Trinity Church 1098 3rd Street Beaver PA 15009 United States;X-APPLE-RADIUS=500;X-TITLE=1098 3rd Street:geo:-80.3112194,40.6930069
END:VEVENT
BEGIN:VEVENT
DTSTART;TZID=UTC:20241202T110000
DTEND;TZID=UTC:20241202T133000
DTSTAMP:20260421T123447
CREATED:20230427T201158Z
LAST-MODIFIED:20230427T201158Z
UID:10000474-1733137200-1733146200@www.bblutheran.com
SUMMARY:Bible Study at Holy Trinity
DESCRIPTION:All are welcome to join in a Bible study being held at Holy Trinity at 11:00 a.m. in the Fellowship hall.
URL:https://www.bblutheran.com/event/bible-study-at-holy-trinity-2-2/2024-12-02/
LOCATION:Holy Trinity Church\, 1098 3rd Street\, Beaver\, PA\, 15009\, United States
GEO:40.6930069;-80.3112194
X-APPLE-STRUCTURED-LOCATION;VALUE=URI;X-ADDRESS=Holy Trinity Church 1098 3rd Street Beaver PA 15009 United States;X-APPLE-RADIUS=500;X-TITLE=1098 3rd Street:geo:-80.3112194,40.6930069
END:VEVENT
BEGIN:VEVENT
DTSTART;TZID=America/New_York:20241202T110000
DTEND;TZID=America/New_York:20241202T130000
DTSTAMP:20260421T123447
CREATED:20241204T164657Z
LAST-MODIFIED:20241204T164657Z
UID:10027576-1733137200-1733144400@www.bblutheran.com
SUMMARY:Bible Study at Holy Trinity
DESCRIPTION:
URL:https://www.bblutheran.com/event/bible-study-at-holy-trinity-6/
LOCATION:Holy Trinity Church\, 1098 3rd Street\, Beaver\, PA\, 15009\, United States
GEO:40.6930069;-80.3112194
X-APPLE-STRUCTURED-LOCATION;VALUE=URI;X-ADDRESS=Holy Trinity Church 1098 3rd Street Beaver PA 15009 United States;X-APPLE-RADIUS=500;X-TITLE=1098 3rd Street:geo:-80.3112194,40.6930069
END:VEVENT
BEGIN:VEVENT
DTSTART;TZID=UTC:20241201T091500
DTEND;TZID=UTC:20241201T101500
DTSTAMP:20260421T123447
CREATED:20230201T202448Z
LAST-MODIFIED:20230201T202448Z
UID:10000240-1733044500-1733048100@www.bblutheran.com
SUMMARY:Worship at Holy Trinity @ 9:15 a.m.
DESCRIPTION:
URL:https://www.bblutheran.com/event/worship-at-holy-trinity-915-a-m/2024-12-01/
LOCATION:Holy Trinity Church\, 1098 3rd Street\, Beaver\, PA\, 15009\, United States
GEO:40.6930069;-80.3112194
X-APPLE-STRUCTURED-LOCATION;VALUE=URI;X-ADDRESS=Holy Trinity Church 1098 3rd Street Beaver PA 15009 United States;X-APPLE-RADIUS=500;X-TITLE=1098 3rd Street:geo:-80.3112194,40.6930069
END:VEVENT
BEGIN:VEVENT
DTSTART;TZID=UTC:20241124T091500
DTEND;TZID=UTC:20241124T101500
DTSTAMP:20260421T123447
CREATED:20230201T202448Z
LAST-MODIFIED:20230201T202448Z
UID:10000239-1732439700-1732443300@www.bblutheran.com
SUMMARY:Worship at Holy Trinity @ 9:15 a.m.
DESCRIPTION:
URL:https://www.bblutheran.com/event/worship-at-holy-trinity-915-a-m/2024-11-24/
LOCATION:Holy Trinity Church\, 1098 3rd Street\, Beaver\, PA\, 15009\, United States
GEO:40.6930069;-80.3112194
X-APPLE-STRUCTURED-LOCATION;VALUE=URI;X-ADDRESS=Holy Trinity Church 1098 3rd Street Beaver PA 15009 United States;X-APPLE-RADIUS=500;X-TITLE=1098 3rd Street:geo:-80.3112194,40.6930069
END:VEVENT
END:VCALENDAR