BEGIN:VCALENDAR
VERSION:2.0
PRODID:-// - ECPv6.3.3.1//NONSGML v1.0//EN
CALSCALE:GREGORIAN
METHOD:PUBLISH
X-ORIGINAL-URL:https://www.bblutheran.com
X-WR-CALDESC:Events for 
REFRESH-INTERVAL;VALUE=DURATION:PT1H
X-Robots-Tag:noindex
X-PUBLISHED-TTL:PT1H
BEGIN:VTIMEZONE
TZID:UTC
BEGIN:STANDARD
TZOFFSETFROM:+0000
TZOFFSETTO:+0000
TZNAME:UTC
DTSTART:20240101T000000
END:STANDARD
TZID:America/New_York
BEGIN:DAYLIGHT
TZOFFSETFROM:-0500
TZOFFSETTO:-0400
TZNAME:EDT
DTSTART:20240310T070000
END:DAYLIGHT
BEGIN:STANDARD
TZOFFSETFROM:-0400
TZOFFSETTO:-0500
TZNAME:EST
DTSTART:20241103T060000
END:STANDARD
END:VTIMEZONE
BEGIN:VEVENT
DTSTART;TZID=UTC:20241222T091500
DTEND;TZID=UTC:20241222T101500
DTSTAMP:20260421T182940
CREATED:20230201T202448Z
LAST-MODIFIED:20230201T202448Z
UID:10000243-1734858900-1734862500@www.bblutheran.com
SUMMARY:Worship at Holy Trinity @ 9:15 a.m.
DESCRIPTION:
URL:https://www.bblutheran.com/event/worship-at-holy-trinity-915-a-m/2024-12-22/
LOCATION:Holy Trinity Church\, 1098 3rd Street\, Beaver\, PA\, 15009\, United States
GEO:40.6930069;-80.3112194
X-APPLE-STRUCTURED-LOCATION;VALUE=URI;X-ADDRESS=Holy Trinity Church 1098 3rd Street Beaver PA 15009 United States;X-APPLE-RADIUS=500;X-TITLE=1098 3rd Street:geo:-80.3112194,40.6930069
END:VEVENT
BEGIN:VEVENT
DTSTART;TZID=UTC:20241215T091500
DTEND;TZID=UTC:20241215T101500
DTSTAMP:20260421T182940
CREATED:20230201T202448Z
LAST-MODIFIED:20230201T202448Z
UID:10000242-1734254100-1734257700@www.bblutheran.com
SUMMARY:Worship at Holy Trinity @ 9:15 a.m.
DESCRIPTION:
URL:https://www.bblutheran.com/event/worship-at-holy-trinity-915-a-m/2024-12-15/
LOCATION:Holy Trinity Church\, 1098 3rd Street\, Beaver\, PA\, 15009\, United States
GEO:40.6930069;-80.3112194
X-APPLE-STRUCTURED-LOCATION;VALUE=URI;X-ADDRESS=Holy Trinity Church 1098 3rd Street Beaver PA 15009 United States;X-APPLE-RADIUS=500;X-TITLE=1098 3rd Street:geo:-80.3112194,40.6930069
END:VEVENT
BEGIN:VEVENT
DTSTART;TZID=America/New_York:20241211T180000
DTEND;TZID=America/New_York:20241211T200000
DTSTAMP:20260421T182940
CREATED:20241204T164145Z
LAST-MODIFIED:20241204T164145Z
UID:10027571-1733940000-1733947200@www.bblutheran.com
SUMMARY:Mid Week Advent Holden Evening Prayer Service at Holy Trinity
DESCRIPTION:Light Supper at 6:00 p.m. Service follows at 7:00 p.m.
URL:https://www.bblutheran.com/event/mid-week-advent-holden-evening-prayer-service-at-holy-trinity/
LOCATION:Holy Trinity Church\, 1098 3rd Street\, Beaver\, PA\, 15009\, United States
GEO:40.6930069;-80.3112194
X-APPLE-STRUCTURED-LOCATION;VALUE=URI;X-ADDRESS=Holy Trinity Church 1098 3rd Street Beaver PA 15009 United States;X-APPLE-RADIUS=500;X-TITLE=1098 3rd Street:geo:-80.3112194,40.6930069
END:VEVENT
BEGIN:VEVENT
DTSTART;TZID=America/New_York:20241209T091500
DTEND;TZID=America/New_York:20241209T103000
DTSTAMP:20260421T182940
CREATED:20241204T165747Z
LAST-MODIFIED:20241204T165747Z
UID:10027586-1733735700-1733740200@www.bblutheran.com
SUMMARY:Men's Shelter Dinner - Holy Trinity
DESCRIPTION:
URL:https://www.bblutheran.com/event/mens-shelter-dinner-holy-trinity/
LOCATION:Holy Trinity Church\, 1098 3rd Street\, Beaver\, PA\, 15009\, United States
GEO:40.6930069;-80.3112194
X-APPLE-STRUCTURED-LOCATION;VALUE=URI;X-ADDRESS=Holy Trinity Church 1098 3rd Street Beaver PA 15009 United States;X-APPLE-RADIUS=500;X-TITLE=1098 3rd Street:geo:-80.3112194,40.6930069
END:VEVENT
BEGIN:VEVENT
DTSTART;TZID=America/New_York:20241208T091500
DTEND;TZID=America/New_York:20241208T103000
DTSTAMP:20260421T182940
CREATED:20241204T170002Z
LAST-MODIFIED:20241204T170002Z
UID:10027588-1733649300-1733653800@www.bblutheran.com
SUMMARY:Noisy collection at Holy Trinity
DESCRIPTION:
URL:https://www.bblutheran.com/event/noisy-collection-at-holy-trinity-3/
LOCATION:Holy Trinity Church\, 1098 3rd Street\, Beaver\, PA\, 15009\, United States
GEO:40.6930069;-80.3112194
X-APPLE-STRUCTURED-LOCATION;VALUE=URI;X-ADDRESS=Holy Trinity Church 1098 3rd Street Beaver PA 15009 United States;X-APPLE-RADIUS=500;X-TITLE=1098 3rd Street:geo:-80.3112194,40.6930069
END:VEVENT
BEGIN:VEVENT
DTSTART;TZID=UTC:20241208T091500
DTEND;TZID=UTC:20241208T101500
DTSTAMP:20260421T182940
CREATED:20230201T202448Z
LAST-MODIFIED:20230201T202448Z
UID:10000241-1733649300-1733652900@www.bblutheran.com
SUMMARY:Worship at Holy Trinity @ 9:15 a.m.
DESCRIPTION:
URL:https://www.bblutheran.com/event/worship-at-holy-trinity-915-a-m/2024-12-08/
LOCATION:Holy Trinity Church\, 1098 3rd Street\, Beaver\, PA\, 15009\, United States
GEO:40.6930069;-80.3112194
X-APPLE-STRUCTURED-LOCATION;VALUE=URI;X-ADDRESS=Holy Trinity Church 1098 3rd Street Beaver PA 15009 United States;X-APPLE-RADIUS=500;X-TITLE=1098 3rd Street:geo:-80.3112194,40.6930069
END:VEVENT
BEGIN:VEVENT
DTSTART;TZID=UTC:20241202T110000
DTEND;TZID=UTC:20241202T133000
DTSTAMP:20260421T182940
CREATED:20230427T201158Z
LAST-MODIFIED:20230427T201158Z
UID:10000474-1733137200-1733146200@www.bblutheran.com
SUMMARY:Bible Study at Holy Trinity
DESCRIPTION:All are welcome to join in a Bible study being held at Holy Trinity at 11:00 a.m. in the Fellowship hall.
URL:https://www.bblutheran.com/event/bible-study-at-holy-trinity-2-2/2024-12-02/
LOCATION:Holy Trinity Church\, 1098 3rd Street\, Beaver\, PA\, 15009\, United States
GEO:40.6930069;-80.3112194
X-APPLE-STRUCTURED-LOCATION;VALUE=URI;X-ADDRESS=Holy Trinity Church 1098 3rd Street Beaver PA 15009 United States;X-APPLE-RADIUS=500;X-TITLE=1098 3rd Street:geo:-80.3112194,40.6930069
END:VEVENT
BEGIN:VEVENT
DTSTART;TZID=America/New_York:20241202T110000
DTEND;TZID=America/New_York:20241202T130000
DTSTAMP:20260421T182940
CREATED:20241204T164657Z
LAST-MODIFIED:20241204T164657Z
UID:10027576-1733137200-1733144400@www.bblutheran.com
SUMMARY:Bible Study at Holy Trinity
DESCRIPTION:
URL:https://www.bblutheran.com/event/bible-study-at-holy-trinity-6/
LOCATION:Holy Trinity Church\, 1098 3rd Street\, Beaver\, PA\, 15009\, United States
GEO:40.6930069;-80.3112194
X-APPLE-STRUCTURED-LOCATION;VALUE=URI;X-ADDRESS=Holy Trinity Church 1098 3rd Street Beaver PA 15009 United States;X-APPLE-RADIUS=500;X-TITLE=1098 3rd Street:geo:-80.3112194,40.6930069
END:VEVENT
BEGIN:VEVENT
DTSTART;TZID=UTC:20241201T091500
DTEND;TZID=UTC:20241201T101500
DTSTAMP:20260421T182940
CREATED:20230201T202448Z
LAST-MODIFIED:20230201T202448Z
UID:10000240-1733044500-1733048100@www.bblutheran.com
SUMMARY:Worship at Holy Trinity @ 9:15 a.m.
DESCRIPTION:
URL:https://www.bblutheran.com/event/worship-at-holy-trinity-915-a-m/2024-12-01/
LOCATION:Holy Trinity Church\, 1098 3rd Street\, Beaver\, PA\, 15009\, United States
GEO:40.6930069;-80.3112194
X-APPLE-STRUCTURED-LOCATION;VALUE=URI;X-ADDRESS=Holy Trinity Church 1098 3rd Street Beaver PA 15009 United States;X-APPLE-RADIUS=500;X-TITLE=1098 3rd Street:geo:-80.3112194,40.6930069
END:VEVENT
BEGIN:VEVENT
DTSTART;TZID=UTC:20241124T091500
DTEND;TZID=UTC:20241124T101500
DTSTAMP:20260421T182940
CREATED:20230201T202448Z
LAST-MODIFIED:20230201T202448Z
UID:10000239-1732439700-1732443300@www.bblutheran.com
SUMMARY:Worship at Holy Trinity @ 9:15 a.m.
DESCRIPTION:
URL:https://www.bblutheran.com/event/worship-at-holy-trinity-915-a-m/2024-11-24/
LOCATION:Holy Trinity Church\, 1098 3rd Street\, Beaver\, PA\, 15009\, United States
GEO:40.6930069;-80.3112194
X-APPLE-STRUCTURED-LOCATION;VALUE=URI;X-ADDRESS=Holy Trinity Church 1098 3rd Street Beaver PA 15009 United States;X-APPLE-RADIUS=500;X-TITLE=1098 3rd Street:geo:-80.3112194,40.6930069
END:VEVENT
BEGIN:VEVENT
DTSTART;TZID=America/New_York:20241120T190000
DTEND;TZID=America/New_York:20241120T210000
DTSTAMP:20260421T182940
CREATED:20241030T153925Z
LAST-MODIFIED:20241030T153925Z
UID:10025991-1732129200-1732136400@www.bblutheran.com
SUMMARY:Holy Trinity Council Meeting
DESCRIPTION:
URL:https://www.bblutheran.com/event/holy-trinity-council-meeting-9/
LOCATION:Holy Trinity Church\, 1098 3rd Street\, Beaver\, PA\, 15009\, United States
GEO:40.6930069;-80.3112194
X-APPLE-STRUCTURED-LOCATION;VALUE=URI;X-ADDRESS=Holy Trinity Church 1098 3rd Street Beaver PA 15009 United States;X-APPLE-RADIUS=500;X-TITLE=1098 3rd Street:geo:-80.3112194,40.6930069
END:VEVENT
BEGIN:VEVENT
DTSTART;TZID=UTC:20241117T091500
DTEND;TZID=UTC:20241117T101500
DTSTAMP:20260421T182940
CREATED:20230201T202448Z
LAST-MODIFIED:20230201T202448Z
UID:10000238-1731834900-1731838500@www.bblutheran.com
SUMMARY:Worship at Holy Trinity @ 9:15 a.m.
DESCRIPTION:
URL:https://www.bblutheran.com/event/worship-at-holy-trinity-915-a-m/2024-11-17/
LOCATION:Holy Trinity Church\, 1098 3rd Street\, Beaver\, PA\, 15009\, United States
GEO:40.6930069;-80.3112194
X-APPLE-STRUCTURED-LOCATION;VALUE=URI;X-ADDRESS=Holy Trinity Church 1098 3rd Street Beaver PA 15009 United States;X-APPLE-RADIUS=500;X-TITLE=1098 3rd Street:geo:-80.3112194,40.6930069
END:VEVENT
BEGIN:VEVENT
DTSTART;VALUE=DATE:20241111
DTEND;VALUE=DATE:20241112
DTSTAMP:20260421T182940
CREATED:20241030T153745Z
LAST-MODIFIED:20241030T153745Z
UID:10025990-1731283200-1731369599@www.bblutheran.com
SUMMARY:Cornerstone of Beaver County - Holy Trinity
DESCRIPTION:We are providing meals one evening a month to the guests at the Cornerstone Men’s Shelter. There are about 20 residents\, and there is a sign up sheet in the Narthex. Next dinner is November 11th.
URL:https://www.bblutheran.com/event/cornerstone-of-beaver-county-holy-trinity/
LOCATION:Holy Trinity Church\, 1098 3rd Street\, Beaver\, PA\, 15009\, United States
GEO:40.6930069;-80.3112194
X-APPLE-STRUCTURED-LOCATION;VALUE=URI;X-ADDRESS=Holy Trinity Church 1098 3rd Street Beaver PA 15009 United States;X-APPLE-RADIUS=500;X-TITLE=1098 3rd Street:geo:-80.3112194,40.6930069
END:VEVENT
BEGIN:VEVENT
DTSTART;TZID=America/New_York:20241110T091500
DTEND;TZID=America/New_York:20241110T101500
DTSTAMP:20260421T182940
CREATED:20241030T160309Z
LAST-MODIFIED:20241030T160309Z
UID:10025997-1731230100-1731233700@www.bblutheran.com
SUMMARY:Noisy Collection at Holy Trinity
DESCRIPTION:
URL:https://www.bblutheran.com/event/noisy-collection-at-holy-trinity-2/
LOCATION:Holy Trinity Church\, 1098 3rd Street\, Beaver\, PA\, 15009\, United States
GEO:40.6930069;-80.3112194
X-APPLE-STRUCTURED-LOCATION;VALUE=URI;X-ADDRESS=Holy Trinity Church 1098 3rd Street Beaver PA 15009 United States;X-APPLE-RADIUS=500;X-TITLE=1098 3rd Street:geo:-80.3112194,40.6930069
END:VEVENT
BEGIN:VEVENT
DTSTART;TZID=UTC:20241110T091500
DTEND;TZID=UTC:20241110T101500
DTSTAMP:20260421T182940
CREATED:20230201T202448Z
LAST-MODIFIED:20230201T202448Z
UID:10000237-1731230100-1731233700@www.bblutheran.com
SUMMARY:Worship at Holy Trinity @ 9:15 a.m.
DESCRIPTION:
URL:https://www.bblutheran.com/event/worship-at-holy-trinity-915-a-m/2024-11-10/
LOCATION:Holy Trinity Church\, 1098 3rd Street\, Beaver\, PA\, 15009\, United States
GEO:40.6930069;-80.3112194
X-APPLE-STRUCTURED-LOCATION;VALUE=URI;X-ADDRESS=Holy Trinity Church 1098 3rd Street Beaver PA 15009 United States;X-APPLE-RADIUS=500;X-TITLE=1098 3rd Street:geo:-80.3112194,40.6930069
END:VEVENT
BEGIN:VEVENT
DTSTART;TZID=UTC:20241104T110000
DTEND;TZID=UTC:20241104T133000
DTSTAMP:20260421T182940
CREATED:20230427T201158Z
LAST-MODIFIED:20230427T201158Z
UID:10000470-1730718000-1730727000@www.bblutheran.com
SUMMARY:Bible Study at Holy Trinity
DESCRIPTION:All are welcome to join in a Bible study being held at Holy Trinity at 11:00 a.m. in the Fellowship hall.
URL:https://www.bblutheran.com/event/bible-study-at-holy-trinity-2-2/2024-11-04/
LOCATION:Holy Trinity Church\, 1098 3rd Street\, Beaver\, PA\, 15009\, United States
GEO:40.6930069;-80.3112194
X-APPLE-STRUCTURED-LOCATION;VALUE=URI;X-ADDRESS=Holy Trinity Church 1098 3rd Street Beaver PA 15009 United States;X-APPLE-RADIUS=500;X-TITLE=1098 3rd Street:geo:-80.3112194,40.6930069
END:VEVENT
BEGIN:VEVENT
DTSTART;TZID=America/New_York:20241104T110000
DTEND;TZID=America/New_York:20241104T110000
DTSTAMP:20260421T182940
CREATED:20241030T152651Z
LAST-MODIFIED:20241030T152651Z
UID:10025987-1730718000-1730718000@www.bblutheran.com
SUMMARY:Bible Study at Holy Trinity
DESCRIPTION:
URL:https://www.bblutheran.com/event/bible-study-at-holy-trinity-5/
LOCATION:Holy Trinity Church\, 1098 3rd Street\, Beaver\, PA\, 15009\, United States
GEO:40.6930069;-80.3112194
X-APPLE-STRUCTURED-LOCATION;VALUE=URI;X-ADDRESS=Holy Trinity Church 1098 3rd Street Beaver PA 15009 United States;X-APPLE-RADIUS=500;X-TITLE=1098 3rd Street:geo:-80.3112194,40.6930069
END:VEVENT
BEGIN:VEVENT
DTSTART;TZID=UTC:20241103T091500
DTEND;TZID=UTC:20241103T101500
DTSTAMP:20260421T182940
CREATED:20230201T202448Z
LAST-MODIFIED:20230201T202448Z
UID:10000236-1730625300-1730628900@www.bblutheran.com
SUMMARY:Worship at Holy Trinity @ 9:15 a.m.
DESCRIPTION:
URL:https://www.bblutheran.com/event/worship-at-holy-trinity-915-a-m/2024-11-03/
LOCATION:Holy Trinity Church\, 1098 3rd Street\, Beaver\, PA\, 15009\, United States
GEO:40.6930069;-80.3112194
X-APPLE-STRUCTURED-LOCATION;VALUE=URI;X-ADDRESS=Holy Trinity Church 1098 3rd Street Beaver PA 15009 United States;X-APPLE-RADIUS=500;X-TITLE=1098 3rd Street:geo:-80.3112194,40.6930069
END:VEVENT
BEGIN:VEVENT
DTSTART;TZID=America/New_York:20241030T190000
DTEND;TZID=America/New_York:20241030T203000
DTSTAMP:20260421T182940
CREATED:20241030T130810Z
LAST-MODIFIED:20241030T130810Z
UID:10025986-1730314800-1730320200@www.bblutheran.com
SUMMARY:Vital Congregational Meeting at Holy Trinity
DESCRIPTION:
URL:https://www.bblutheran.com/event/vital-congregational-meeting-at-holy-trinity-2/
LOCATION:Holy Trinity Church\, 1098 3rd Street\, Beaver\, PA\, 15009\, United States
GEO:40.6930069;-80.3112194
X-APPLE-STRUCTURED-LOCATION;VALUE=URI;X-ADDRESS=Holy Trinity Church 1098 3rd Street Beaver PA 15009 United States;X-APPLE-RADIUS=500;X-TITLE=1098 3rd Street:geo:-80.3112194,40.6930069
END:VEVENT
BEGIN:VEVENT
DTSTART;TZID=UTC:20241027T091500
DTEND;TZID=UTC:20241027T101500
DTSTAMP:20260421T182940
CREATED:20230201T202448Z
LAST-MODIFIED:20230201T202448Z
UID:10000235-1730020500-1730024100@www.bblutheran.com
SUMMARY:Worship at Holy Trinity @ 9:15 a.m.
DESCRIPTION:
URL:https://www.bblutheran.com/event/worship-at-holy-trinity-915-a-m/2024-10-27/
LOCATION:Holy Trinity Church\, 1098 3rd Street\, Beaver\, PA\, 15009\, United States
GEO:40.6930069;-80.3112194
X-APPLE-STRUCTURED-LOCATION;VALUE=URI;X-ADDRESS=Holy Trinity Church 1098 3rd Street Beaver PA 15009 United States;X-APPLE-RADIUS=500;X-TITLE=1098 3rd Street:geo:-80.3112194,40.6930069
END:VEVENT
BEGIN:VEVENT
DTSTART;TZID=UTC:20241020T091500
DTEND;TZID=UTC:20241020T101500
DTSTAMP:20260421T182940
CREATED:20230201T202448Z
LAST-MODIFIED:20230201T202448Z
UID:10000234-1729415700-1729419300@www.bblutheran.com
SUMMARY:Worship at Holy Trinity @ 9:15 a.m.
DESCRIPTION:
URL:https://www.bblutheran.com/event/worship-at-holy-trinity-915-a-m/2024-10-20/
LOCATION:Holy Trinity Church\, 1098 3rd Street\, Beaver\, PA\, 15009\, United States
GEO:40.6930069;-80.3112194
X-APPLE-STRUCTURED-LOCATION;VALUE=URI;X-ADDRESS=Holy Trinity Church 1098 3rd Street Beaver PA 15009 United States;X-APPLE-RADIUS=500;X-TITLE=1098 3rd Street:geo:-80.3112194,40.6930069
END:VEVENT
BEGIN:VEVENT
DTSTART;TZID=America/New_York:20241016T190000
DTEND;TZID=America/New_York:20241016T203000
DTSTAMP:20260421T182940
CREATED:20241003T141505Z
LAST-MODIFIED:20241003T141505Z
UID:10024722-1729105200-1729110600@www.bblutheran.com
SUMMARY:Holy Trinity Council Meeting at 7:00 p.m.
DESCRIPTION:
URL:https://www.bblutheran.com/event/holy-trinity-council-meeting-at-700-p-m-2/
LOCATION:Holy Trinity Church\, 1098 3rd Street\, Beaver\, PA\, 15009\, United States
GEO:40.6930069;-80.3112194
X-APPLE-STRUCTURED-LOCATION;VALUE=URI;X-ADDRESS=Holy Trinity Church 1098 3rd Street Beaver PA 15009 United States;X-APPLE-RADIUS=500;X-TITLE=1098 3rd Street:geo:-80.3112194,40.6930069
END:VEVENT
BEGIN:VEVENT
DTSTART;TZID=America/New_York:20241015T080000
DTEND;TZID=America/New_York:20241015T170000
DTSTAMP:20260421T182940
CREATED:20241003T141412Z
LAST-MODIFIED:20241003T141412Z
UID:10024721-1728979200-1729011600@www.bblutheran.com
SUMMARY:Cornerstone Men's Shelter Dinner
DESCRIPTION:We are providing meals one evening a month to the guests at the Cornerstone Men’s Shelter. There are about 20 residents\, and there is a sign up sheet in the Narthex. Next dinner is October 14th.
URL:https://www.bblutheran.com/event/cornerstone-mens-shelter-dinner/
LOCATION:Holy Trinity Church\, 1098 3rd Street\, Beaver\, PA\, 15009\, United States
GEO:40.6930069;-80.3112194
X-APPLE-STRUCTURED-LOCATION;VALUE=URI;X-ADDRESS=Holy Trinity Church 1098 3rd Street Beaver PA 15009 United States;X-APPLE-RADIUS=500;X-TITLE=1098 3rd Street:geo:-80.3112194,40.6930069
END:VEVENT
BEGIN:VEVENT
DTSTART;TZID=America/New_York:20241013T091500
DTEND;TZID=America/New_York:20241013T101500
DTSTAMP:20260421T182940
CREATED:20241003T143526Z
LAST-MODIFIED:20241003T143540Z
UID:10024729-1728810900-1728814500@www.bblutheran.com
SUMMARY:Noisy Collection at Holy Trinity
DESCRIPTION:
URL:https://www.bblutheran.com/event/noisy-collection-at-holy-trinity/
LOCATION:Holy Trinity Church\, 1098 3rd Street\, Beaver\, PA\, 15009\, United States
GEO:40.6930069;-80.3112194
X-APPLE-STRUCTURED-LOCATION;VALUE=URI;X-ADDRESS=Holy Trinity Church 1098 3rd Street Beaver PA 15009 United States;X-APPLE-RADIUS=500;X-TITLE=1098 3rd Street:geo:-80.3112194,40.6930069
END:VEVENT
BEGIN:VEVENT
DTSTART;TZID=UTC:20241013T091500
DTEND;TZID=UTC:20241013T101500
DTSTAMP:20260421T182940
CREATED:20230201T202448Z
LAST-MODIFIED:20230201T202448Z
UID:10000233-1728810900-1728814500@www.bblutheran.com
SUMMARY:Worship at Holy Trinity @ 9:15 a.m.
DESCRIPTION:
URL:https://www.bblutheran.com/event/worship-at-holy-trinity-915-a-m/2024-10-13/
LOCATION:Holy Trinity Church\, 1098 3rd Street\, Beaver\, PA\, 15009\, United States
GEO:40.6930069;-80.3112194
X-APPLE-STRUCTURED-LOCATION;VALUE=URI;X-ADDRESS=Holy Trinity Church 1098 3rd Street Beaver PA 15009 United States;X-APPLE-RADIUS=500;X-TITLE=1098 3rd Street:geo:-80.3112194,40.6930069
END:VEVENT
BEGIN:VEVENT
DTSTART;TZID=UTC:20241007T110000
DTEND;TZID=UTC:20241007T133000
DTSTAMP:20260421T182940
CREATED:20230427T201158Z
LAST-MODIFIED:20230427T201158Z
UID:10000466-1728298800-1728307800@www.bblutheran.com
SUMMARY:Bible Study at Holy Trinity
DESCRIPTION:All are welcome to join in a Bible study being held at Holy Trinity at 11:00 a.m. in the Fellowship hall.
URL:https://www.bblutheran.com/event/bible-study-at-holy-trinity-2-2/2024-10-07/
LOCATION:Holy Trinity Church\, 1098 3rd Street\, Beaver\, PA\, 15009\, United States
GEO:40.6930069;-80.3112194
X-APPLE-STRUCTURED-LOCATION;VALUE=URI;X-ADDRESS=Holy Trinity Church 1098 3rd Street Beaver PA 15009 United States;X-APPLE-RADIUS=500;X-TITLE=1098 3rd Street:geo:-80.3112194,40.6930069
END:VEVENT
BEGIN:VEVENT
DTSTART;TZID=UTC:20241006T091500
DTEND;TZID=UTC:20241006T101500
DTSTAMP:20260421T182940
CREATED:20230201T202448Z
LAST-MODIFIED:20230201T202448Z
UID:10000232-1728206100-1728209700@www.bblutheran.com
SUMMARY:Worship at Holy Trinity @ 9:15 a.m.
DESCRIPTION:
URL:https://www.bblutheran.com/event/worship-at-holy-trinity-915-a-m/2024-10-06/
LOCATION:Holy Trinity Church\, 1098 3rd Street\, Beaver\, PA\, 15009\, United States
GEO:40.6930069;-80.3112194
X-APPLE-STRUCTURED-LOCATION;VALUE=URI;X-ADDRESS=Holy Trinity Church 1098 3rd Street Beaver PA 15009 United States;X-APPLE-RADIUS=500;X-TITLE=1098 3rd Street:geo:-80.3112194,40.6930069
END:VEVENT
BEGIN:VEVENT
DTSTART;TZID=UTC:20240929T091500
DTEND;TZID=UTC:20240929T101500
DTSTAMP:20260421T182940
CREATED:20230201T202448Z
LAST-MODIFIED:20230201T202448Z
UID:10000231-1727601300-1727604900@www.bblutheran.com
SUMMARY:Worship at Holy Trinity @ 9:15 a.m.
DESCRIPTION:
URL:https://www.bblutheran.com/event/worship-at-holy-trinity-915-a-m/2024-09-29/
LOCATION:Holy Trinity Church\, 1098 3rd Street\, Beaver\, PA\, 15009\, United States
GEO:40.6930069;-80.3112194
X-APPLE-STRUCTURED-LOCATION;VALUE=URI;X-ADDRESS=Holy Trinity Church 1098 3rd Street Beaver PA 15009 United States;X-APPLE-RADIUS=500;X-TITLE=1098 3rd Street:geo:-80.3112194,40.6930069
END:VEVENT
BEGIN:VEVENT
DTSTART;TZID=America/New_York:20240924T190000
DTEND;TZID=America/New_York:20240924T203000
DTSTAMP:20260421T182940
CREATED:20240829T215907Z
LAST-MODIFIED:20240829T215907Z
UID:10023143-1727204400-1727209800@www.bblutheran.com
SUMMARY:Vital Task Force Meeting at Holy Trinity
DESCRIPTION:
URL:https://www.bblutheran.com/event/vital-task-force-meeting-at-holy-trinity-3/
LOCATION:Holy Trinity Church\, 1098 3rd Street\, Beaver\, PA\, 15009\, United States
GEO:40.6930069;-80.3112194
X-APPLE-STRUCTURED-LOCATION;VALUE=URI;X-ADDRESS=Holy Trinity Church 1098 3rd Street Beaver PA 15009 United States;X-APPLE-RADIUS=500;X-TITLE=1098 3rd Street:geo:-80.3112194,40.6930069
END:VEVENT
BEGIN:VEVENT
DTSTART;TZID=America/New_York:20240922T091500
DTEND;TZID=America/New_York:20240922T101500
DTSTAMP:20260421T182940
CREATED:20240829T220534Z
LAST-MODIFIED:20240829T220534Z
UID:10023149-1726996500-1727000100@www.bblutheran.com
SUMMARY:Baptism at Holy Trinity
DESCRIPTION:
URL:https://www.bblutheran.com/event/baptism-at-holy-trinity/
LOCATION:Holy Trinity Church\, 1098 3rd Street\, Beaver\, PA\, 15009\, United States
GEO:40.6930069;-80.3112194
X-APPLE-STRUCTURED-LOCATION;VALUE=URI;X-ADDRESS=Holy Trinity Church 1098 3rd Street Beaver PA 15009 United States;X-APPLE-RADIUS=500;X-TITLE=1098 3rd Street:geo:-80.3112194,40.6930069
END:VEVENT
END:VCALENDAR