BEGIN:VCALENDAR
VERSION:2.0
PRODID:-// - ECPv6.3.3.1//NONSGML v1.0//EN
CALSCALE:GREGORIAN
METHOD:PUBLISH
X-ORIGINAL-URL:https://www.bblutheran.com
X-WR-CALDESC:Events for 
REFRESH-INTERVAL;VALUE=DURATION:PT1H
X-Robots-Tag:noindex
X-PUBLISHED-TTL:PT1H
BEGIN:VTIMEZONE
TZID:America/New_York
BEGIN:DAYLIGHT
TZOFFSETFROM:-0500
TZOFFSETTO:-0400
TZNAME:EDT
DTSTART:20240310T070000
END:DAYLIGHT
BEGIN:STANDARD
TZOFFSETFROM:-0400
TZOFFSETTO:-0500
TZNAME:EST
DTSTART:20241103T060000
END:STANDARD
TZID:UTC
BEGIN:STANDARD
TZOFFSETFROM:+0000
TZOFFSETTO:+0000
TZNAME:UTC
DTSTART:20240101T000000
END:STANDARD
END:VTIMEZONE
BEGIN:VEVENT
DTSTART;TZID=America/New_York:20240922T091500
DTEND;TZID=America/New_York:20240922T101500
DTSTAMP:20260424T105715
CREATED:20240829T220534Z
LAST-MODIFIED:20240829T220534Z
UID:10023149-1726996500-1727000100@www.bblutheran.com
SUMMARY:Baptism at Holy Trinity
DESCRIPTION:
URL:https://www.bblutheran.com/event/baptism-at-holy-trinity/
LOCATION:Holy Trinity Church\, 1098 3rd Street\, Beaver\, PA\, 15009\, United States
GEO:40.6930069;-80.3112194
X-APPLE-STRUCTURED-LOCATION;VALUE=URI;X-ADDRESS=Holy Trinity Church 1098 3rd Street Beaver PA 15009 United States;X-APPLE-RADIUS=500;X-TITLE=1098 3rd Street:geo:-80.3112194,40.6930069
END:VEVENT
BEGIN:VEVENT
DTSTART;TZID=UTC:20240922T091500
DTEND;TZID=UTC:20240922T101500
DTSTAMP:20260424T105715
CREATED:20230201T202448Z
LAST-MODIFIED:20230201T202448Z
UID:10000230-1726996500-1727000100@www.bblutheran.com
SUMMARY:Worship at Holy Trinity @ 9:15 a.m.
DESCRIPTION:
URL:https://www.bblutheran.com/event/worship-at-holy-trinity-915-a-m/2024-09-22/
LOCATION:Holy Trinity Church\, 1098 3rd Street\, Beaver\, PA\, 15009\, United States
GEO:40.6930069;-80.3112194
X-APPLE-STRUCTURED-LOCATION;VALUE=URI;X-ADDRESS=Holy Trinity Church 1098 3rd Street Beaver PA 15009 United States;X-APPLE-RADIUS=500;X-TITLE=1098 3rd Street:geo:-80.3112194,40.6930069
END:VEVENT
BEGIN:VEVENT
DTSTART;TZID=UTC:20240915T091500
DTEND;TZID=UTC:20240915T101500
DTSTAMP:20260424T105715
CREATED:20230201T202448Z
LAST-MODIFIED:20230201T202448Z
UID:10000229-1726391700-1726395300@www.bblutheran.com
SUMMARY:Worship at Holy Trinity @ 9:15 a.m.
DESCRIPTION:
URL:https://www.bblutheran.com/event/worship-at-holy-trinity-915-a-m/2024-09-15/
LOCATION:Holy Trinity Church\, 1098 3rd Street\, Beaver\, PA\, 15009\, United States
GEO:40.6930069;-80.3112194
X-APPLE-STRUCTURED-LOCATION;VALUE=URI;X-ADDRESS=Holy Trinity Church 1098 3rd Street Beaver PA 15009 United States;X-APPLE-RADIUS=500;X-TITLE=1098 3rd Street:geo:-80.3112194,40.6930069
END:VEVENT
BEGIN:VEVENT
DTSTART;TZID=America/New_York:20240915T083000
DTEND;TZID=America/New_York:20240915T090000
DTSTAMP:20260424T105715
CREATED:20240829T220322Z
LAST-MODIFIED:20240829T220322Z
UID:10023147-1726389000-1726390800@www.bblutheran.com
SUMMARY:Choir Rehearsal at Holy Trinity
DESCRIPTION:
URL:https://www.bblutheran.com/event/choir-rehearsal-at-holy-trinity-2/
LOCATION:Holy Trinity Church\, 1098 3rd Street\, Beaver\, PA\, 15009\, United States
GEO:40.6930069;-80.3112194
X-APPLE-STRUCTURED-LOCATION;VALUE=URI;X-ADDRESS=Holy Trinity Church 1098 3rd Street Beaver PA 15009 United States;X-APPLE-RADIUS=500;X-TITLE=1098 3rd Street:geo:-80.3112194,40.6930069
END:VEVENT
BEGIN:VEVENT
DTSTART;TZID=America/New_York:20240911T190000
DTEND;TZID=America/New_York:20240911T203000
DTSTAMP:20260424T105715
CREATED:20240829T220422Z
LAST-MODIFIED:20240829T220422Z
UID:10023148-1726081200-1726086600@www.bblutheran.com
SUMMARY:Holy Trinity Council Meeting
DESCRIPTION:
URL:https://www.bblutheran.com/event/holy-trinity-council-meeting-8/
LOCATION:Holy Trinity Church\, 1098 3rd Street\, Beaver\, PA\, 15009\, United States
GEO:40.6930069;-80.3112194
X-APPLE-STRUCTURED-LOCATION;VALUE=URI;X-ADDRESS=Holy Trinity Church 1098 3rd Street Beaver PA 15009 United States;X-APPLE-RADIUS=500;X-TITLE=1098 3rd Street:geo:-80.3112194,40.6930069
END:VEVENT
BEGIN:VEVENT
DTSTART;TZID=America/New_York:20240909T110000
DTEND;TZID=America/New_York:20240909T130000
DTSTAMP:20260424T105715
CREATED:20240829T215128Z
LAST-MODIFIED:20240829T215128Z
UID:10023137-1725879600-1725886800@www.bblutheran.com
SUMMARY:Bible Study at Holy Trinity
DESCRIPTION:
URL:https://www.bblutheran.com/event/bible-study-at-holy-trinity-4/
LOCATION:Holy Trinity Church\, 1098 3rd Street\, Beaver\, PA\, 15009\, United States
GEO:40.6930069;-80.3112194
X-APPLE-STRUCTURED-LOCATION;VALUE=URI;X-ADDRESS=Holy Trinity Church 1098 3rd Street Beaver PA 15009 United States;X-APPLE-RADIUS=500;X-TITLE=1098 3rd Street:geo:-80.3112194,40.6930069
END:VEVENT
BEGIN:VEVENT
DTSTART;TZID=America/New_York:20240909T080000
DTEND;TZID=America/New_York:20240909T170000
DTSTAMP:20260424T105715
CREATED:20240829T220104Z
LAST-MODIFIED:20240829T220104Z
UID:10023145-1725868800-1725901200@www.bblutheran.com
SUMMARY:Cornerstone Men's Shelter Dinner delivery Holy Trinity
DESCRIPTION:
URL:https://www.bblutheran.com/event/cornerstone-mens-shelter-dinner-delivery-holy-trinity/
LOCATION:Holy Trinity Church\, 1098 3rd Street\, Beaver\, PA\, 15009\, United States
GEO:40.6930069;-80.3112194
X-APPLE-STRUCTURED-LOCATION;VALUE=URI;X-ADDRESS=Holy Trinity Church 1098 3rd Street Beaver PA 15009 United States;X-APPLE-RADIUS=500;X-TITLE=1098 3rd Street:geo:-80.3112194,40.6930069
END:VEVENT
BEGIN:VEVENT
DTSTART;TZID=UTC:20240908T091500
DTEND;TZID=UTC:20240908T101500
DTSTAMP:20260424T105715
CREATED:20230201T202448Z
LAST-MODIFIED:20230201T202448Z
UID:10000228-1725786900-1725790500@www.bblutheran.com
SUMMARY:Worship at Holy Trinity @ 9:15 a.m.
DESCRIPTION:
URL:https://www.bblutheran.com/event/worship-at-holy-trinity-915-a-m/2024-09-08/
LOCATION:Holy Trinity Church\, 1098 3rd Street\, Beaver\, PA\, 15009\, United States
GEO:40.6930069;-80.3112194
X-APPLE-STRUCTURED-LOCATION;VALUE=URI;X-ADDRESS=Holy Trinity Church 1098 3rd Street Beaver PA 15009 United States;X-APPLE-RADIUS=500;X-TITLE=1098 3rd Street:geo:-80.3112194,40.6930069
END:VEVENT
BEGIN:VEVENT
DTSTART;TZID=America/New_York:20240908T083000
DTEND;TZID=America/New_York:20240908T090000
DTSTAMP:20260424T105715
CREATED:20240829T220234Z
LAST-MODIFIED:20240829T220234Z
UID:10023146-1725784200-1725786000@www.bblutheran.com
SUMMARY:Choir Rehearsal at Holy Trinity
DESCRIPTION:
URL:https://www.bblutheran.com/event/choir-rehearsal-at-holy-trinity/
LOCATION:Holy Trinity Church\, 1098 3rd Street\, Beaver\, PA\, 15009\, United States
GEO:40.6930069;-80.3112194
X-APPLE-STRUCTURED-LOCATION;VALUE=URI;X-ADDRESS=Holy Trinity Church 1098 3rd Street Beaver PA 15009 United States;X-APPLE-RADIUS=500;X-TITLE=1098 3rd Street:geo:-80.3112194,40.6930069
END:VEVENT
BEGIN:VEVENT
DTSTART;TZID=UTC:20240901T091500
DTEND;TZID=UTC:20240901T101500
DTSTAMP:20260424T105715
CREATED:20230201T202448Z
LAST-MODIFIED:20230201T202448Z
UID:10000227-1725182100-1725185700@www.bblutheran.com
SUMMARY:Worship at Holy Trinity @ 9:15 a.m.
DESCRIPTION:
URL:https://www.bblutheran.com/event/worship-at-holy-trinity-915-a-m/2024-09-01/
LOCATION:Holy Trinity Church\, 1098 3rd Street\, Beaver\, PA\, 15009\, United States
GEO:40.6930069;-80.3112194
X-APPLE-STRUCTURED-LOCATION;VALUE=URI;X-ADDRESS=Holy Trinity Church 1098 3rd Street Beaver PA 15009 United States;X-APPLE-RADIUS=500;X-TITLE=1098 3rd Street:geo:-80.3112194,40.6930069
END:VEVENT
BEGIN:VEVENT
DTSTART;TZID=UTC:20240825T091500
DTEND;TZID=UTC:20240825T101500
DTSTAMP:20260424T105715
CREATED:20230201T202448Z
LAST-MODIFIED:20230201T202448Z
UID:10000226-1724577300-1724580900@www.bblutheran.com
SUMMARY:Worship at Holy Trinity @ 9:15 a.m.
DESCRIPTION:
URL:https://www.bblutheran.com/event/worship-at-holy-trinity-915-a-m/2024-08-25/
LOCATION:Holy Trinity Church\, 1098 3rd Street\, Beaver\, PA\, 15009\, United States
GEO:40.6930069;-80.3112194
X-APPLE-STRUCTURED-LOCATION;VALUE=URI;X-ADDRESS=Holy Trinity Church 1098 3rd Street Beaver PA 15009 United States;X-APPLE-RADIUS=500;X-TITLE=1098 3rd Street:geo:-80.3112194,40.6930069
END:VEVENT
BEGIN:VEVENT
DTSTART;TZID=UTC:20240818T091500
DTEND;TZID=UTC:20240818T101500
DTSTAMP:20260424T105715
CREATED:20230201T202448Z
LAST-MODIFIED:20230201T202448Z
UID:10000225-1723972500-1723976100@www.bblutheran.com
SUMMARY:Worship at Holy Trinity @ 9:15 a.m.
DESCRIPTION:
URL:https://www.bblutheran.com/event/worship-at-holy-trinity-915-a-m/2024-08-18/
LOCATION:Holy Trinity Church\, 1098 3rd Street\, Beaver\, PA\, 15009\, United States
GEO:40.6930069;-80.3112194
X-APPLE-STRUCTURED-LOCATION;VALUE=URI;X-ADDRESS=Holy Trinity Church 1098 3rd Street Beaver PA 15009 United States;X-APPLE-RADIUS=500;X-TITLE=1098 3rd Street:geo:-80.3112194,40.6930069
END:VEVENT
BEGIN:VEVENT
DTSTART;TZID=UTC:20240811T091500
DTEND;TZID=UTC:20240811T101500
DTSTAMP:20260424T105715
CREATED:20230201T202448Z
LAST-MODIFIED:20230201T202448Z
UID:10000224-1723367700-1723371300@www.bblutheran.com
SUMMARY:Worship at Holy Trinity @ 9:15 a.m.
DESCRIPTION:
URL:https://www.bblutheran.com/event/worship-at-holy-trinity-915-a-m/2024-08-11/
LOCATION:Holy Trinity Church\, 1098 3rd Street\, Beaver\, PA\, 15009\, United States
GEO:40.6930069;-80.3112194
X-APPLE-STRUCTURED-LOCATION;VALUE=URI;X-ADDRESS=Holy Trinity Church 1098 3rd Street Beaver PA 15009 United States;X-APPLE-RADIUS=500;X-TITLE=1098 3rd Street:geo:-80.3112194,40.6930069
END:VEVENT
BEGIN:VEVENT
DTSTART;TZID=UTC:20240804T091500
DTEND;TZID=UTC:20240804T101500
DTSTAMP:20260424T105715
CREATED:20230201T202448Z
LAST-MODIFIED:20230201T202448Z
UID:10000223-1722762900-1722766500@www.bblutheran.com
SUMMARY:Worship at Holy Trinity @ 9:15 a.m.
DESCRIPTION:
URL:https://www.bblutheran.com/event/worship-at-holy-trinity-915-a-m/2024-08-04/
LOCATION:Holy Trinity Church\, 1098 3rd Street\, Beaver\, PA\, 15009\, United States
GEO:40.6930069;-80.3112194
X-APPLE-STRUCTURED-LOCATION;VALUE=URI;X-ADDRESS=Holy Trinity Church 1098 3rd Street Beaver PA 15009 United States;X-APPLE-RADIUS=500;X-TITLE=1098 3rd Street:geo:-80.3112194,40.6930069
END:VEVENT
BEGIN:VEVENT
DTSTART;TZID=UTC:20240728T091500
DTEND;TZID=UTC:20240728T101500
DTSTAMP:20260424T105715
CREATED:20230201T202448Z
LAST-MODIFIED:20230201T202448Z
UID:10000222-1722158100-1722161700@www.bblutheran.com
SUMMARY:Worship at Holy Trinity @ 9:15 a.m.
DESCRIPTION:
URL:https://www.bblutheran.com/event/worship-at-holy-trinity-915-a-m/2024-07-28/
LOCATION:Holy Trinity Church\, 1098 3rd Street\, Beaver\, PA\, 15009\, United States
GEO:40.6930069;-80.3112194
X-APPLE-STRUCTURED-LOCATION;VALUE=URI;X-ADDRESS=Holy Trinity Church 1098 3rd Street Beaver PA 15009 United States;X-APPLE-RADIUS=500;X-TITLE=1098 3rd Street:geo:-80.3112194,40.6930069
END:VEVENT
BEGIN:VEVENT
DTSTART;TZID=America/New_York:20240724T183000
DTEND;TZID=America/New_York:20240724T203000
DTSTAMP:20260424T105715
CREATED:20240702T151342Z
LAST-MODIFIED:20240702T151342Z
UID:10020614-1721845800-1721853000@www.bblutheran.com
SUMMARY:Ice Cream Social at Holy Trinity
DESCRIPTION:
URL:https://www.bblutheran.com/event/ice-cream-social-at-holy-trinity/
LOCATION:Holy Trinity Church\, 1098 3rd Street\, Beaver\, PA\, 15009\, United States
GEO:40.6930069;-80.3112194
X-APPLE-STRUCTURED-LOCATION;VALUE=URI;X-ADDRESS=Holy Trinity Church 1098 3rd Street Beaver PA 15009 United States;X-APPLE-RADIUS=500;X-TITLE=1098 3rd Street:geo:-80.3112194,40.6930069
END:VEVENT
BEGIN:VEVENT
DTSTART;TZID=UTC:20240721T091500
DTEND;TZID=UTC:20240721T101500
DTSTAMP:20260424T105715
CREATED:20230201T202448Z
LAST-MODIFIED:20230201T202448Z
UID:10000221-1721553300-1721556900@www.bblutheran.com
SUMMARY:Worship at Holy Trinity @ 9:15 a.m.
DESCRIPTION:
URL:https://www.bblutheran.com/event/worship-at-holy-trinity-915-a-m/2024-07-21/
LOCATION:Holy Trinity Church\, 1098 3rd Street\, Beaver\, PA\, 15009\, United States
GEO:40.6930069;-80.3112194
X-APPLE-STRUCTURED-LOCATION;VALUE=URI;X-ADDRESS=Holy Trinity Church 1098 3rd Street Beaver PA 15009 United States;X-APPLE-RADIUS=500;X-TITLE=1098 3rd Street:geo:-80.3112194,40.6930069
END:VEVENT
BEGIN:VEVENT
DTSTART;TZID=America/New_York:20240717T190000
DTEND;TZID=America/New_York:20240717T203000
DTSTAMP:20260424T105715
CREATED:20240702T151258Z
LAST-MODIFIED:20240702T151258Z
UID:10020613-1721242800-1721248200@www.bblutheran.com
SUMMARY:Holy Trinity Council Meeting
DESCRIPTION:
URL:https://www.bblutheran.com/event/holy-trinity-council-meeting-7/
LOCATION:Holy Trinity Church\, 1098 3rd Street\, Beaver\, PA\, 15009\, United States
GEO:40.6930069;-80.3112194
X-APPLE-STRUCTURED-LOCATION;VALUE=URI;X-ADDRESS=Holy Trinity Church 1098 3rd Street Beaver PA 15009 United States;X-APPLE-RADIUS=500;X-TITLE=1098 3rd Street:geo:-80.3112194,40.6930069
END:VEVENT
BEGIN:VEVENT
DTSTART;TZID=America/New_York:20240715T190000
DTEND;TZID=America/New_York:20240715T210000
DTSTAMP:20260424T105715
CREATED:20240702T151210Z
LAST-MODIFIED:20240702T151210Z
UID:10020612-1721070000-1721077200@www.bblutheran.com
SUMMARY:Vital Congregational Meeting at Holy Trinity
DESCRIPTION:
URL:https://www.bblutheran.com/event/vital-congregational-meeting-at-holy-trinity/
LOCATION:Holy Trinity Church\, 1098 3rd Street\, Beaver\, PA\, 15009\, United States
GEO:40.6930069;-80.3112194
X-APPLE-STRUCTURED-LOCATION;VALUE=URI;X-ADDRESS=Holy Trinity Church 1098 3rd Street Beaver PA 15009 United States;X-APPLE-RADIUS=500;X-TITLE=1098 3rd Street:geo:-80.3112194,40.6930069
END:VEVENT
BEGIN:VEVENT
DTSTART;TZID=UTC:20240714T091500
DTEND;TZID=UTC:20240714T101500
DTSTAMP:20260424T105715
CREATED:20230201T202448Z
LAST-MODIFIED:20230201T202448Z
UID:10000220-1720948500-1720952100@www.bblutheran.com
SUMMARY:Worship at Holy Trinity @ 9:15 a.m.
DESCRIPTION:
URL:https://www.bblutheran.com/event/worship-at-holy-trinity-915-a-m/2024-07-14/
LOCATION:Holy Trinity Church\, 1098 3rd Street\, Beaver\, PA\, 15009\, United States
GEO:40.6930069;-80.3112194
X-APPLE-STRUCTURED-LOCATION;VALUE=URI;X-ADDRESS=Holy Trinity Church 1098 3rd Street Beaver PA 15009 United States;X-APPLE-RADIUS=500;X-TITLE=1098 3rd Street:geo:-80.3112194,40.6930069
END:VEVENT
BEGIN:VEVENT
DTSTART;TZID=America/New_York:20240711T090000
DTEND;TZID=America/New_York:20240711T113000
DTSTAMP:20260424T105715
CREATED:20240502T155713Z
LAST-MODIFIED:20240530T155522Z
UID:10017774-1720688400-1720697400@www.bblutheran.com
SUMMARY:Vacation Bible School
DESCRIPTION:At Holy Trinity \, this year’s Theme is “Weird Animals”
URL:https://www.bblutheran.com/event/vacation-bible-school-8/
LOCATION:Holy Trinity Church\, 1098 3rd Street\, Beaver\, PA\, 15009\, United States
GEO:40.6930069;-80.3112194
X-APPLE-STRUCTURED-LOCATION;VALUE=URI;X-ADDRESS=Holy Trinity Church 1098 3rd Street Beaver PA 15009 United States;X-APPLE-RADIUS=500;X-TITLE=1098 3rd Street:geo:-80.3112194,40.6930069
END:VEVENT
BEGIN:VEVENT
DTSTART;TZID=America/New_York:20240708T090000
DTEND;TZID=America/New_York:20240708T113000
DTSTAMP:20260424T105715
CREATED:20240502T155633Z
LAST-MODIFIED:20240530T155611Z
UID:10017773-1720429200-1720438200@www.bblutheran.com
SUMMARY:Vacation Bible School
DESCRIPTION:At Holy Trinity \, this year’s Theme is “Weird Animals”
URL:https://www.bblutheran.com/event/vacation-bible-school-7/
LOCATION:Holy Trinity Church\, 1098 3rd Street\, Beaver\, PA\, 15009\, United States
GEO:40.6930069;-80.3112194
X-APPLE-STRUCTURED-LOCATION;VALUE=URI;X-ADDRESS=Holy Trinity Church 1098 3rd Street Beaver PA 15009 United States;X-APPLE-RADIUS=500;X-TITLE=1098 3rd Street:geo:-80.3112194,40.6930069
END:VEVENT
BEGIN:VEVENT
DTSTART;TZID=America/New_York:20240708T080000
DTEND;TZID=America/New_York:20240708T170000
DTSTAMP:20260424T105715
CREATED:20240702T150848Z
LAST-MODIFIED:20240702T150848Z
UID:10020608-1720425600-1720458000@www.bblutheran.com
SUMMARY:Men's Shelter Meal Delivery - Holy Trinity
DESCRIPTION:
URL:https://www.bblutheran.com/event/mens-shelter-meal-delivery-holy-trinity/
LOCATION:Holy Trinity Church\, 1098 3rd Street\, Beaver\, PA\, 15009\, United States
GEO:40.6930069;-80.3112194
X-APPLE-STRUCTURED-LOCATION;VALUE=URI;X-ADDRESS=Holy Trinity Church 1098 3rd Street Beaver PA 15009 United States;X-APPLE-RADIUS=500;X-TITLE=1098 3rd Street:geo:-80.3112194,40.6930069
END:VEVENT
BEGIN:VEVENT
DTSTART;TZID=UTC:20240707T091500
DTEND;TZID=UTC:20240707T101500
DTSTAMP:20260424T105715
CREATED:20230201T202448Z
LAST-MODIFIED:20230201T202448Z
UID:10000219-1720343700-1720347300@www.bblutheran.com
SUMMARY:Worship at Holy Trinity @ 9:15 a.m.
DESCRIPTION:
URL:https://www.bblutheran.com/event/worship-at-holy-trinity-915-a-m/2024-07-07/
LOCATION:Holy Trinity Church\, 1098 3rd Street\, Beaver\, PA\, 15009\, United States
GEO:40.6930069;-80.3112194
X-APPLE-STRUCTURED-LOCATION;VALUE=URI;X-ADDRESS=Holy Trinity Church 1098 3rd Street Beaver PA 15009 United States;X-APPLE-RADIUS=500;X-TITLE=1098 3rd Street:geo:-80.3112194,40.6930069
END:VEVENT
BEGIN:VEVENT
DTSTART;TZID=UTC:20240630T091500
DTEND;TZID=UTC:20240630T101500
DTSTAMP:20260424T105715
CREATED:20230201T202448Z
LAST-MODIFIED:20230201T202448Z
UID:10000218-1719738900-1719742500@www.bblutheran.com
SUMMARY:Worship at Holy Trinity @ 9:15 a.m.
DESCRIPTION:
URL:https://www.bblutheran.com/event/worship-at-holy-trinity-915-a-m/2024-06-30/
LOCATION:Holy Trinity Church\, 1098 3rd Street\, Beaver\, PA\, 15009\, United States
GEO:40.6930069;-80.3112194
X-APPLE-STRUCTURED-LOCATION;VALUE=URI;X-ADDRESS=Holy Trinity Church 1098 3rd Street Beaver PA 15009 United States;X-APPLE-RADIUS=500;X-TITLE=1098 3rd Street:geo:-80.3112194,40.6930069
END:VEVENT
BEGIN:VEVENT
DTSTART;TZID=America/New_York:20240627T090000
DTEND;TZID=America/New_York:20240627T113000
DTSTAMP:20260424T105715
CREATED:20240502T155545Z
LAST-MODIFIED:20240530T155656Z
UID:10017772-1719478800-1719487800@www.bblutheran.com
SUMMARY:Vacation Bible School
DESCRIPTION:At Holy Trinity \, this year’s Theme is “Weird Animals”
URL:https://www.bblutheran.com/event/vacation-bible-school-6/
LOCATION:Holy Trinity Church\, 1098 3rd Street\, Beaver\, PA\, 15009\, United States
GEO:40.6930069;-80.3112194
X-APPLE-STRUCTURED-LOCATION;VALUE=URI;X-ADDRESS=Holy Trinity Church 1098 3rd Street Beaver PA 15009 United States;X-APPLE-RADIUS=500;X-TITLE=1098 3rd Street:geo:-80.3112194,40.6930069
END:VEVENT
BEGIN:VEVENT
DTSTART;TZID=America/New_York:20240624T090000
DTEND;TZID=America/New_York:20240624T113000
DTSTAMP:20260424T105715
CREATED:20240502T155509Z
LAST-MODIFIED:20240530T155747Z
UID:10017771-1719219600-1719228600@www.bblutheran.com
SUMMARY:Vacation Bible School
DESCRIPTION:At Holy Trinity \, this year’s Theme is “Weird Animals”
URL:https://www.bblutheran.com/event/vacation-bible-school-5/
LOCATION:Holy Trinity Church\, 1098 3rd Street\, Beaver\, PA\, 15009\, United States
GEO:40.6930069;-80.3112194
X-APPLE-STRUCTURED-LOCATION;VALUE=URI;X-ADDRESS=Holy Trinity Church 1098 3rd Street Beaver PA 15009 United States;X-APPLE-RADIUS=500;X-TITLE=1098 3rd Street:geo:-80.3112194,40.6930069
END:VEVENT
BEGIN:VEVENT
DTSTART;TZID=UTC:20240623T091500
DTEND;TZID=UTC:20240623T101500
DTSTAMP:20260424T105715
CREATED:20230201T202448Z
LAST-MODIFIED:20230201T202448Z
UID:10000217-1719134100-1719137700@www.bblutheran.com
SUMMARY:Worship at Holy Trinity @ 9:15 a.m.
DESCRIPTION:
URL:https://www.bblutheran.com/event/worship-at-holy-trinity-915-a-m/2024-06-23/
LOCATION:Holy Trinity Church\, 1098 3rd Street\, Beaver\, PA\, 15009\, United States
GEO:40.6930069;-80.3112194
X-APPLE-STRUCTURED-LOCATION;VALUE=URI;X-ADDRESS=Holy Trinity Church 1098 3rd Street Beaver PA 15009 United States;X-APPLE-RADIUS=500;X-TITLE=1098 3rd Street:geo:-80.3112194,40.6930069
END:VEVENT
BEGIN:VEVENT
DTSTART;TZID=America/New_York:20240620T090000
DTEND;TZID=America/New_York:20240620T113000
DTSTAMP:20260424T105715
CREATED:20240502T155429Z
LAST-MODIFIED:20240530T155822Z
UID:10017770-1718874000-1718883000@www.bblutheran.com
SUMMARY:Vacation Bible School
DESCRIPTION:At Holy Trinity \, this year’s Theme is “Weird Animals”
URL:https://www.bblutheran.com/event/vacation-bible-school-4/
LOCATION:Holy Trinity Church\, 1098 3rd Street\, Beaver\, PA\, 15009\, United States
GEO:40.6930069;-80.3112194
X-APPLE-STRUCTURED-LOCATION;VALUE=URI;X-ADDRESS=Holy Trinity Church 1098 3rd Street Beaver PA 15009 United States;X-APPLE-RADIUS=500;X-TITLE=1098 3rd Street:geo:-80.3112194,40.6930069
END:VEVENT
BEGIN:VEVENT
DTSTART;TZID=America/New_York:20240617T190000
DTEND;TZID=America/New_York:20240617T203000
DTSTAMP:20260424T105715
CREATED:20240502T151357Z
LAST-MODIFIED:20240502T151357Z
UID:10017764-1718650800-1718656200@www.bblutheran.com
SUMMARY:Holy Trinity Council Meeting
DESCRIPTION:
URL:https://www.bblutheran.com/event/holy-trinity-council-meeting-6/
LOCATION:Holy Trinity Church\, 1098 3rd Street\, Beaver\, PA\, 15009\, United States
GEO:40.6930069;-80.3112194
X-APPLE-STRUCTURED-LOCATION;VALUE=URI;X-ADDRESS=Holy Trinity Church 1098 3rd Street Beaver PA 15009 United States;X-APPLE-RADIUS=500;X-TITLE=1098 3rd Street:geo:-80.3112194,40.6930069
END:VEVENT
END:VCALENDAR