BEGIN:VCALENDAR
VERSION:2.0
PRODID:-// - ECPv6.3.3.1//NONSGML v1.0//EN
CALSCALE:GREGORIAN
METHOD:PUBLISH
X-ORIGINAL-URL:https://www.bblutheran.com
X-WR-CALDESC:Events for 
REFRESH-INTERVAL;VALUE=DURATION:PT1H
X-Robots-Tag:noindex
X-PUBLISHED-TTL:PT1H
BEGIN:VTIMEZONE
TZID:America/New_York
BEGIN:DAYLIGHT
TZOFFSETFROM:-0500
TZOFFSETTO:-0400
TZNAME:EDT
DTSTART:20290311T070000
END:DAYLIGHT
BEGIN:STANDARD
TZOFFSETFROM:-0400
TZOFFSETTO:-0500
TZNAME:EST
DTSTART:20291104T060000
END:STANDARD
BEGIN:DAYLIGHT
TZOFFSETFROM:-0500
TZOFFSETTO:-0400
TZNAME:EDT
DTSTART:20300310T070000
END:DAYLIGHT
BEGIN:STANDARD
TZOFFSETFROM:-0400
TZOFFSETTO:-0500
TZNAME:EST
DTSTART:20301103T060000
END:STANDARD
END:VTIMEZONE
BEGIN:VEVENT
DTSTART;TZID=America/New_York:20290722T091500
DTEND;TZID=America/New_York:20290722T101500
DTSTAMP:20260422T025502
CREATED:20250613T002622Z
LAST-MODIFIED:20250613T002622Z
UID:10036365-1879406100-1879409700@www.bblutheran.com
SUMMARY:Holy Trinity Worship 9:15 a.m.
DESCRIPTION:
URL:https://www.bblutheran.com/event/holy-trinity-worship-915-a-m/2029-07-22/
LOCATION:Holy Trinity Church\, 1098 3rd Street\, Beaver\, PA\, 15009\, United States
GEO:40.6930069;-80.3112194
X-APPLE-STRUCTURED-LOCATION;VALUE=URI;X-ADDRESS=Holy Trinity Church 1098 3rd Street Beaver PA 15009 United States;X-APPLE-RADIUS=500;X-TITLE=1098 3rd Street:geo:-80.3112194,40.6930069
END:VEVENT
BEGIN:VEVENT
DTSTART;TZID=America/New_York:20290729T091500
DTEND;TZID=America/New_York:20290729T101500
DTSTAMP:20260422T025502
CREATED:20250613T002622Z
LAST-MODIFIED:20250613T002622Z
UID:10036366-1880010900-1880014500@www.bblutheran.com
SUMMARY:Holy Trinity Worship 9:15 a.m.
DESCRIPTION:
URL:https://www.bblutheran.com/event/holy-trinity-worship-915-a-m/2029-07-29/
LOCATION:Holy Trinity Church\, 1098 3rd Street\, Beaver\, PA\, 15009\, United States
GEO:40.6930069;-80.3112194
X-APPLE-STRUCTURED-LOCATION;VALUE=URI;X-ADDRESS=Holy Trinity Church 1098 3rd Street Beaver PA 15009 United States;X-APPLE-RADIUS=500;X-TITLE=1098 3rd Street:geo:-80.3112194,40.6930069
END:VEVENT
BEGIN:VEVENT
DTSTART;TZID=America/New_York:20290805T091500
DTEND;TZID=America/New_York:20290805T101500
DTSTAMP:20260422T025502
CREATED:20250613T002622Z
LAST-MODIFIED:20250613T002622Z
UID:10036367-1880615700-1880619300@www.bblutheran.com
SUMMARY:Holy Trinity Worship 9:15 a.m.
DESCRIPTION:
URL:https://www.bblutheran.com/event/holy-trinity-worship-915-a-m/2029-08-05/
LOCATION:Holy Trinity Church\, 1098 3rd Street\, Beaver\, PA\, 15009\, United States
GEO:40.6930069;-80.3112194
X-APPLE-STRUCTURED-LOCATION;VALUE=URI;X-ADDRESS=Holy Trinity Church 1098 3rd Street Beaver PA 15009 United States;X-APPLE-RADIUS=500;X-TITLE=1098 3rd Street:geo:-80.3112194,40.6930069
END:VEVENT
BEGIN:VEVENT
DTSTART;TZID=America/New_York:20290812T091500
DTEND;TZID=America/New_York:20290812T101500
DTSTAMP:20260422T025502
CREATED:20250613T002622Z
LAST-MODIFIED:20250613T002622Z
UID:10036368-1881220500-1881224100@www.bblutheran.com
SUMMARY:Holy Trinity Worship 9:15 a.m.
DESCRIPTION:
URL:https://www.bblutheran.com/event/holy-trinity-worship-915-a-m/2029-08-12/
LOCATION:Holy Trinity Church\, 1098 3rd Street\, Beaver\, PA\, 15009\, United States
GEO:40.6930069;-80.3112194
X-APPLE-STRUCTURED-LOCATION;VALUE=URI;X-ADDRESS=Holy Trinity Church 1098 3rd Street Beaver PA 15009 United States;X-APPLE-RADIUS=500;X-TITLE=1098 3rd Street:geo:-80.3112194,40.6930069
END:VEVENT
BEGIN:VEVENT
DTSTART;TZID=America/New_York:20290819T091500
DTEND;TZID=America/New_York:20290819T101500
DTSTAMP:20260422T025502
CREATED:20250613T002622Z
LAST-MODIFIED:20250613T002622Z
UID:10036369-1881825300-1881828900@www.bblutheran.com
SUMMARY:Holy Trinity Worship 9:15 a.m.
DESCRIPTION:
URL:https://www.bblutheran.com/event/holy-trinity-worship-915-a-m/2029-08-19/
LOCATION:Holy Trinity Church\, 1098 3rd Street\, Beaver\, PA\, 15009\, United States
GEO:40.6930069;-80.3112194
X-APPLE-STRUCTURED-LOCATION;VALUE=URI;X-ADDRESS=Holy Trinity Church 1098 3rd Street Beaver PA 15009 United States;X-APPLE-RADIUS=500;X-TITLE=1098 3rd Street:geo:-80.3112194,40.6930069
END:VEVENT
BEGIN:VEVENT
DTSTART;TZID=America/New_York:20290826T091500
DTEND;TZID=America/New_York:20290826T101500
DTSTAMP:20260422T025502
CREATED:20250613T002622Z
LAST-MODIFIED:20250613T002622Z
UID:10036370-1882430100-1882433700@www.bblutheran.com
SUMMARY:Holy Trinity Worship 9:15 a.m.
DESCRIPTION:
URL:https://www.bblutheran.com/event/holy-trinity-worship-915-a-m/2029-08-26/
LOCATION:Holy Trinity Church\, 1098 3rd Street\, Beaver\, PA\, 15009\, United States
GEO:40.6930069;-80.3112194
X-APPLE-STRUCTURED-LOCATION;VALUE=URI;X-ADDRESS=Holy Trinity Church 1098 3rd Street Beaver PA 15009 United States;X-APPLE-RADIUS=500;X-TITLE=1098 3rd Street:geo:-80.3112194,40.6930069
END:VEVENT
BEGIN:VEVENT
DTSTART;TZID=America/New_York:20290902T091500
DTEND;TZID=America/New_York:20290902T101500
DTSTAMP:20260422T025502
CREATED:20250613T002622Z
LAST-MODIFIED:20250613T002622Z
UID:10036371-1883034900-1883038500@www.bblutheran.com
SUMMARY:Holy Trinity Worship 9:15 a.m.
DESCRIPTION:
URL:https://www.bblutheran.com/event/holy-trinity-worship-915-a-m/2029-09-02/
LOCATION:Holy Trinity Church\, 1098 3rd Street\, Beaver\, PA\, 15009\, United States
GEO:40.6930069;-80.3112194
X-APPLE-STRUCTURED-LOCATION;VALUE=URI;X-ADDRESS=Holy Trinity Church 1098 3rd Street Beaver PA 15009 United States;X-APPLE-RADIUS=500;X-TITLE=1098 3rd Street:geo:-80.3112194,40.6930069
END:VEVENT
BEGIN:VEVENT
DTSTART;TZID=America/New_York:20290909T091500
DTEND;TZID=America/New_York:20290909T101500
DTSTAMP:20260422T025502
CREATED:20250613T002622Z
LAST-MODIFIED:20250613T002622Z
UID:10036372-1883639700-1883643300@www.bblutheran.com
SUMMARY:Holy Trinity Worship 9:15 a.m.
DESCRIPTION:
URL:https://www.bblutheran.com/event/holy-trinity-worship-915-a-m/2029-09-09/
LOCATION:Holy Trinity Church\, 1098 3rd Street\, Beaver\, PA\, 15009\, United States
GEO:40.6930069;-80.3112194
X-APPLE-STRUCTURED-LOCATION;VALUE=URI;X-ADDRESS=Holy Trinity Church 1098 3rd Street Beaver PA 15009 United States;X-APPLE-RADIUS=500;X-TITLE=1098 3rd Street:geo:-80.3112194,40.6930069
END:VEVENT
BEGIN:VEVENT
DTSTART;TZID=America/New_York:20290916T091500
DTEND;TZID=America/New_York:20290916T101500
DTSTAMP:20260422T025502
CREATED:20250613T002622Z
LAST-MODIFIED:20250613T002622Z
UID:10036373-1884244500-1884248100@www.bblutheran.com
SUMMARY:Holy Trinity Worship 9:15 a.m.
DESCRIPTION:
URL:https://www.bblutheran.com/event/holy-trinity-worship-915-a-m/2029-09-16/
LOCATION:Holy Trinity Church\, 1098 3rd Street\, Beaver\, PA\, 15009\, United States
GEO:40.6930069;-80.3112194
X-APPLE-STRUCTURED-LOCATION;VALUE=URI;X-ADDRESS=Holy Trinity Church 1098 3rd Street Beaver PA 15009 United States;X-APPLE-RADIUS=500;X-TITLE=1098 3rd Street:geo:-80.3112194,40.6930069
END:VEVENT
BEGIN:VEVENT
DTSTART;TZID=America/New_York:20290923T091500
DTEND;TZID=America/New_York:20290923T101500
DTSTAMP:20260422T025502
CREATED:20250613T002622Z
LAST-MODIFIED:20250613T002622Z
UID:10036374-1884849300-1884852900@www.bblutheran.com
SUMMARY:Holy Trinity Worship 9:15 a.m.
DESCRIPTION:
URL:https://www.bblutheran.com/event/holy-trinity-worship-915-a-m/2029-09-23/
LOCATION:Holy Trinity Church\, 1098 3rd Street\, Beaver\, PA\, 15009\, United States
GEO:40.6930069;-80.3112194
X-APPLE-STRUCTURED-LOCATION;VALUE=URI;X-ADDRESS=Holy Trinity Church 1098 3rd Street Beaver PA 15009 United States;X-APPLE-RADIUS=500;X-TITLE=1098 3rd Street:geo:-80.3112194,40.6930069
END:VEVENT
BEGIN:VEVENT
DTSTART;TZID=America/New_York:20290930T091500
DTEND;TZID=America/New_York:20290930T101500
DTSTAMP:20260422T025502
CREATED:20250613T002622Z
LAST-MODIFIED:20250613T002622Z
UID:10036375-1885454100-1885457700@www.bblutheran.com
SUMMARY:Holy Trinity Worship 9:15 a.m.
DESCRIPTION:
URL:https://www.bblutheran.com/event/holy-trinity-worship-915-a-m/2029-09-30/
LOCATION:Holy Trinity Church\, 1098 3rd Street\, Beaver\, PA\, 15009\, United States
GEO:40.6930069;-80.3112194
X-APPLE-STRUCTURED-LOCATION;VALUE=URI;X-ADDRESS=Holy Trinity Church 1098 3rd Street Beaver PA 15009 United States;X-APPLE-RADIUS=500;X-TITLE=1098 3rd Street:geo:-80.3112194,40.6930069
END:VEVENT
BEGIN:VEVENT
DTSTART;TZID=America/New_York:20291007T091500
DTEND;TZID=America/New_York:20291007T101500
DTSTAMP:20260422T025502
CREATED:20250613T002622Z
LAST-MODIFIED:20250613T002622Z
UID:10036376-1886058900-1886062500@www.bblutheran.com
SUMMARY:Holy Trinity Worship 9:15 a.m.
DESCRIPTION:
URL:https://www.bblutheran.com/event/holy-trinity-worship-915-a-m/2029-10-07/
LOCATION:Holy Trinity Church\, 1098 3rd Street\, Beaver\, PA\, 15009\, United States
GEO:40.6930069;-80.3112194
X-APPLE-STRUCTURED-LOCATION;VALUE=URI;X-ADDRESS=Holy Trinity Church 1098 3rd Street Beaver PA 15009 United States;X-APPLE-RADIUS=500;X-TITLE=1098 3rd Street:geo:-80.3112194,40.6930069
END:VEVENT
BEGIN:VEVENT
DTSTART;TZID=America/New_York:20291014T091500
DTEND;TZID=America/New_York:20291014T101500
DTSTAMP:20260422T025502
CREATED:20250613T002622Z
LAST-MODIFIED:20250613T002622Z
UID:10036377-1886663700-1886667300@www.bblutheran.com
SUMMARY:Holy Trinity Worship 9:15 a.m.
DESCRIPTION:
URL:https://www.bblutheran.com/event/holy-trinity-worship-915-a-m/2029-10-14/
LOCATION:Holy Trinity Church\, 1098 3rd Street\, Beaver\, PA\, 15009\, United States
GEO:40.6930069;-80.3112194
X-APPLE-STRUCTURED-LOCATION;VALUE=URI;X-ADDRESS=Holy Trinity Church 1098 3rd Street Beaver PA 15009 United States;X-APPLE-RADIUS=500;X-TITLE=1098 3rd Street:geo:-80.3112194,40.6930069
END:VEVENT
BEGIN:VEVENT
DTSTART;TZID=America/New_York:20291021T091500
DTEND;TZID=America/New_York:20291021T101500
DTSTAMP:20260422T025502
CREATED:20250613T002622Z
LAST-MODIFIED:20250613T002622Z
UID:10036378-1887268500-1887272100@www.bblutheran.com
SUMMARY:Holy Trinity Worship 9:15 a.m.
DESCRIPTION:
URL:https://www.bblutheran.com/event/holy-trinity-worship-915-a-m/2029-10-21/
LOCATION:Holy Trinity Church\, 1098 3rd Street\, Beaver\, PA\, 15009\, United States
GEO:40.6930069;-80.3112194
X-APPLE-STRUCTURED-LOCATION;VALUE=URI;X-ADDRESS=Holy Trinity Church 1098 3rd Street Beaver PA 15009 United States;X-APPLE-RADIUS=500;X-TITLE=1098 3rd Street:geo:-80.3112194,40.6930069
END:VEVENT
BEGIN:VEVENT
DTSTART;TZID=America/New_York:20291028T091500
DTEND;TZID=America/New_York:20291028T101500
DTSTAMP:20260422T025502
CREATED:20250613T002622Z
LAST-MODIFIED:20250613T002622Z
UID:10036379-1887873300-1887876900@www.bblutheran.com
SUMMARY:Holy Trinity Worship 9:15 a.m.
DESCRIPTION:
URL:https://www.bblutheran.com/event/holy-trinity-worship-915-a-m/2029-10-28/
LOCATION:Holy Trinity Church\, 1098 3rd Street\, Beaver\, PA\, 15009\, United States
GEO:40.6930069;-80.3112194
X-APPLE-STRUCTURED-LOCATION;VALUE=URI;X-ADDRESS=Holy Trinity Church 1098 3rd Street Beaver PA 15009 United States;X-APPLE-RADIUS=500;X-TITLE=1098 3rd Street:geo:-80.3112194,40.6930069
END:VEVENT
BEGIN:VEVENT
DTSTART;TZID=America/New_York:20291104T091500
DTEND;TZID=America/New_York:20291104T101500
DTSTAMP:20260422T025503
CREATED:20250613T002622Z
LAST-MODIFIED:20250613T002622Z
UID:10036380-1888478100-1888481700@www.bblutheran.com
SUMMARY:Holy Trinity Worship 9:15 a.m.
DESCRIPTION:
URL:https://www.bblutheran.com/event/holy-trinity-worship-915-a-m/2029-11-04/
LOCATION:Holy Trinity Church\, 1098 3rd Street\, Beaver\, PA\, 15009\, United States
GEO:40.6930069;-80.3112194
X-APPLE-STRUCTURED-LOCATION;VALUE=URI;X-ADDRESS=Holy Trinity Church 1098 3rd Street Beaver PA 15009 United States;X-APPLE-RADIUS=500;X-TITLE=1098 3rd Street:geo:-80.3112194,40.6930069
END:VEVENT
BEGIN:VEVENT
DTSTART;TZID=America/New_York:20291111T091500
DTEND;TZID=America/New_York:20291111T101500
DTSTAMP:20260422T025503
CREATED:20250613T002622Z
LAST-MODIFIED:20250613T002622Z
UID:10036381-1889082900-1889086500@www.bblutheran.com
SUMMARY:Holy Trinity Worship 9:15 a.m.
DESCRIPTION:
URL:https://www.bblutheran.com/event/holy-trinity-worship-915-a-m/2029-11-11/
LOCATION:Holy Trinity Church\, 1098 3rd Street\, Beaver\, PA\, 15009\, United States
GEO:40.6930069;-80.3112194
X-APPLE-STRUCTURED-LOCATION;VALUE=URI;X-ADDRESS=Holy Trinity Church 1098 3rd Street Beaver PA 15009 United States;X-APPLE-RADIUS=500;X-TITLE=1098 3rd Street:geo:-80.3112194,40.6930069
END:VEVENT
BEGIN:VEVENT
DTSTART;TZID=America/New_York:20291118T091500
DTEND;TZID=America/New_York:20291118T101500
DTSTAMP:20260422T025503
CREATED:20250613T002622Z
LAST-MODIFIED:20250613T002622Z
UID:10036382-1889687700-1889691300@www.bblutheran.com
SUMMARY:Holy Trinity Worship 9:15 a.m.
DESCRIPTION:
URL:https://www.bblutheran.com/event/holy-trinity-worship-915-a-m/2029-11-18/
LOCATION:Holy Trinity Church\, 1098 3rd Street\, Beaver\, PA\, 15009\, United States
GEO:40.6930069;-80.3112194
X-APPLE-STRUCTURED-LOCATION;VALUE=URI;X-ADDRESS=Holy Trinity Church 1098 3rd Street Beaver PA 15009 United States;X-APPLE-RADIUS=500;X-TITLE=1098 3rd Street:geo:-80.3112194,40.6930069
END:VEVENT
BEGIN:VEVENT
DTSTART;TZID=America/New_York:20291125T091500
DTEND;TZID=America/New_York:20291125T101500
DTSTAMP:20260422T025503
CREATED:20250613T002622Z
LAST-MODIFIED:20250613T002622Z
UID:10036383-1890292500-1890296100@www.bblutheran.com
SUMMARY:Holy Trinity Worship 9:15 a.m.
DESCRIPTION:
URL:https://www.bblutheran.com/event/holy-trinity-worship-915-a-m/2029-11-25/
LOCATION:Holy Trinity Church\, 1098 3rd Street\, Beaver\, PA\, 15009\, United States
GEO:40.6930069;-80.3112194
X-APPLE-STRUCTURED-LOCATION;VALUE=URI;X-ADDRESS=Holy Trinity Church 1098 3rd Street Beaver PA 15009 United States;X-APPLE-RADIUS=500;X-TITLE=1098 3rd Street:geo:-80.3112194,40.6930069
END:VEVENT
BEGIN:VEVENT
DTSTART;TZID=America/New_York:20291202T091500
DTEND;TZID=America/New_York:20291202T101500
DTSTAMP:20260422T025503
CREATED:20250613T002622Z
LAST-MODIFIED:20250613T002622Z
UID:10036384-1890897300-1890900900@www.bblutheran.com
SUMMARY:Holy Trinity Worship 9:15 a.m.
DESCRIPTION:
URL:https://www.bblutheran.com/event/holy-trinity-worship-915-a-m/2029-12-02/
LOCATION:Holy Trinity Church\, 1098 3rd Street\, Beaver\, PA\, 15009\, United States
GEO:40.6930069;-80.3112194
X-APPLE-STRUCTURED-LOCATION;VALUE=URI;X-ADDRESS=Holy Trinity Church 1098 3rd Street Beaver PA 15009 United States;X-APPLE-RADIUS=500;X-TITLE=1098 3rd Street:geo:-80.3112194,40.6930069
END:VEVENT
BEGIN:VEVENT
DTSTART;TZID=America/New_York:20291209T091500
DTEND;TZID=America/New_York:20291209T101500
DTSTAMP:20260422T025503
CREATED:20250613T002622Z
LAST-MODIFIED:20250613T002622Z
UID:10036385-1891502100-1891505700@www.bblutheran.com
SUMMARY:Holy Trinity Worship 9:15 a.m.
DESCRIPTION:
URL:https://www.bblutheran.com/event/holy-trinity-worship-915-a-m/2029-12-09/
LOCATION:Holy Trinity Church\, 1098 3rd Street\, Beaver\, PA\, 15009\, United States
GEO:40.6930069;-80.3112194
X-APPLE-STRUCTURED-LOCATION;VALUE=URI;X-ADDRESS=Holy Trinity Church 1098 3rd Street Beaver PA 15009 United States;X-APPLE-RADIUS=500;X-TITLE=1098 3rd Street:geo:-80.3112194,40.6930069
END:VEVENT
BEGIN:VEVENT
DTSTART;TZID=America/New_York:20291216T091500
DTEND;TZID=America/New_York:20291216T101500
DTSTAMP:20260422T025503
CREATED:20250613T002622Z
LAST-MODIFIED:20250613T002622Z
UID:10036386-1892106900-1892110500@www.bblutheran.com
SUMMARY:Holy Trinity Worship 9:15 a.m.
DESCRIPTION:
URL:https://www.bblutheran.com/event/holy-trinity-worship-915-a-m/2029-12-16/
LOCATION:Holy Trinity Church\, 1098 3rd Street\, Beaver\, PA\, 15009\, United States
GEO:40.6930069;-80.3112194
X-APPLE-STRUCTURED-LOCATION;VALUE=URI;X-ADDRESS=Holy Trinity Church 1098 3rd Street Beaver PA 15009 United States;X-APPLE-RADIUS=500;X-TITLE=1098 3rd Street:geo:-80.3112194,40.6930069
END:VEVENT
BEGIN:VEVENT
DTSTART;TZID=America/New_York:20291223T091500
DTEND;TZID=America/New_York:20291223T101500
DTSTAMP:20260422T025503
CREATED:20250613T002622Z
LAST-MODIFIED:20250613T002622Z
UID:10036387-1892711700-1892715300@www.bblutheran.com
SUMMARY:Holy Trinity Worship 9:15 a.m.
DESCRIPTION:
URL:https://www.bblutheran.com/event/holy-trinity-worship-915-a-m/2029-12-23/
LOCATION:Holy Trinity Church\, 1098 3rd Street\, Beaver\, PA\, 15009\, United States
GEO:40.6930069;-80.3112194
X-APPLE-STRUCTURED-LOCATION;VALUE=URI;X-ADDRESS=Holy Trinity Church 1098 3rd Street Beaver PA 15009 United States;X-APPLE-RADIUS=500;X-TITLE=1098 3rd Street:geo:-80.3112194,40.6930069
END:VEVENT
BEGIN:VEVENT
DTSTART;TZID=America/New_York:20291230T091500
DTEND;TZID=America/New_York:20291230T101500
DTSTAMP:20260422T025503
CREATED:20250613T002622Z
LAST-MODIFIED:20250613T002622Z
UID:10036388-1893316500-1893320100@www.bblutheran.com
SUMMARY:Holy Trinity Worship 9:15 a.m.
DESCRIPTION:
URL:https://www.bblutheran.com/event/holy-trinity-worship-915-a-m/2029-12-30/
LOCATION:Holy Trinity Church\, 1098 3rd Street\, Beaver\, PA\, 15009\, United States
GEO:40.6930069;-80.3112194
X-APPLE-STRUCTURED-LOCATION;VALUE=URI;X-ADDRESS=Holy Trinity Church 1098 3rd Street Beaver PA 15009 United States;X-APPLE-RADIUS=500;X-TITLE=1098 3rd Street:geo:-80.3112194,40.6930069
END:VEVENT
BEGIN:VEVENT
DTSTART;TZID=America/New_York:20300106T091500
DTEND;TZID=America/New_York:20300106T101500
DTSTAMP:20260422T025504
CREATED:20250613T002622Z
LAST-MODIFIED:20250613T002622Z
UID:10036389-1893921300-1893924900@www.bblutheran.com
SUMMARY:Holy Trinity Worship 9:15 a.m.
DESCRIPTION:
URL:https://www.bblutheran.com/event/holy-trinity-worship-915-a-m/2030-01-06/
LOCATION:Holy Trinity Church\, 1098 3rd Street\, Beaver\, PA\, 15009\, United States
GEO:40.6930069;-80.3112194
X-APPLE-STRUCTURED-LOCATION;VALUE=URI;X-ADDRESS=Holy Trinity Church 1098 3rd Street Beaver PA 15009 United States;X-APPLE-RADIUS=500;X-TITLE=1098 3rd Street:geo:-80.3112194,40.6930069
END:VEVENT
BEGIN:VEVENT
DTSTART;TZID=America/New_York:20300113T091500
DTEND;TZID=America/New_York:20300113T101500
DTSTAMP:20260422T025504
CREATED:20250613T002622Z
LAST-MODIFIED:20250613T002622Z
UID:10036390-1894526100-1894529700@www.bblutheran.com
SUMMARY:Holy Trinity Worship 9:15 a.m.
DESCRIPTION:
URL:https://www.bblutheran.com/event/holy-trinity-worship-915-a-m/2030-01-13/
LOCATION:Holy Trinity Church\, 1098 3rd Street\, Beaver\, PA\, 15009\, United States
GEO:40.6930069;-80.3112194
X-APPLE-STRUCTURED-LOCATION;VALUE=URI;X-ADDRESS=Holy Trinity Church 1098 3rd Street Beaver PA 15009 United States;X-APPLE-RADIUS=500;X-TITLE=1098 3rd Street:geo:-80.3112194,40.6930069
END:VEVENT
BEGIN:VEVENT
DTSTART;TZID=America/New_York:20300120T091500
DTEND;TZID=America/New_York:20300120T101500
DTSTAMP:20260422T025504
CREATED:20250613T002622Z
LAST-MODIFIED:20250613T002622Z
UID:10036391-1895130900-1895134500@www.bblutheran.com
SUMMARY:Holy Trinity Worship 9:15 a.m.
DESCRIPTION:
URL:https://www.bblutheran.com/event/holy-trinity-worship-915-a-m/2030-01-20/
LOCATION:Holy Trinity Church\, 1098 3rd Street\, Beaver\, PA\, 15009\, United States
GEO:40.6930069;-80.3112194
X-APPLE-STRUCTURED-LOCATION;VALUE=URI;X-ADDRESS=Holy Trinity Church 1098 3rd Street Beaver PA 15009 United States;X-APPLE-RADIUS=500;X-TITLE=1098 3rd Street:geo:-80.3112194,40.6930069
END:VEVENT
BEGIN:VEVENT
DTSTART;TZID=America/New_York:20300127T091500
DTEND;TZID=America/New_York:20300127T101500
DTSTAMP:20260422T025504
CREATED:20250613T002622Z
LAST-MODIFIED:20250613T002622Z
UID:10036392-1895735700-1895739300@www.bblutheran.com
SUMMARY:Holy Trinity Worship 9:15 a.m.
DESCRIPTION:
URL:https://www.bblutheran.com/event/holy-trinity-worship-915-a-m/2030-01-27/
LOCATION:Holy Trinity Church\, 1098 3rd Street\, Beaver\, PA\, 15009\, United States
GEO:40.6930069;-80.3112194
X-APPLE-STRUCTURED-LOCATION;VALUE=URI;X-ADDRESS=Holy Trinity Church 1098 3rd Street Beaver PA 15009 United States;X-APPLE-RADIUS=500;X-TITLE=1098 3rd Street:geo:-80.3112194,40.6930069
END:VEVENT
BEGIN:VEVENT
DTSTART;TZID=America/New_York:20300203T091500
DTEND;TZID=America/New_York:20300203T101500
DTSTAMP:20260422T025504
CREATED:20250613T002622Z
LAST-MODIFIED:20250613T002622Z
UID:10036393-1896340500-1896344100@www.bblutheran.com
SUMMARY:Holy Trinity Worship 9:15 a.m.
DESCRIPTION:
URL:https://www.bblutheran.com/event/holy-trinity-worship-915-a-m/2030-02-03/
LOCATION:Holy Trinity Church\, 1098 3rd Street\, Beaver\, PA\, 15009\, United States
GEO:40.6930069;-80.3112194
X-APPLE-STRUCTURED-LOCATION;VALUE=URI;X-ADDRESS=Holy Trinity Church 1098 3rd Street Beaver PA 15009 United States;X-APPLE-RADIUS=500;X-TITLE=1098 3rd Street:geo:-80.3112194,40.6930069
END:VEVENT
BEGIN:VEVENT
DTSTART;TZID=America/New_York:20300210T091500
DTEND;TZID=America/New_York:20300210T101500
DTSTAMP:20260422T025505
CREATED:20250613T002622Z
LAST-MODIFIED:20250613T002622Z
UID:10036394-1896945300-1896948900@www.bblutheran.com
SUMMARY:Holy Trinity Worship 9:15 a.m.
DESCRIPTION:
URL:https://www.bblutheran.com/event/holy-trinity-worship-915-a-m/2030-02-10/
LOCATION:Holy Trinity Church\, 1098 3rd Street\, Beaver\, PA\, 15009\, United States
GEO:40.6930069;-80.3112194
X-APPLE-STRUCTURED-LOCATION;VALUE=URI;X-ADDRESS=Holy Trinity Church 1098 3rd Street Beaver PA 15009 United States;X-APPLE-RADIUS=500;X-TITLE=1098 3rd Street:geo:-80.3112194,40.6930069
END:VEVENT
END:VCALENDAR